BEGIN:VCALENDAR
VERSION:2.0
PRODID:-//asnl - ECPv5.16.4//NONSGML v1.0//EN
CALSCALE:GREGORIAN
METHOD:PUBLISH
X-ORIGINAL-URL:https://asnl.ca
X-WR-CALDESC:Events for asnl
REFRESH-INTERVAL;VALUE=DURATION:PT1H
X-Robots-Tag:noindex
X-PUBLISHED-TTL:PT1H
BEGIN:VTIMEZONE
TZID:UTC
BEGIN:STANDARD
TZOFFSETFROM:+0000
TZOFFSETTO:+0000
TZNAME:UTC
DTSTART:20220101T000000
END:STANDARD
END:VTIMEZONE
BEGIN:VEVENT
DTSTART;TZID=UTC:20220925T150000
DTEND;TZID=UTC:20220925T170000
DTSTAMP:20260419T141347
CREATED:20220921T170845Z
LAST-MODIFIED:20220922T145427Z
UID:2744-1664118000-1664125200@asnl.ca
SUMMARY:Social Circus Time-St. John's
DESCRIPTION:We’ve taken advantage of a unique opportunity while our friends are here in town for Cirkaskina\, the national social circus gathering\, to invite circus artists from all across Canada to share the stage so they can share with you\, what social circus means to them. \nThis event will include free play time where guests of all ages can explore a variety of circus skills such as hula hooping\, juggling\, balancing\, giant bubbles and more\, before tuning into a relaxed performance that will share with you the heart of social circus – a philosophy shared by circus practitioners that combines the practice of circus arts with the tools needed for social transformation. Admission is free for the whole family\, thanks to Cirkaskina and Ignite Circus \nPlease Note: This event is scheduled to take place outdoors and therefore is weather dependent.  \nThe social story from last year’s event is available here: https://www.ignitecircus.ca/document-types/social-story/ \nMore information on what to expect during a “Relaxed performance” is available here: https://www.ignitecircus.ca/news/relaxed-performance-26-09-2021/ \nWho? Circus Performers from all across Canada! \nWhat? Social Circus Time: a free-play style workshop experience where participants can explore the circus equipment with the performers before enjoying a relaxed performance on the back deck \nWhere? 70 Clinch Cresc. . Parking Lot and Back Deck \nWhen? Sunday\, September 25th 3 – 5 pm\nWhy? Because it is a fun opportunity to connect with one another in a safe and supportive environment during the St. John’s International Circus Fest! \nTo register for Social Circus time\, please fill out the following form: https://forms.office.com/r/6KuVfgdGgG \nIf you have any questions or wish to discuss access needs prior to attending this event\, please contact Danielle@asnl.ca
URL:https://asnl.ca/asnl-calendars/social-circus-time-st-johns/
LOCATION:70 Clinch Crescent\, 70 Clinch Cres\, St. Johns\, Newfoundland\, a1b4g8\, Canada
END:VEVENT
BEGIN:VEVENT
DTSTART;TZID=UTC:20221210T170000
DTEND;TZID=UTC:20221210T183000
DTSTAMP:20260419T141347
CREATED:20221207T174159Z
LAST-MODIFIED:20221210T195622Z
UID:3065-1670691600-1670697000@asnl.ca
SUMMARY:Tree Lighting
DESCRIPTION:
URL:https://asnl.ca/asnl-calendars/tree-lighting/
LOCATION:70 Clinch Crescent\, 70 Clinch Cres\, St. Johns\, Newfoundland\, a1b4g8\, Canada
END:VEVENT
BEGIN:VEVENT
DTSTART;TZID=UTC:20230130T173000
DTEND;TZID=UTC:20230130T183000
DTSTAMP:20260419T141347
CREATED:20230106T141300Z
LAST-MODIFIED:20230106T141300Z
UID:3180-1675099800-1675103400@asnl.ca
SUMMARY:Children's Minecraft Group - St. John's
DESCRIPTION:Children’s Minecraft Group/ Children’s Gaming Group – play as a team in Minecraft towards a goal established by the group (ex. build a town\, build houses\, collect supplies\, share resources)
URL:https://asnl.ca/asnl-calendars/childrens-minecraft-group-st-johns/2023-01-30/
LOCATION:70 Clinch Crescent\, 70 Clinch Cres\, St. Johns\, Newfoundland\, a1b4g8\, Canada
END:VEVENT
BEGIN:VEVENT
DTSTART;TZID=UTC:20240602T110000
DTEND;TZID=UTC:20240602T130000
DTSTAMP:20260419T141347
CREATED:20240411T150449Z
LAST-MODIFIED:20240411T150449Z
UID:7118-1717326000-1717333200@asnl.ca
SUMMARY:Picnic\, Planting & Prosecco!
DESCRIPTION:Join us for a unique experience at ASNL in The Green House with The Pantry Cafe. \nEnjoy a delicious picnic prepared by The Pantry Cafe that includes a sandwich\, pasta salad and dessert. Paired with your own 187ML bottle of LaMarca Prosecco or choice of House made Lemonade. Bring your green thumbs as we learn some tips and tricks about planting and caring for your house plants. Choose from a selection of our available plants to re-pot in your own pot that you can customize and take home! Only 50 seats available so book yours early!!!!!!! \nThis event is organized and facilitated in partnership with The Transitions Program at ASNL. \nFor more information and to purchase a tickets please click HERE
URL:https://asnl.ca/asnl-calendars/picnic-planting-prosecco/
LOCATION:70 Clinch Crescent\, 70 Clinch Cres\, St. Johns\, Newfoundland\, a1b4g8\, Canada
END:VEVENT
END:VCALENDAR