BEGIN:VCALENDAR
VERSION:2.0
PRODID:-//asnl - ECPv5.16.4//NONSGML v1.0//EN
CALSCALE:GREGORIAN
METHOD:PUBLISH
X-WR-CALNAME:asnl
X-ORIGINAL-URL:https://asnl.ca
X-WR-CALDESC:Events for asnl
REFRESH-INTERVAL;VALUE=DURATION:PT1H
X-Robots-Tag:noindex
X-PUBLISHED-TTL:PT1H
BEGIN:VTIMEZONE
TZID:UTC
BEGIN:STANDARD
TZOFFSETFROM:+0000
TZOFFSETTO:+0000
TZNAME:UTC
DTSTART:20220101T000000
END:STANDARD
END:VTIMEZONE
BEGIN:VEVENT
DTSTART;TZID=UTC:20220612T100000
DTEND;TZID=UTC:20220612T110000
DTSTAMP:20260419T222653
CREATED:20220404T180311Z
LAST-MODIFIED:20220405T123251Z
UID:886-1655028000-1655031600@asnl.ca
SUMMARY:Inclusive Gymnastics
DESCRIPTION:Inclusive Gymnastics – Perfectly Centered Gymnastics 44 Hardy Ave\, GFW (709)486-6083 Ashley Crewe Manager 10-11am Registration Required https://perfectlycenteredgymnastics.square.site/
URL:https://asnl.ca/asnl-calendars/inclusive-gymnastics-2/
LOCATION:Perfectly Centered Gymnastics\, 44 Hardy Ave\,Grand Falls Windsor\, Newfoundland\, A2A2P8\, Canada
ORGANIZER;CN="Ashley%20Crewe%20Manager":MAILTO:perfectlycenteredgymnastics@gmail.com
END:VEVENT
BEGIN:VEVENT
DTSTART;TZID=UTC:20220529T080000
DTEND;TZID=UTC:20220529T170000
DTSTAMP:20260419T222653
CREATED:20220404T175350Z
LAST-MODIFIED:20220404T175350Z
UID:884-1653811200-1653843600@asnl.ca
SUMMARY:Inclusive Gymnastics
DESCRIPTION:Inclusive Gymnastics – Perfectly Centered Gymnastics 44 Hardy Ave\, GFW (709)486-6083 Ashley Crewe Manager 10-11am Registration Required https://perfectlycenteredgymnastics.square.site/
URL:https://asnl.ca/asnl-calendars/inclusive-gymnastics/
LOCATION:Perfectly Centered Gymnastics\, 44 Hardy Ave\,Grand Falls Windsor\, Newfoundland\, A2A2P8\, Canada
ORGANIZER;CN="Ashley%20Crewe%20Manager":MAILTO:perfectlycenteredgymnastics@gmail.com
END:VEVENT
BEGIN:VEVENT
DTSTART;TZID=UTC:20220424T100000
DTEND;TZID=UTC:20220424T110000
DTSTAMP:20260419T222653
CREATED:20220404T172803Z
LAST-MODIFIED:20220405T123203Z
UID:873-1650794400-1650798000@asnl.ca
SUMMARY:Inclusive Gymnastics - Perfectly Centered Gymnastics
DESCRIPTION:Perfectly Centered Gymnastics 44 Hardy Ave\, GFW (709)486-6083 \nAshley Crewe Manager 10-11am Registration Required https://perfectlycenteredgymnastics.square.site/
URL:https://asnl.ca/asnl-calendars/inclusive-gymnastics-perfectly-centered-gymnastics/
LOCATION:Perfectly Centered Gymnastics\, 44 Hardy Ave\,Grand Falls Windsor\, Newfoundland\, A2A2P8\, Canada
ORGANIZER;CN="Ashley%20Crewe%20Manager":MAILTO:perfectlycenteredgymnastics@gmail.com
END:VEVENT
END:VCALENDAR