BEGIN:VCALENDAR
VERSION:2.0
PRODID:-//asnl - ECPv5.16.4//NONSGML v1.0//EN
CALSCALE:GREGORIAN
METHOD:PUBLISH
X-WR-CALNAME:asnl
X-ORIGINAL-URL:https://asnl.ca
X-WR-CALDESC:Events for asnl
REFRESH-INTERVAL;VALUE=DURATION:PT1H
X-Robots-Tag:noindex
X-PUBLISHED-TTL:PT1H
BEGIN:VTIMEZONE
TZID:UTC
BEGIN:STANDARD
TZOFFSETFROM:+0000
TZOFFSETTO:+0000
TZNAME:UTC
DTSTART:20270101T000000
END:STANDARD
END:VTIMEZONE
BEGIN:VEVENT
DTSTART;TZID=UTC:20270520T183000
DTEND;TZID=UTC:20270520T203000
DTSTAMP:20260422T113301
CREATED:20230929T121722Z
LAST-MODIFIED:20230929T121722Z
UID:8027-1810837800-1810845000@asnl.ca
SUMMARY:ST. JOHN'S - Connections - In-Person (70 Clinch Cres)
DESCRIPTION:Connections: \nVirtual – 2nd and 4th Monday of each month 630-830 \nAt ASNL St. John’s – every 3rd Thursday of the month \nIn person in community outing St. John’s – 1st Monday of each month
URL:https://asnl.ca/asnl-calendars/st-johns-connections-in-person-70-clinch-cres/2027-05-20/
END:VEVENT
BEGIN:VEVENT
DTSTART;TZID=UTC:20270617T183000
DTEND;TZID=UTC:20270617T203000
DTSTAMP:20260422T113301
CREATED:20230929T121722Z
LAST-MODIFIED:20230929T121722Z
UID:8094-1813257000-1813264200@asnl.ca
SUMMARY:ST. JOHN'S - Connections - In-Person (70 Clinch Cres)
DESCRIPTION:Connections: \nVirtual – 2nd and 4th Monday of each month 630-830 \nAt ASNL St. John’s – every 3rd Thursday of the month \nIn person in community outing St. John’s – 1st Monday of each month
URL:https://asnl.ca/asnl-calendars/st-johns-connections-in-person-70-clinch-cres/2027-06-17/
END:VEVENT
BEGIN:VEVENT
DTSTART;TZID=UTC:20270715T183000
DTEND;TZID=UTC:20270715T203000
DTSTAMP:20260422T113301
CREATED:20230929T121722Z
LAST-MODIFIED:20230929T121722Z
UID:8227-1815676200-1815683400@asnl.ca
SUMMARY:ST. JOHN'S - Connections - In-Person (70 Clinch Cres)
DESCRIPTION:Connections: \nVirtual – 2nd and 4th Monday of each month 630-830 \nAt ASNL St. John’s – every 3rd Thursday of the month \nIn person in community outing St. John’s – 1st Monday of each month
URL:https://asnl.ca/asnl-calendars/st-johns-connections-in-person-70-clinch-cres/2027-07-15/
END:VEVENT
BEGIN:VEVENT
DTSTART;TZID=UTC:20270819T183000
DTEND;TZID=UTC:20270819T203000
DTSTAMP:20260422T113301
CREATED:20230929T121722Z
LAST-MODIFIED:20230929T121722Z
UID:8273-1818700200-1818707400@asnl.ca
SUMMARY:ST. JOHN'S - Connections - In-Person (70 Clinch Cres)
DESCRIPTION:Connections: \nVirtual – 2nd and 4th Monday of each month 630-830 \nAt ASNL St. John’s – every 3rd Thursday of the month \nIn person in community outing St. John’s – 1st Monday of each month
URL:https://asnl.ca/asnl-calendars/st-johns-connections-in-person-70-clinch-cres/2027-08-19/
END:VEVENT
BEGIN:VEVENT
DTSTART;TZID=UTC:20270916T183000
DTEND;TZID=UTC:20270916T203000
DTSTAMP:20260422T113301
CREATED:20230929T121722Z
LAST-MODIFIED:20230929T121722Z
UID:8302-1821119400-1821126600@asnl.ca
SUMMARY:ST. JOHN'S - Connections - In-Person (70 Clinch Cres)
DESCRIPTION:Connections: \nVirtual – 2nd and 4th Monday of each month 630-830 \nAt ASNL St. John’s – every 3rd Thursday of the month \nIn person in community outing St. John’s – 1st Monday of each month
URL:https://asnl.ca/asnl-calendars/st-johns-connections-in-person-70-clinch-cres/2027-09-16/
END:VEVENT
BEGIN:VEVENT
DTSTART;TZID=UTC:20271021T183000
DTEND;TZID=UTC:20271021T203000
DTSTAMP:20260422T113301
CREATED:20230929T121722Z
LAST-MODIFIED:20230929T121722Z
UID:8346-1824143400-1824150600@asnl.ca
SUMMARY:ST. JOHN'S - Connections - In-Person (70 Clinch Cres)
DESCRIPTION:Connections: \nVirtual – 2nd and 4th Monday of each month 630-830 \nAt ASNL St. John’s – every 3rd Thursday of the month \nIn person in community outing St. John’s – 1st Monday of each month
URL:https://asnl.ca/asnl-calendars/st-johns-connections-in-person-70-clinch-cres/2027-10-21/
END:VEVENT
BEGIN:VEVENT
DTSTART;TZID=UTC:20271118T183000
DTEND;TZID=UTC:20271118T203000
DTSTAMP:20260422T113301
CREATED:20230929T121722Z
LAST-MODIFIED:20230929T121722Z
UID:8386-1826562600-1826569800@asnl.ca
SUMMARY:ST. JOHN'S - Connections - In-Person (70 Clinch Cres)
DESCRIPTION:Connections: \nVirtual – 2nd and 4th Monday of each month 630-830 \nAt ASNL St. John’s – every 3rd Thursday of the month \nIn person in community outing St. John’s – 1st Monday of each month
URL:https://asnl.ca/asnl-calendars/st-johns-connections-in-person-70-clinch-cres/2027-11-18/
END:VEVENT
BEGIN:VEVENT
DTSTART;TZID=UTC:20271216T183000
DTEND;TZID=UTC:20271216T203000
DTSTAMP:20260422T113301
CREATED:20230929T121722Z
LAST-MODIFIED:20230929T121722Z
UID:8399-1828981800-1828989000@asnl.ca
SUMMARY:ST. JOHN'S - Connections - In-Person (70 Clinch Cres)
DESCRIPTION:Connections: \nVirtual – 2nd and 4th Monday of each month 630-830 \nAt ASNL St. John’s – every 3rd Thursday of the month \nIn person in community outing St. John’s – 1st Monday of each month
URL:https://asnl.ca/asnl-calendars/st-johns-connections-in-person-70-clinch-cres/2027-12-16/
END:VEVENT
BEGIN:VEVENT
DTSTART;TZID=UTC:20280120T183000
DTEND;TZID=UTC:20280120T203000
DTSTAMP:20260422T113301
CREATED:20230929T121722Z
LAST-MODIFIED:20230929T121722Z
UID:8416-1832005800-1832013000@asnl.ca
SUMMARY:ST. JOHN'S - Connections - In-Person (70 Clinch Cres)
DESCRIPTION:Connections: \nVirtual – 2nd and 4th Monday of each month 630-830 \nAt ASNL St. John’s – every 3rd Thursday of the month \nIn person in community outing St. John’s – 1st Monday of each month
URL:https://asnl.ca/asnl-calendars/st-johns-connections-in-person-70-clinch-cres/2028-01-20/
END:VEVENT
BEGIN:VEVENT
DTSTART;TZID=UTC:20280217T183000
DTEND;TZID=UTC:20280217T203000
DTSTAMP:20260422T113301
CREATED:20230929T121722Z
LAST-MODIFIED:20230929T121722Z
UID:8438-1834425000-1834432200@asnl.ca
SUMMARY:ST. JOHN'S - Connections - In-Person (70 Clinch Cres)
DESCRIPTION:Connections: \nVirtual – 2nd and 4th Monday of each month 630-830 \nAt ASNL St. John’s – every 3rd Thursday of the month \nIn person in community outing St. John’s – 1st Monday of each month
URL:https://asnl.ca/asnl-calendars/st-johns-connections-in-person-70-clinch-cres/2028-02-17/
END:VEVENT
BEGIN:VEVENT
DTSTART;TZID=UTC:20280316T183000
DTEND;TZID=UTC:20280316T203000
DTSTAMP:20260422T113301
CREATED:20230929T121722Z
LAST-MODIFIED:20230929T121722Z
UID:8476-1836844200-1836851400@asnl.ca
SUMMARY:ST. JOHN'S - Connections - In-Person (70 Clinch Cres)
DESCRIPTION:Connections: \nVirtual – 2nd and 4th Monday of each month 630-830 \nAt ASNL St. John’s – every 3rd Thursday of the month \nIn person in community outing St. John’s – 1st Monday of each month
URL:https://asnl.ca/asnl-calendars/st-johns-connections-in-person-70-clinch-cres/2028-03-16/
END:VEVENT
BEGIN:VEVENT
DTSTART;TZID=UTC:20280420T183000
DTEND;TZID=UTC:20280420T203000
DTSTAMP:20260422T113301
CREATED:20230929T121722Z
LAST-MODIFIED:20230929T121722Z
UID:8537-1839868200-1839875400@asnl.ca
SUMMARY:ST. JOHN'S - Connections - In-Person (70 Clinch Cres)
DESCRIPTION:Connections: \nVirtual – 2nd and 4th Monday of each month 630-830 \nAt ASNL St. John’s – every 3rd Thursday of the month \nIn person in community outing St. John’s – 1st Monday of each month
URL:https://asnl.ca/asnl-calendars/st-johns-connections-in-person-70-clinch-cres/2028-04-20/
END:VEVENT
END:VCALENDAR