BEGIN:VCALENDAR
VERSION:2.0
PRODID:-//asnl - ECPv5.16.4//NONSGML v1.0//EN
CALSCALE:GREGORIAN
METHOD:PUBLISH
X-WR-CALNAME:asnl
X-ORIGINAL-URL:https://asnl.ca
X-WR-CALDESC:Events for asnl
REFRESH-INTERVAL;VALUE=DURATION:PT1H
X-Robots-Tag:noindex
X-PUBLISHED-TTL:PT1H
BEGIN:VTIMEZONE
TZID:UTC
BEGIN:STANDARD
TZOFFSETFROM:+0000
TZOFFSETTO:+0000
TZNAME:UTC
DTSTART:20270101T000000
END:STANDARD
END:VTIMEZONE
BEGIN:VEVENT
DTSTART;TZID=UTC:20271216T193000
DTEND;TZID=UTC:20271216T203000
DTSTAMP:20260422T230542
CREATED:20230929T123058Z
LAST-MODIFIED:20230929T123058Z
UID:8400-1828985400-1828989000@asnl.ca
SUMMARY:CORNER BROOK - Adult Autistic Support Group (50 Main Street)
DESCRIPTION:Adult Autistic Support Group – Corner Brook \nBiweekly – Thursdays 730-830
URL:https://asnl.ca/asnl-calendars/corner-brook-adult-autistic-support-group-50-main-street/2027-12-16/
END:VEVENT
BEGIN:VEVENT
DTSTART;TZID=UTC:20271230T193000
DTEND;TZID=UTC:20271230T203000
DTSTAMP:20260422T230542
CREATED:20230929T123058Z
LAST-MODIFIED:20230929T123058Z
UID:8403-1830195000-1830198600@asnl.ca
SUMMARY:CORNER BROOK - Adult Autistic Support Group (50 Main Street)
DESCRIPTION:Adult Autistic Support Group – Corner Brook \nBiweekly – Thursdays 730-830
URL:https://asnl.ca/asnl-calendars/corner-brook-adult-autistic-support-group-50-main-street/2027-12-30/
END:VEVENT
BEGIN:VEVENT
DTSTART;TZID=UTC:20280113T193000
DTEND;TZID=UTC:20280113T203000
DTSTAMP:20260422T230542
CREATED:20230929T123058Z
LAST-MODIFIED:20230929T123058Z
UID:8412-1831404600-1831408200@asnl.ca
SUMMARY:CORNER BROOK - Adult Autistic Support Group (50 Main Street)
DESCRIPTION:Adult Autistic Support Group – Corner Brook \nBiweekly – Thursdays 730-830
URL:https://asnl.ca/asnl-calendars/corner-brook-adult-autistic-support-group-50-main-street/2028-01-13/
END:VEVENT
BEGIN:VEVENT
DTSTART;TZID=UTC:20280120T183000
DTEND;TZID=UTC:20280120T203000
DTSTAMP:20260422T230542
CREATED:20230929T121722Z
LAST-MODIFIED:20230929T121722Z
UID:8416-1832005800-1832013000@asnl.ca
SUMMARY:ST. JOHN'S - Connections - In-Person (70 Clinch Cres)
DESCRIPTION:Connections: \nVirtual – 2nd and 4th Monday of each month 630-830 \nAt ASNL St. John’s – every 3rd Thursday of the month \nIn person in community outing St. John’s – 1st Monday of each month
URL:https://asnl.ca/asnl-calendars/st-johns-connections-in-person-70-clinch-cres/2028-01-20/
END:VEVENT
BEGIN:VEVENT
DTSTART;TZID=UTC:20280127T193000
DTEND;TZID=UTC:20280127T203000
DTSTAMP:20260422T230542
CREATED:20230929T123058Z
LAST-MODIFIED:20230929T123058Z
UID:8419-1832614200-1832617800@asnl.ca
SUMMARY:CORNER BROOK - Adult Autistic Support Group (50 Main Street)
DESCRIPTION:Adult Autistic Support Group – Corner Brook \nBiweekly – Thursdays 730-830
URL:https://asnl.ca/asnl-calendars/corner-brook-adult-autistic-support-group-50-main-street/2028-01-27/
END:VEVENT
BEGIN:VEVENT
DTSTART;TZID=UTC:20280210T193000
DTEND;TZID=UTC:20280210T203000
DTSTAMP:20260422T230542
CREATED:20230929T123058Z
LAST-MODIFIED:20230929T123058Z
UID:8437-1833823800-1833827400@asnl.ca
SUMMARY:CORNER BROOK - Adult Autistic Support Group (50 Main Street)
DESCRIPTION:Adult Autistic Support Group – Corner Brook \nBiweekly – Thursdays 730-830
URL:https://asnl.ca/asnl-calendars/corner-brook-adult-autistic-support-group-50-main-street/2028-02-10/
END:VEVENT
BEGIN:VEVENT
DTSTART;TZID=UTC:20280217T183000
DTEND;TZID=UTC:20280217T203000
DTSTAMP:20260422T230542
CREATED:20230929T121722Z
LAST-MODIFIED:20230929T121722Z
UID:8438-1834425000-1834432200@asnl.ca
SUMMARY:ST. JOHN'S - Connections - In-Person (70 Clinch Cres)
DESCRIPTION:Connections: \nVirtual – 2nd and 4th Monday of each month 630-830 \nAt ASNL St. John’s – every 3rd Thursday of the month \nIn person in community outing St. John’s – 1st Monday of each month
URL:https://asnl.ca/asnl-calendars/st-johns-connections-in-person-70-clinch-cres/2028-02-17/
END:VEVENT
BEGIN:VEVENT
DTSTART;TZID=UTC:20280224T193000
DTEND;TZID=UTC:20280224T203000
DTSTAMP:20260422T230542
CREATED:20230929T123058Z
LAST-MODIFIED:20230929T123058Z
UID:8439-1835033400-1835037000@asnl.ca
SUMMARY:CORNER BROOK - Adult Autistic Support Group (50 Main Street)
DESCRIPTION:Adult Autistic Support Group – Corner Brook \nBiweekly – Thursdays 730-830
URL:https://asnl.ca/asnl-calendars/corner-brook-adult-autistic-support-group-50-main-street/2028-02-24/
END:VEVENT
BEGIN:VEVENT
DTSTART;TZID=UTC:20280309T193000
DTEND;TZID=UTC:20280309T203000
DTSTAMP:20260422T230542
CREATED:20230929T123058Z
LAST-MODIFIED:20230929T123058Z
UID:8453-1836243000-1836246600@asnl.ca
SUMMARY:CORNER BROOK - Adult Autistic Support Group (50 Main Street)
DESCRIPTION:Adult Autistic Support Group – Corner Brook \nBiweekly – Thursdays 730-830
URL:https://asnl.ca/asnl-calendars/corner-brook-adult-autistic-support-group-50-main-street/2028-03-09/
END:VEVENT
BEGIN:VEVENT
DTSTART;TZID=UTC:20280316T183000
DTEND;TZID=UTC:20280316T203000
DTSTAMP:20260422T230542
CREATED:20230929T121722Z
LAST-MODIFIED:20230929T121722Z
UID:8476-1836844200-1836851400@asnl.ca
SUMMARY:ST. JOHN'S - Connections - In-Person (70 Clinch Cres)
DESCRIPTION:Connections: \nVirtual – 2nd and 4th Monday of each month 630-830 \nAt ASNL St. John’s – every 3rd Thursday of the month \nIn person in community outing St. John’s – 1st Monday of each month
URL:https://asnl.ca/asnl-calendars/st-johns-connections-in-person-70-clinch-cres/2028-03-16/
END:VEVENT
BEGIN:VEVENT
DTSTART;TZID=UTC:20280323T193000
DTEND;TZID=UTC:20280323T203000
DTSTAMP:20260422T230542
CREATED:20230929T123058Z
LAST-MODIFIED:20230929T123058Z
UID:8492-1837452600-1837456200@asnl.ca
SUMMARY:CORNER BROOK - Adult Autistic Support Group (50 Main Street)
DESCRIPTION:Adult Autistic Support Group – Corner Brook \nBiweekly – Thursdays 730-830
URL:https://asnl.ca/asnl-calendars/corner-brook-adult-autistic-support-group-50-main-street/2028-03-23/
END:VEVENT
BEGIN:VEVENT
DTSTART;TZID=UTC:20280406T193000
DTEND;TZID=UTC:20280406T203000
DTSTAMP:20260422T230542
CREATED:20230929T123058Z
LAST-MODIFIED:20230929T123058Z
UID:8527-1838662200-1838665800@asnl.ca
SUMMARY:CORNER BROOK - Adult Autistic Support Group (50 Main Street)
DESCRIPTION:Adult Autistic Support Group – Corner Brook \nBiweekly – Thursdays 730-830
URL:https://asnl.ca/asnl-calendars/corner-brook-adult-autistic-support-group-50-main-street/2028-04-06/
END:VEVENT
BEGIN:VEVENT
DTSTART;TZID=UTC:20280420T183000
DTEND;TZID=UTC:20280420T203000
DTSTAMP:20260422T230542
CREATED:20230929T121722Z
LAST-MODIFIED:20230929T121722Z
UID:8537-1839868200-1839875400@asnl.ca
SUMMARY:ST. JOHN'S - Connections - In-Person (70 Clinch Cres)
DESCRIPTION:Connections: \nVirtual – 2nd and 4th Monday of each month 630-830 \nAt ASNL St. John’s – every 3rd Thursday of the month \nIn person in community outing St. John’s – 1st Monday of each month
URL:https://asnl.ca/asnl-calendars/st-johns-connections-in-person-70-clinch-cres/2028-04-20/
END:VEVENT
BEGIN:VEVENT
DTSTART;TZID=UTC:20280420T193000
DTEND;TZID=UTC:20280420T203000
DTSTAMP:20260422T230542
CREATED:20230929T123058Z
LAST-MODIFIED:20230929T123058Z
UID:8538-1839871800-1839875400@asnl.ca
SUMMARY:CORNER BROOK - Adult Autistic Support Group (50 Main Street)
DESCRIPTION:Adult Autistic Support Group – Corner Brook \nBiweekly – Thursdays 730-830
URL:https://asnl.ca/asnl-calendars/corner-brook-adult-autistic-support-group-50-main-street/2028-04-20/
END:VEVENT
END:VCALENDAR