BEGIN:VCALENDAR
VERSION:2.0
PRODID:-//asnl - ECPv5.16.4//NONSGML v1.0//EN
CALSCALE:GREGORIAN
METHOD:PUBLISH
X-WR-CALNAME:asnl
X-ORIGINAL-URL:https://asnl.ca
X-WR-CALDESC:Events for asnl
REFRESH-INTERVAL;VALUE=DURATION:PT1H
X-Robots-Tag:noindex
X-PUBLISHED-TTL:PT1H
BEGIN:VTIMEZONE
TZID:UTC
BEGIN:STANDARD
TZOFFSETFROM:+0000
TZOFFSETTO:+0000
TZNAME:UTC
DTSTART:20250101T000000
END:STANDARD
END:VTIMEZONE
BEGIN:VEVENT
DTSTART;TZID=UTC:20250731T193000
DTEND;TZID=UTC:20250731T203000
DTSTAMP:20260422T224757
CREATED:20230929T123058Z
LAST-MODIFIED:20230929T123058Z
UID:7899-1753990200-1753993800@asnl.ca
SUMMARY:CORNER BROOK - Adult Autistic Support Group (50 Main Street)
DESCRIPTION:Adult Autistic Support Group – Corner Brook \nBiweekly – Thursdays 730-830
URL:https://asnl.ca/asnl-calendars/corner-brook-adult-autistic-support-group-50-main-street/2025-07-31/
END:VEVENT
BEGIN:VEVENT
DTSTART;TZID=UTC:20250731T190000
DTEND;TZID=UTC:20250731T200000
DTSTAMP:20260422T224757
CREATED:20250707T164941Z
LAST-MODIFIED:20250707T164941Z
UID:8201-1753988400-1753992000@asnl.ca
SUMMARY:ST. JOHN'S - TEEN SUMMER GAMING GROUP
DESCRIPTION:St. John’s!!TEEN SUMMER GAMING GROUPJoin us for fun\, low-pressure gaming sessions this summer!Please read the following details carefully before filling out the form below.REGISTRATION OPENS FRIDAY\, JUNE 20th @ 9:00amWhen: Thursdays 7-8pm\, beginning July 17Where: Elaine Dobbin Centre for Autism (Located at 70 Clinch crescent St. John’s)What to expect: Participants are invited to share space and engage with the games that interest them most\, at a pace that feels right for them. There’s no pressure to socialize or play in a certain way—parallel play and quiet participation are always welcome.https://forms.office.com/r/jgCNwJCpFA
URL:https://asnl.ca/asnl-calendars/st-johns-teen-summer-gaming-group/2025-07-31/
END:VEVENT
BEGIN:VEVENT
DTSTART;TZID=UTC:20250731T133000
DTEND;TZID=UTC:20250731T153000
DTSTAMP:20260422T224757
CREATED:20250707T162832Z
LAST-MODIFIED:20250707T162832Z
UID:8157-1753968600-1753975800@asnl.ca
SUMMARY:ST. JOHN'S - ADULT WALKING GROUP
DESCRIPTION:Adult Walking Group – Movement\, Connection\, and Community The Adult Walking Group is a relaxed\, inclusive weekly gathering for autistic adults who want to connect with others while enjoying the outdoors. What to Expect: Gentle-paced\, one-hour walk or rollAlong various beautiful walking trails in St. John’sInclusive of all mobility styles — walking\, rolling\, or using mobility aidsSlow\, adaptable pace with no pressure to keep upParticipation is always flexible and judgment-free Outdoor movement as a form of connectionEncouraging gentle activity as a way to regulate\, reflect\, and rechargeNo expectations for conversation — come as you are One-hour social time after the walkEnjoy lemonade or tea together in a relaxed settingConnect\, chat\, or just hang out with others in a neurodivergent-friendly spaceOptional\, low-pressure way to build communityProgram Details: Thursdays from July 3rd to August 28th\, 2025 Each session runs for two hours1 hour of walking/rolling1 hour of relaxed social time Various walking trails around St. John’s (exact routes TBA; accessibility will be prioritized)Whether you’re looking to make new friends\, spend time in nature\, or just be around community in a low-stress space\, this group is for you.https://forms.office.com/Pages/ResponsePage.aspx…For more information\, please contact: Rachel Kenny at rkenny@asnl.ca
URL:https://asnl.ca/asnl-calendars/st-johns-adult-walking-group/2025-07-31/
END:VEVENT
BEGIN:VEVENT
DTSTART;TZID=UTC:20250731T133000
DTEND;TZID=UTC:20250731T153000
DTSTAMP:20260422T224757
CREATED:20250707T151459Z
LAST-MODIFIED:20250707T151459Z
UID:8108-1753968600-1753975800@asnl.ca
SUMMARY:GRAND FALLS - Dungeons and Dragons Program
DESCRIPTION:GRAND FALLS!ASNL Grand Falls Office will be starting up a beginner friendly Dungeons and Dragons program! All are welcome but there will be limited seats so sign up as soon as possible!What you need to know:-The campaign will be beginner friendly so no previous Dungeons and Dragons knowledge is required-Participants will need to be able to do basic math such as addition and subtraction-Events will be held on Mondays and Thursdays starting July 14th from 1:30pm to 3:30pm-Events will be held in the ASNL office on high streethttps://forms.office.com/r/QtCUeUqezb
URL:https://asnl.ca/asnl-calendars/grand-falls-dungeons-and-dragons-program/2025-07-31/
END:VEVENT
BEGIN:VEVENT
DTSTART;TZID=UTC:20250731T100000
DTEND;TZID=UTC:20250731T120000
DTSTAMP:20260422T224757
CREATED:20250707T163009Z
LAST-MODIFIED:20250707T163009Z
UID:8167-1753956000-1753963200@asnl.ca
SUMMARY:ST. JOHN'S - PLAYGROUP FOR CHILDREN WITH HIGH SUPPORT NEEDS
DESCRIPTION:Littles Summer Playgroup – Drop-In Program for Children with High Support Needs (Ages 2–6)The Littles Summer Playgroup is a welcoming\, inclusive drop-in playgroup for:Autistic children ages 2 to 6 with high support needsNeurodivergent children (including ADHD\, sensory processing differences\, etc.)Children with co-occurring disabilities or diagnosesThis group offers a low child-to-staff ratio and is designed to support children who benefit from higher support and quieter\, flexible environments. Key Features: Unstructured\, child-led play — no scheduled activities or transitions Sensory-friendly environment — set up for regulation\, safety\, and comfort Caregiver-stay model — families stay and engage alongside their children Welcoming of all communication styles and abilities Supports both indoor and outdoor play opportunitiesLocation & Schedule: Elaine Dobbin Centre for Autism\, with some sessions walking to theJaneway’s fenced-in Therapeutic Rehabilitation Playground Thursdays from 10:00 AM to 12:00 PM July 3rd to August 28th\, 2025 Drop-in format — come when it works for youWhether you’re joining us for the first time or returning each week\, this playgroup offers a safe space where children can simply be themselves\, and families can feel seen\, supported\, and connected.https://forms.office.com/Pages/ResponsePage.aspx…For more information\, please contact: Rachel Kenny at rkenny@asnl.ca
URL:https://asnl.ca/asnl-calendars/st-johns-playgroup-for-children-with-high-support-needs/2025-07-31/
END:VEVENT
BEGIN:VEVENT
DTSTART;TZID=UTC:20250731T093000
DTEND;TZID=UTC:20250731T103000
DTSTAMP:20260422T224757
CREATED:20250707T164148Z
LAST-MODIFIED:20250707T164148Z
UID:8180-1753954200-1753957800@asnl.ca
SUMMARY:ST. JOHN'S - SUMMER GARDENING
DESCRIPTION:ST. JOHN’SSUMMER GARDENING PROGRAMJoin ASNL for a low pressure gardening program this summer. Engage in directed gardening activities that interest you most\, at a pace that feels right for you.When: Tuesdays & Thursdays 9:30-10:30am\, beginning July 8Where: Elaine Dobbin Centre for Autism (Located at 70 Clinch crescent St. John’s)Who: Ages 15+ (a variety of support needs welcome – Caregivers or Respite workers required for those needing 1:1 support)REGISTRATION OPENS: Wednesday\, JUNE 25th @ 9:00amhttps://forms.office.com/r/3bDJaCKwep
URL:https://asnl.ca/asnl-calendars/st-johns-summer-gardening/2025-07-31/
END:VEVENT
BEGIN:VEVENT
DTSTART;TZID=UTC:20250730T163000
DTEND;TZID=UTC:20250730T180000
DTSTAMP:20260422T224757
CREATED:20250707T171051Z
LAST-MODIFIED:20250707T171051Z
UID:8209-1753893000-1753898400@asnl.ca
SUMMARY:ST. JOHN'S - OUTDOOR GAMING GROUP (AGES 7-13)
DESCRIPTION:St. John’s!Summer Outdoor Gaming GroupGet ready to enjoy the sun and games this summer! This group is designed for kids ages 7-13. It will be a mix of structured group games and free play fun.When: Wednesdays 4:30-6:00pmWho: Age 7-13Where: Elaine Dobbin Centre for Autism (Located at 70 Clinch crescent St. John’s)REGISTRATION OPENS FRIDAY\, JUNE 20 @ 9:00amhttps://forms.office.com/r/pqZVwrCnYC
URL:https://asnl.ca/asnl-calendars/st-johns-outdoor-gaming-group-ages-7-13/2025-07-30/
END:VEVENT
BEGIN:VEVENT
DTSTART;TZID=UTC:20250729T190000
DTEND;TZID=UTC:20250729T203000
DTSTAMP:20260422T224757
CREATED:20250707T164704Z
LAST-MODIFIED:20250707T164704Z
UID:8188-1753815600-1753821000@asnl.ca
SUMMARY:CORNER BROOK - PARENT/CAREGIVER SUPPORT GROUP
DESCRIPTION:CORNER BROOK!Are you a parent or Caregiver looking for supports from other parents? If so\, we are happy to invite you to join us on the last Tuesday of each month\, beginning June 24th for our in-person parent support group.There is no registration needed for this\, if you have any questions or concerns\, please contact Jessica at jwyatt@asnl.ca
URL:https://asnl.ca/asnl-calendars/corner-brook-parent-caregiver-support-group/2025-07-29/
END:VEVENT
BEGIN:VEVENT
DTSTART;TZID=UTC:20250729T180000
DTEND;TZID=UTC:20250729T200000
DTSTAMP:20260422T224757
CREATED:20250408T131727Z
LAST-MODIFIED:20250408T131727Z
UID:7958-1753812000-1753819200@asnl.ca
SUMMARY:GRAND FALLS-WINDSOR - Drop-in Night!
DESCRIPTION:Hello everyone\,\n\nDrop in night happening from 6:30 to 8:30 TUESDAY evenings.\n\nIf you have not already registered and would like to join us please register at the link provided below\,\n\nREGISTRATION LINK: https://forms.office.com/r/5SDMzdT5Ms\n\nWe hope to see everyone there!
URL:https://asnl.ca/asnl-calendars/grand-falls-windsor-drop-in-night/2025-07-29/
END:VEVENT
BEGIN:VEVENT
DTSTART;TZID=UTC:20250729T093000
DTEND;TZID=UTC:20250729T103000
DTSTAMP:20260422T224757
CREATED:20250707T164148Z
LAST-MODIFIED:20250707T164148Z
UID:8179-1753781400-1753785000@asnl.ca
SUMMARY:ST. JOHN'S - SUMMER GARDENING
DESCRIPTION:ST. JOHN’SSUMMER GARDENING PROGRAMJoin ASNL for a low pressure gardening program this summer. Engage in directed gardening activities that interest you most\, at a pace that feels right for you.When: Tuesdays & Thursdays 9:30-10:30am\, beginning July 8Where: Elaine Dobbin Centre for Autism (Located at 70 Clinch crescent St. John’s)Who: Ages 15+ (a variety of support needs welcome – Caregivers or Respite workers required for those needing 1:1 support)REGISTRATION OPENS: Wednesday\, JUNE 25th @ 9:00amhttps://forms.office.com/r/3bDJaCKwep
URL:https://asnl.ca/asnl-calendars/st-johns-summer-gardening/2025-07-29/
END:VEVENT
BEGIN:VEVENT
DTSTART;TZID=UTC:20250728T133000
DTEND;TZID=UTC:20250728T153000
DTSTAMP:20260422T224757
CREATED:20250707T151459Z
LAST-MODIFIED:20250707T151459Z
UID:8107-1753709400-1753716600@asnl.ca
SUMMARY:GRAND FALLS - Dungeons and Dragons Program
DESCRIPTION:GRAND FALLS!ASNL Grand Falls Office will be starting up a beginner friendly Dungeons and Dragons program! All are welcome but there will be limited seats so sign up as soon as possible!What you need to know:-The campaign will be beginner friendly so no previous Dungeons and Dragons knowledge is required-Participants will need to be able to do basic math such as addition and subtraction-Events will be held on Mondays and Thursdays starting July 14th from 1:30pm to 3:30pm-Events will be held in the ASNL office on high streethttps://forms.office.com/r/QtCUeUqezb
URL:https://asnl.ca/asnl-calendars/grand-falls-dungeons-and-dragons-program/2025-07-28/
END:VEVENT
BEGIN:VEVENT
DTSTART;VALUE=DATE:20250725
DTEND;VALUE=DATE:20250728
DTSTAMP:20260422T224757
CREATED:20250707T174145Z
LAST-MODIFIED:20250707T174145Z
UID:8221-1753401600-1753660799@asnl.ca
SUMMARY:EASTERN REGION FAMILY CAMP
DESCRIPTION:
URL:https://asnl.ca/asnl-calendars/eastern-region-family-camp/
END:VEVENT
BEGIN:VEVENT
DTSTART;TZID=UTC:20250724T190000
DTEND;TZID=UTC:20250724T200000
DTSTAMP:20260422T224757
CREATED:20250707T164941Z
LAST-MODIFIED:20250707T164941Z
UID:8200-1753383600-1753387200@asnl.ca
SUMMARY:ST. JOHN'S - TEEN SUMMER GAMING GROUP
DESCRIPTION:St. John’s!!TEEN SUMMER GAMING GROUPJoin us for fun\, low-pressure gaming sessions this summer!Please read the following details carefully before filling out the form below.REGISTRATION OPENS FRIDAY\, JUNE 20th @ 9:00amWhen: Thursdays 7-8pm\, beginning July 17Where: Elaine Dobbin Centre for Autism (Located at 70 Clinch crescent St. John’s)What to expect: Participants are invited to share space and engage with the games that interest them most\, at a pace that feels right for them. There’s no pressure to socialize or play in a certain way—parallel play and quiet participation are always welcome.https://forms.office.com/r/jgCNwJCpFA
URL:https://asnl.ca/asnl-calendars/st-johns-teen-summer-gaming-group/2025-07-24/
END:VEVENT
BEGIN:VEVENT
DTSTART;TZID=UTC:20250724T133000
DTEND;TZID=UTC:20250724T153000
DTSTAMP:20260422T224757
CREATED:20250707T162832Z
LAST-MODIFIED:20250707T162832Z
UID:8156-1753363800-1753371000@asnl.ca
SUMMARY:ST. JOHN'S - ADULT WALKING GROUP
DESCRIPTION:Adult Walking Group – Movement\, Connection\, and Community The Adult Walking Group is a relaxed\, inclusive weekly gathering for autistic adults who want to connect with others while enjoying the outdoors. What to Expect: Gentle-paced\, one-hour walk or rollAlong various beautiful walking trails in St. John’sInclusive of all mobility styles — walking\, rolling\, or using mobility aidsSlow\, adaptable pace with no pressure to keep upParticipation is always flexible and judgment-free Outdoor movement as a form of connectionEncouraging gentle activity as a way to regulate\, reflect\, and rechargeNo expectations for conversation — come as you are One-hour social time after the walkEnjoy lemonade or tea together in a relaxed settingConnect\, chat\, or just hang out with others in a neurodivergent-friendly spaceOptional\, low-pressure way to build communityProgram Details: Thursdays from July 3rd to August 28th\, 2025 Each session runs for two hours1 hour of walking/rolling1 hour of relaxed social time Various walking trails around St. John’s (exact routes TBA; accessibility will be prioritized)Whether you’re looking to make new friends\, spend time in nature\, or just be around community in a low-stress space\, this group is for you.https://forms.office.com/Pages/ResponsePage.aspx…For more information\, please contact: Rachel Kenny at rkenny@asnl.ca
URL:https://asnl.ca/asnl-calendars/st-johns-adult-walking-group/2025-07-24/
END:VEVENT
BEGIN:VEVENT
DTSTART;TZID=UTC:20250724T133000
DTEND;TZID=UTC:20250724T153000
DTSTAMP:20260422T224757
CREATED:20250707T151459Z
LAST-MODIFIED:20250707T151459Z
UID:8106-1753363800-1753371000@asnl.ca
SUMMARY:GRAND FALLS - Dungeons and Dragons Program
DESCRIPTION:GRAND FALLS!ASNL Grand Falls Office will be starting up a beginner friendly Dungeons and Dragons program! All are welcome but there will be limited seats so sign up as soon as possible!What you need to know:-The campaign will be beginner friendly so no previous Dungeons and Dragons knowledge is required-Participants will need to be able to do basic math such as addition and subtraction-Events will be held on Mondays and Thursdays starting July 14th from 1:30pm to 3:30pm-Events will be held in the ASNL office on high streethttps://forms.office.com/r/QtCUeUqezb
URL:https://asnl.ca/asnl-calendars/grand-falls-dungeons-and-dragons-program/2025-07-24/
END:VEVENT
BEGIN:VEVENT
DTSTART;TZID=UTC:20250724T100000
DTEND;TZID=UTC:20250724T120000
DTSTAMP:20260422T224757
CREATED:20250707T163009Z
LAST-MODIFIED:20250707T163009Z
UID:8166-1753351200-1753358400@asnl.ca
SUMMARY:ST. JOHN'S - PLAYGROUP FOR CHILDREN WITH HIGH SUPPORT NEEDS
DESCRIPTION:Littles Summer Playgroup – Drop-In Program for Children with High Support Needs (Ages 2–6)The Littles Summer Playgroup is a welcoming\, inclusive drop-in playgroup for:Autistic children ages 2 to 6 with high support needsNeurodivergent children (including ADHD\, sensory processing differences\, etc.)Children with co-occurring disabilities or diagnosesThis group offers a low child-to-staff ratio and is designed to support children who benefit from higher support and quieter\, flexible environments. Key Features: Unstructured\, child-led play — no scheduled activities or transitions Sensory-friendly environment — set up for regulation\, safety\, and comfort Caregiver-stay model — families stay and engage alongside their children Welcoming of all communication styles and abilities Supports both indoor and outdoor play opportunitiesLocation & Schedule: Elaine Dobbin Centre for Autism\, with some sessions walking to theJaneway’s fenced-in Therapeutic Rehabilitation Playground Thursdays from 10:00 AM to 12:00 PM July 3rd to August 28th\, 2025 Drop-in format — come when it works for youWhether you’re joining us for the first time or returning each week\, this playgroup offers a safe space where children can simply be themselves\, and families can feel seen\, supported\, and connected.https://forms.office.com/Pages/ResponsePage.aspx…For more information\, please contact: Rachel Kenny at rkenny@asnl.ca
URL:https://asnl.ca/asnl-calendars/st-johns-playgroup-for-children-with-high-support-needs/2025-07-24/
END:VEVENT
BEGIN:VEVENT
DTSTART;TZID=UTC:20250724T093000
DTEND;TZID=UTC:20250724T103000
DTSTAMP:20260422T224757
CREATED:20250707T164148Z
LAST-MODIFIED:20250707T164148Z
UID:8178-1753349400-1753353000@asnl.ca
SUMMARY:ST. JOHN'S - SUMMER GARDENING
DESCRIPTION:ST. JOHN’SSUMMER GARDENING PROGRAMJoin ASNL for a low pressure gardening program this summer. Engage in directed gardening activities that interest you most\, at a pace that feels right for you.When: Tuesdays & Thursdays 9:30-10:30am\, beginning July 8Where: Elaine Dobbin Centre for Autism (Located at 70 Clinch crescent St. John’s)Who: Ages 15+ (a variety of support needs welcome – Caregivers or Respite workers required for those needing 1:1 support)REGISTRATION OPENS: Wednesday\, JUNE 25th @ 9:00amhttps://forms.office.com/r/3bDJaCKwep
URL:https://asnl.ca/asnl-calendars/st-johns-summer-gardening/2025-07-24/
END:VEVENT
BEGIN:VEVENT
DTSTART;TZID=UTC:20250723T163000
DTEND;TZID=UTC:20250723T180000
DTSTAMP:20260422T224757
CREATED:20250707T171051Z
LAST-MODIFIED:20250707T171051Z
UID:8208-1753288200-1753293600@asnl.ca
SUMMARY:ST. JOHN'S - OUTDOOR GAMING GROUP (AGES 7-13)
DESCRIPTION:St. John’s!Summer Outdoor Gaming GroupGet ready to enjoy the sun and games this summer! This group is designed for kids ages 7-13. It will be a mix of structured group games and free play fun.When: Wednesdays 4:30-6:00pmWho: Age 7-13Where: Elaine Dobbin Centre for Autism (Located at 70 Clinch crescent St. John’s)REGISTRATION OPENS FRIDAY\, JUNE 20 @ 9:00amhttps://forms.office.com/r/pqZVwrCnYC
URL:https://asnl.ca/asnl-calendars/st-johns-outdoor-gaming-group-ages-7-13/2025-07-23/
END:VEVENT
BEGIN:VEVENT
DTSTART;TZID=UTC:20250722T180000
DTEND;TZID=UTC:20250722T200000
DTSTAMP:20260422T224757
CREATED:20250408T131727Z
LAST-MODIFIED:20250408T131727Z
UID:7957-1753207200-1753214400@asnl.ca
SUMMARY:GRAND FALLS-WINDSOR - Drop-in Night!
DESCRIPTION:Hello everyone\,\n\nDrop in night happening from 6:30 to 8:30 TUESDAY evenings.\n\nIf you have not already registered and would like to join us please register at the link provided below\,\n\nREGISTRATION LINK: https://forms.office.com/r/5SDMzdT5Ms\n\nWe hope to see everyone there!
URL:https://asnl.ca/asnl-calendars/grand-falls-windsor-drop-in-night/2025-07-22/
END:VEVENT
BEGIN:VEVENT
DTSTART;TZID=UTC:20250722T093000
DTEND;TZID=UTC:20250722T103000
DTSTAMP:20260422T224757
CREATED:20250707T164148Z
LAST-MODIFIED:20250707T164148Z
UID:8177-1753176600-1753180200@asnl.ca
SUMMARY:ST. JOHN'S - SUMMER GARDENING
DESCRIPTION:ST. JOHN’SSUMMER GARDENING PROGRAMJoin ASNL for a low pressure gardening program this summer. Engage in directed gardening activities that interest you most\, at a pace that feels right for you.When: Tuesdays & Thursdays 9:30-10:30am\, beginning July 8Where: Elaine Dobbin Centre for Autism (Located at 70 Clinch crescent St. John’s)Who: Ages 15+ (a variety of support needs welcome – Caregivers or Respite workers required for those needing 1:1 support)REGISTRATION OPENS: Wednesday\, JUNE 25th @ 9:00amhttps://forms.office.com/r/3bDJaCKwep
URL:https://asnl.ca/asnl-calendars/st-johns-summer-gardening/2025-07-22/
END:VEVENT
BEGIN:VEVENT
DTSTART;TZID=UTC:20250721T133000
DTEND;TZID=UTC:20250721T153000
DTSTAMP:20260422T224757
CREATED:20250707T151459Z
LAST-MODIFIED:20250707T151459Z
UID:8105-1753104600-1753111800@asnl.ca
SUMMARY:GRAND FALLS - Dungeons and Dragons Program
DESCRIPTION:GRAND FALLS!ASNL Grand Falls Office will be starting up a beginner friendly Dungeons and Dragons program! All are welcome but there will be limited seats so sign up as soon as possible!What you need to know:-The campaign will be beginner friendly so no previous Dungeons and Dragons knowledge is required-Participants will need to be able to do basic math such as addition and subtraction-Events will be held on Mondays and Thursdays starting July 14th from 1:30pm to 3:30pm-Events will be held in the ASNL office on high streethttps://forms.office.com/r/QtCUeUqezb
URL:https://asnl.ca/asnl-calendars/grand-falls-dungeons-and-dragons-program/2025-07-21/
END:VEVENT
BEGIN:VEVENT
DTSTART;TZID=UTC:20250721T130000
DTEND;TZID=UTC:20250721T150000
DTSTAMP:20260422T224757
CREATED:20250707T150532Z
LAST-MODIFIED:20250707T150722Z
UID:8099-1753102800-1753110000@asnl.ca
SUMMARY:ST. JOHN'S - Art Party *registration needed*
DESCRIPTION:ST.JOHN’S!Join us for an afternoon of fun-filled artistic expression\, in a glorious space where kids can paint on the walls and scoop through a giant sand pit. The Art Factory’s sensory area is filled with changing medium to dig your hands in and pour through a cascade of funnels and tubing. Crafting areas are equipped with everything you need to get your masterpiece started. Whether they’re just mucking around and enjoying textures\, or have a flair of talent that needs to be unleashed\, children can experiment with a multitude of art supplies at The Art Factory.There is no charge for ASNL Community members to attend this event. Spaces are limited and registration is required. See Eventbrite link for more information and registration details: https://www.eventbrite.ca/…/art-party-at-the-art…
URL:https://asnl.ca/asnl-calendars/st-johns-art-party-registration-needed/
END:VEVENT
BEGIN:VEVENT
DTSTART;VALUE=DATE:20250718
DTEND;VALUE=DATE:20250721
DTSTAMP:20260422T224757
CREATED:20250707T174057Z
LAST-MODIFIED:20250707T174057Z
UID:8219-1752796800-1753055999@asnl.ca
SUMMARY:WESTERN REGION FAMILY CAMP
DESCRIPTION:
URL:https://asnl.ca/asnl-calendars/western-region-family-camp/
END:VEVENT
BEGIN:VEVENT
DTSTART;VALUE=DATE:20250718
DTEND;VALUE=DATE:20250721
DTSTAMP:20260422T224757
CREATED:20250707T164328Z
LAST-MODIFIED:20250707T164328Z
UID:8185-1752796800-1753055999@asnl.ca
SUMMARY:HAPPY VALLEY - GOOSE BAY - FAMILY OVERNIGHT CAMP
DESCRIPTION:
URL:https://asnl.ca/asnl-calendars/happy-valley-goose-bay-family-overnight-camp/
END:VEVENT
BEGIN:VEVENT
DTSTART;TZID=UTC:20250717T193000
DTEND;TZID=UTC:20250717T203000
DTSTAMP:20260422T224757
CREATED:20230929T123058Z
LAST-MODIFIED:20230929T123058Z
UID:7898-1752780600-1752784200@asnl.ca
SUMMARY:CORNER BROOK - Adult Autistic Support Group (50 Main Street)
DESCRIPTION:Adult Autistic Support Group – Corner Brook \nBiweekly – Thursdays 730-830
URL:https://asnl.ca/asnl-calendars/corner-brook-adult-autistic-support-group-50-main-street/2025-07-17/
END:VEVENT
BEGIN:VEVENT
DTSTART;TZID=UTC:20250717T190000
DTEND;TZID=UTC:20250717T200000
DTSTAMP:20260422T224757
CREATED:20250707T164941Z
LAST-MODIFIED:20250707T164941Z
UID:8199-1752778800-1752782400@asnl.ca
SUMMARY:ST. JOHN'S - TEEN SUMMER GAMING GROUP
DESCRIPTION:St. John’s!!TEEN SUMMER GAMING GROUPJoin us for fun\, low-pressure gaming sessions this summer!Please read the following details carefully before filling out the form below.REGISTRATION OPENS FRIDAY\, JUNE 20th @ 9:00amWhen: Thursdays 7-8pm\, beginning July 17Where: Elaine Dobbin Centre for Autism (Located at 70 Clinch crescent St. John’s)What to expect: Participants are invited to share space and engage with the games that interest them most\, at a pace that feels right for them. There’s no pressure to socialize or play in a certain way—parallel play and quiet participation are always welcome.https://forms.office.com/r/jgCNwJCpFA
URL:https://asnl.ca/asnl-calendars/st-johns-teen-summer-gaming-group/
END:VEVENT
BEGIN:VEVENT
DTSTART;TZID=UTC:20250717T183000
DTEND;TZID=UTC:20250717T203000
DTSTAMP:20260422T224757
CREATED:20230929T121722Z
LAST-MODIFIED:20231108T150245Z
UID:6331-1752777000-1752784200@asnl.ca
SUMMARY:ST. JOHN'S - Connections - In-Person (70 Clinch Cres)
DESCRIPTION:Connections: \nVirtual – 2nd and 4th Monday of each month 630-830 \nAt ASNL St. John’s – every 3rd Thursday of the month \nIn person in community outing St. John’s – 1st Monday of each month
URL:https://asnl.ca/asnl-calendars/st-johns-connections-in-person-70-clinch-cres/2025-07-17/
END:VEVENT
BEGIN:VEVENT
DTSTART;TZID=UTC:20250717T133000
DTEND;TZID=UTC:20250717T153000
DTSTAMP:20260422T224757
CREATED:20250707T162832Z
LAST-MODIFIED:20250707T162832Z
UID:8155-1752759000-1752766200@asnl.ca
SUMMARY:ST. JOHN'S - ADULT WALKING GROUP
DESCRIPTION:Adult Walking Group – Movement\, Connection\, and Community The Adult Walking Group is a relaxed\, inclusive weekly gathering for autistic adults who want to connect with others while enjoying the outdoors. What to Expect: Gentle-paced\, one-hour walk or rollAlong various beautiful walking trails in St. John’sInclusive of all mobility styles — walking\, rolling\, or using mobility aidsSlow\, adaptable pace with no pressure to keep upParticipation is always flexible and judgment-free Outdoor movement as a form of connectionEncouraging gentle activity as a way to regulate\, reflect\, and rechargeNo expectations for conversation — come as you are One-hour social time after the walkEnjoy lemonade or tea together in a relaxed settingConnect\, chat\, or just hang out with others in a neurodivergent-friendly spaceOptional\, low-pressure way to build communityProgram Details: Thursdays from July 3rd to August 28th\, 2025 Each session runs for two hours1 hour of walking/rolling1 hour of relaxed social time Various walking trails around St. John’s (exact routes TBA; accessibility will be prioritized)Whether you’re looking to make new friends\, spend time in nature\, or just be around community in a low-stress space\, this group is for you.https://forms.office.com/Pages/ResponsePage.aspx…For more information\, please contact: Rachel Kenny at rkenny@asnl.ca
URL:https://asnl.ca/asnl-calendars/st-johns-adult-walking-group/2025-07-17/
END:VEVENT
BEGIN:VEVENT
DTSTART;TZID=UTC:20250717T133000
DTEND;TZID=UTC:20250717T153000
DTSTAMP:20260422T224757
CREATED:20250707T151459Z
LAST-MODIFIED:20250707T151459Z
UID:8104-1752759000-1752766200@asnl.ca
SUMMARY:GRAND FALLS - Dungeons and Dragons Program
DESCRIPTION:GRAND FALLS!ASNL Grand Falls Office will be starting up a beginner friendly Dungeons and Dragons program! All are welcome but there will be limited seats so sign up as soon as possible!What you need to know:-The campaign will be beginner friendly so no previous Dungeons and Dragons knowledge is required-Participants will need to be able to do basic math such as addition and subtraction-Events will be held on Mondays and Thursdays starting July 14th from 1:30pm to 3:30pm-Events will be held in the ASNL office on high streethttps://forms.office.com/r/QtCUeUqezb
URL:https://asnl.ca/asnl-calendars/grand-falls-dungeons-and-dragons-program/2025-07-17/
END:VEVENT
BEGIN:VEVENT
DTSTART;TZID=UTC:20250717T100000
DTEND;TZID=UTC:20250717T120000
DTSTAMP:20260422T224757
CREATED:20250707T163009Z
LAST-MODIFIED:20250707T163009Z
UID:8165-1752746400-1752753600@asnl.ca
SUMMARY:ST. JOHN'S - PLAYGROUP FOR CHILDREN WITH HIGH SUPPORT NEEDS
DESCRIPTION:Littles Summer Playgroup – Drop-In Program for Children with High Support Needs (Ages 2–6)The Littles Summer Playgroup is a welcoming\, inclusive drop-in playgroup for:Autistic children ages 2 to 6 with high support needsNeurodivergent children (including ADHD\, sensory processing differences\, etc.)Children with co-occurring disabilities or diagnosesThis group offers a low child-to-staff ratio and is designed to support children who benefit from higher support and quieter\, flexible environments. Key Features: Unstructured\, child-led play — no scheduled activities or transitions Sensory-friendly environment — set up for regulation\, safety\, and comfort Caregiver-stay model — families stay and engage alongside their children Welcoming of all communication styles and abilities Supports both indoor and outdoor play opportunitiesLocation & Schedule: Elaine Dobbin Centre for Autism\, with some sessions walking to theJaneway’s fenced-in Therapeutic Rehabilitation Playground Thursdays from 10:00 AM to 12:00 PM July 3rd to August 28th\, 2025 Drop-in format — come when it works for youWhether you’re joining us for the first time or returning each week\, this playgroup offers a safe space where children can simply be themselves\, and families can feel seen\, supported\, and connected.https://forms.office.com/Pages/ResponsePage.aspx…For more information\, please contact: Rachel Kenny at rkenny@asnl.ca
URL:https://asnl.ca/asnl-calendars/st-johns-playgroup-for-children-with-high-support-needs/2025-07-17/
END:VEVENT
END:VCALENDAR