BEGIN:VCALENDAR
VERSION:2.0
PRODID:-//asnl - ECPv5.16.4//NONSGML v1.0//EN
CALSCALE:GREGORIAN
METHOD:PUBLISH
X-WR-CALNAME:asnl
X-ORIGINAL-URL:https://asnl.ca
X-WR-CALDESC:Events for asnl
REFRESH-INTERVAL;VALUE=DURATION:PT1H
X-Robots-Tag:noindex
X-PUBLISHED-TTL:PT1H
BEGIN:VTIMEZONE
TZID:UTC
BEGIN:STANDARD
TZOFFSETFROM:+0000
TZOFFSETTO:+0000
TZNAME:UTC
DTSTART:20230101T000000
END:STANDARD
END:VTIMEZONE
BEGIN:VEVENT
DTSTART;TZID=UTC:20231119T133000
DTEND;TZID=UTC:20231119T153000
DTSTAMP:20260424T155454
CREATED:20231107T150120Z
LAST-MODIFIED:20231108T150549Z
UID:6492-1700400600-1700407800@asnl.ca
SUMMARY:ST. JOHN'S - Understanding Wonderland
DESCRIPTION:Travel down the rabbit hole to Wonderland as our greenhouse is transformed into a fairytale world filled with stories\, activities\, and familiar characters. Throughout the event\, our hosts will make offerings of story circles\, arts and crafts\, dance parties\, tea parties\, and theatrics – oh my! \nHappening November 19th at the Elaine Dobbin Centre for Autism‘s 365 Greenhouse. \n  \nFor more information and organizer contact info\, check the event description linked above!
URL:https://asnl.ca/asnl-calendars/st-johns-understanding-wonderland/
END:VEVENT
BEGIN:VEVENT
DTSTART;TZID=UTC:20231119T123000
DTEND;TZID=UTC:20231119T133000
DTSTAMP:20260424T155454
CREATED:20231108T144529Z
LAST-MODIFIED:20231108T144529Z
UID:6496-1700397000-1700400600@asnl.ca
SUMMARY:DEER LAKE - swimming
DESCRIPTION:West coast families! \nPlease join us Sunday\, November 19th at the Deer Lake Hodder memorial complex from 12:30-1:30pm for swimming! There will be no fee and no registration required. Please contact Jessica at jwyatt@asnl.ca for any questions or concerns.
URL:https://asnl.ca/asnl-calendars/deer-lake-swimming/
END:VEVENT
BEGIN:VEVENT
DTSTART;TZID=UTC:20231105T100000
DTEND;TZID=UTC:20231105T120000
DTSTAMP:20260424T155454
CREATED:20231102T134449Z
LAST-MODIFIED:20231102T134449Z
UID:6476-1699178400-1699185600@asnl.ca
SUMMARY:CLARENVILLE - November Socials
DESCRIPTION:Gather with us for our November Socials!\n(coffee/tea and a snack will be provided) \nThe Bill Davis Chalet\, Elizabeth Swan Park\, Clarenville\, every Sunday of November from 10am-12pm! \nOpen to everyone\, all ages and abilities welcome\,\nbring an activity or try one of ours  \nContact: afillier@asnl.ca for more information
URL:https://asnl.ca/asnl-calendars/clarenville-november-socials/2023-11-05/
END:VEVENT
BEGIN:VEVENT
DTSTART;TZID=UTC:20231104T090000
DTEND;TZID=UTC:20231104T110000
DTSTAMP:20260424T155454
CREATED:20231102T134702Z
LAST-MODIFIED:20231102T134702Z
UID:6481-1699088400-1699095600@asnl.ca
SUMMARY:GLOVERTOWN - November Socials
DESCRIPTION:Come gather with us for our November Socials! \n(coffee/tea and a snack will be provided) \n  \nLocated at the Diamond House\, 1 Main St. S.\, Glovertown every Saturday of November  \nfrom 9am-11am! \n  \nOpen to everyone\, all ages and abilities welcome\, \nbring an activity or try one of ours 🙂 \n  \nContact: afillier@asnl.ca for more information
URL:https://asnl.ca/asnl-calendars/glovertown-november-socials/2023-11-04/
END:VEVENT
BEGIN:VEVENT
DTSTART;TZID=UTC:20231028T173000
DTEND;TZID=UTC:20231028T235900
DTSTAMP:20260424T155454
CREATED:20231013T170719Z
LAST-MODIFIED:20231013T170948Z
UID:6460-1698514200-1698537540@asnl.ca
SUMMARY:St. John's - Trunk-or-Treat and Drive in Movie!
DESCRIPTION:Join us for an evening of Halloween fun on Saturday October 28th! Weather delay date – Sunday October 29th.\nWe’ll begin the evening with Trunk-or-Treating in the parking lot of the Elaine Dobbin Centre for Autism\, before we transform the lot for a double-feature drive-in movie!!\n\n\nTrunk-or-Treat: offers an accessible alternative to Trick-or-Treating at Halloween. Through this event our community members will have an opportunity to participate in traditional Halloween activities in a safe and familiar space\, where they can feel welcome to participate in the way that feels most comfortable to them. This event is free.\n\n\nDrive-in movies: The Nightmare Before Christmas (1993) and A Nightmare on Elm Street (1984). If you want to watch both movies\, you must purchase a ticket for each movie. Movie tickets are priced at $5 per movie\, plus applicable fees from Eventbrite (total cost $6.66 per vehicle). One ticket admits one vehicle\, regardless of how many people are in the vehicle\n\nNight Time Nightmare Double Feature Tickets\, St John’s | Eventbrite
URL:https://asnl.ca/asnl-calendars/st-johns-trunk-or-treat-and-drive-in-movie/
END:VEVENT
BEGIN:VEVENT
DTSTART;TZID=UTC:20231028T150000
DTEND;TZID=UTC:20231028T160000
DTSTAMP:20260424T155454
CREATED:20231019T125114Z
LAST-MODIFIED:20231019T125114Z
UID:6467-1698505200-1698508800@asnl.ca
SUMMARY:CLARENVILLE -  Recreation Exploration - 383 Memorial Drive (Registration needed!!)
DESCRIPTION:We’re Back! \nCome Join Us in Clarenville for Recreation Exploration! \n  \nLocated at our Clarenville office: 383 Memorial Drive\, Clarenville. Across from Coastal Outdoors. October 28th 2023 from 3pm-4pm. \n  \nWe have a wonderful Lip Balm Creating Activity donated by Youth Ventures NL!  \n  \nYouth Ventures proudly supports young entrepreneurs across Newfoundland and Labrador. We Thank them for their contribution and encourage you to look them up. \n  \nRegistration is required https://forms.office.com/r/yX7uSFNvx8 \nFamilies Welcome! Parent or Support Person must attend. \n  \nPlease contact Angelina for further details afillier@asnl.ca \n  \nPoster description: A picture of the Clarenville ASNL office\, beige building with a grey roof. Stairs go up to the front entrance. A logo in the bottom right corner saying Jumpstart and Autism Society. To the left is a repeat of the same information above. \n 
URL:https://asnl.ca/asnl-calendars/clarenville-recreation-exploration-383-memorial-drive-registration-needed/
END:VEVENT
BEGIN:VEVENT
DTSTART;TZID=UTC:20231022T080000
DTEND;TZID=UTC:20231022T150000
DTSTAMP:20260424T155454
CREATED:20230828T161531Z
LAST-MODIFIED:20230920T172944Z
UID:6118-1697961600-1697986800@asnl.ca
SUMMARY:Active for Autism
DESCRIPTION:Active for Autism is one of ASNL’s most popular events. A province-wide event held annually in October\, Active for Autism encourages families and friends to get together\, get active\, and raise funds and awareness for ASNL. For more information and download a pledge sheet click HERE
URL:https://asnl.ca/asnl-calendars/active-for-autism/
END:VEVENT
BEGIN:VEVENT
DTSTART;TZID=UTC:20231021T183000
DTEND;TZID=UTC:20231021T203000
DTSTAMP:20260424T155454
CREATED:20230929T121722Z
LAST-MODIFIED:20231108T150242Z
UID:6309-1697913000-1697920200@asnl.ca
SUMMARY:ST. JOHN'S - Connections - In-Person (70 Clinch Cres)
DESCRIPTION:Connections: \nVirtual – 2nd and 4th Monday of each month 630-830 \nAt ASNL St. John’s – every 3rd Thursday of the month \nIn person in community outing St. John’s – 1st Monday of each month
URL:https://asnl.ca/asnl-calendars/st-johns-connections-in-person-70-clinch-cres/2023-10-21/
END:VEVENT
BEGIN:VEVENT
DTSTART;TZID=UTC:20231017T190000
DTEND;TZID=UTC:20231017T203000
DTSTAMP:20260424T155454
CREATED:20230929T115751Z
LAST-MODIFIED:20231108T150351Z
UID:6252-1697569200-1697574600@asnl.ca
SUMMARY:ST.JOHN'S - 2SLGBTQIA+ Neurodivergent Social/Peer Support Group (@ Quadrangle)
DESCRIPTION:October 5\, 7-830 @ ASNL\, \nOctober 17 –  7=830 @ Quadrangle NL\, \nNov 2 –  7-830 @ASNL\, \nNov 14 – 7-830 @ Quadrangle NL \nNov 30 – 7-830 @ ASNL \nDec 12 – 7-830 @ Quadrangle NL
URL:https://asnl.ca/asnl-calendars/st-johns-2slgbtqia-neurodivergent-social-peer-support-group-quadrangle/2023-10-17/
END:VEVENT
BEGIN:VEVENT
DTSTART;TZID=UTC:20231005T190000
DTEND;TZID=UTC:20231005T203000
DTSTAMP:20260424T155454
CREATED:20230929T115244Z
LAST-MODIFIED:20231108T150429Z
UID:6248-1696532400-1696537800@asnl.ca
SUMMARY:ST. JOHN'S - 2SLGBTQIA+ Neurodivergent Social/Peer Support Group (70 Clinch Cres)
DESCRIPTION:70 \nOctober 5\, 7-830 @ ASNL\, \nOctober 17 –  7=830 @ Quadrangle NL\, \nNov 2 –  7-830 @ASNL\, \nNov 14 – 7-830 @ Quadrangle NL \nNov 30 – 7-830 @ ASNL \nDec 12 – 7-830 @ Quadrangle NL \n 
URL:https://asnl.ca/asnl-calendars/st-johns-2slgbtqia-neurodivergent-social-peer-support-group-70-clinch-cres/2023-10-05/
END:VEVENT
BEGIN:VEVENT
DTSTART;TZID=UTC:20231003T183000
DTEND;TZID=UTC:20231003T203000
DTSTAMP:20260424T155454
CREATED:20230929T122036Z
LAST-MODIFIED:20230929T122036Z
UID:6334-1696357800-1696365000@asnl.ca
SUMMARY:St. John's - Connections - Community Outing
DESCRIPTION:Connections: \nVirtual – 2nd and 4th Monday of each month 630-830 \nAt ASNL St. John’s – every 3rd Thursday of the month \nIn person in community outing St. John’s – 1st Monday of each month
URL:https://asnl.ca/asnl-calendars/st-johns-connections-community-outing/2023-10-03/
END:VEVENT
BEGIN:VEVENT
DTSTART;TZID=UTC:20230924T130000
DTEND;TZID=UTC:20230924T160000
DTSTAMP:20260424T155454
CREATED:20230914T175540Z
LAST-MODIFIED:20230914T175540Z
UID:6163-1695560400-1695571200@asnl.ca
SUMMARY:BBQ and Sailing Expo hosted by ASNL and Able Sail NL - St. John's
DESCRIPTION:You’re invited to a fun fall BBQ hosted by Autism Society Newfoundland and Labrador in partnership with Able Sail NL!\n\n\n \n\n\nOn Sunday\, September 24th we will offer a hands-on opportunity for ASNL community members to become familiar with Able Sail’s Access Hansa 2.3m Sailboats\, located at Quidi Vidi Lake in St. John’s. We will be next to the Regatta Boat House on Clancey Drive. If weather permits\, participants might even have a chance to try sailing either on their own\, or with a trusted companion!\n\n\nTypically\, Able Sail hosts sailing opportunities on Sunday afternoons where participants can sail for $20 / hour with a $50 annual membership. For this event\, sailing opportunities will be offered first-come\, first-serve on a pay-what-you-can basis with all sailing donations going to Able Sail.\n\n\nDuring the event\, the Autism Society will also be hosting a pay-what-you-can BBQ\, with suggested donations of $5 for hamburger or hot dog (proceeds from the BBQ will go to the Autism Society\, Newfoundland and Labrador). \n\n\nBeware – there might even be pirates afoot! If you’re feeling especially festive and wish to dress in your best sea-faring attire\, you are welcome to dress up too! You will be required to wear a life jacket and sign a waiver if you plan on commandeering any ships or setting foot on the dock. It is encouraged to bring your own PFD if you have one\, but limited supplies will be available to borrow too. \n\n\nBalloon swords will be available for all swashbuckling buccaneers who wish to defend the ships from pillaging pirates while supplies last. \n\n\nNo pre-registration is required\, however this event will be weather-dependant\, so do check our social media channels before heading out to make sure everything will be going ahead as planned! \n\n\n 
URL:https://asnl.ca/asnl-calendars/bbq-and-sailing-expo-hosted-by-asnl-and-able-sail-nl-st-johns/
END:VEVENT
BEGIN:VEVENT
DTSTART;TZID=UTC:20230923T140000
DTEND;TZID=UTC:20230923T170000
DTSTAMP:20260424T155454
CREATED:20230828T161027Z
LAST-MODIFIED:20230828T161027Z
UID:6112-1695477600-1695488400@asnl.ca
SUMMARY:2nd Annual Afternoon Tea and Fashion Show
DESCRIPTION:ASNL is excited to announce that the 2nd Annual Afternoon Tea will be taking place on September 23\, 2023\, from 2:00 pm – 5:00 pm! The event will not be your typical afternoon tea – be prepared for a fun afternoon with local entertainment\, food\, beverages\, raffles\, an online auction\, and a fashion show presented by the Vimy Boutique. \nSeating is limited\, so get your tickets now! Contact (709)722-2803\, extension 227\, or cmoakler@asnl.ca to purchase tickets
URL:https://asnl.ca/asnl-calendars/2nd-annual-afternoon-tea-and-fashion-show/
END:VEVENT
BEGIN:VEVENT
DTSTART;TZID=UTC:20230916T113000
DTEND;TZID=UTC:20230916T133000
DTSTAMP:20260424T155454
CREATED:20230828T161152Z
LAST-MODIFIED:20230828T161152Z
UID:6114-1694863800-1694871000@asnl.ca
SUMMARY:Town Hall - 70 Clinch Cres - St. John's
DESCRIPTION:The Autism Society of Newfoundland and Labrador (ASNL) is hosting a Town Hall meeting on Saturday\, September 16th\, 2023 at the ASNL Greenhouse\, 70 Clinch Cres\, St. John’s from 11:30am-1:30pm.\nAutistics\, parents\, caregivers\, allies and members of the general public are welcome to attend.\nVirtual option? email info@asnl.ca
URL:https://asnl.ca/asnl-calendars/town-hall-70-clinch-cres-st-johns/
END:VEVENT
BEGIN:VEVENT
DTSTART;TZID=UTC:20230916T100000
DTEND;TZID=UTC:20230916T110000
DTSTAMP:20260424T155454
CREATED:20230828T161310Z
LAST-MODIFIED:20230828T161310Z
UID:6116-1694858400-1694862000@asnl.ca
SUMMARY:Annual General Meeting - 70 Clinch Cres - St. John's
DESCRIPTION:The Annual General Meeting of the Autism Society of Newfoundland and Labrador (ASNL) will be held on Saturday\, September 16th\, 2023\, at the ASNL Greenhouse\, 70 Clinch Cres\, beginning at 10 am.\nFor virtual link email info@asnl.ca
URL:https://asnl.ca/asnl-calendars/annual-general-meeting-70-clinch-cres-st-johns/
END:VEVENT
BEGIN:VEVENT
DTSTART;TZID=UTC:20230728T080000
DTEND;TZID=UTC:20230730T170000
DTSTAMP:20260424T155454
CREATED:20230419T133518Z
LAST-MODIFIED:20230419T133518Z
UID:3964-1690531200-1690736400@asnl.ca
SUMMARY:Eastern Region -  Back to Nature - Max Simms Camp
DESCRIPTION:
URL:https://asnl.ca/asnl-calendars/eastern-region-back-to-nature-max-simms-camp/
END:VEVENT
BEGIN:VEVENT
DTSTART;VALUE=DATE:20230721
DTEND;VALUE=DATE:20230724
DTSTAMP:20260424T155454
CREATED:20230419T133431Z
LAST-MODIFIED:20230419T133431Z
UID:3962-1689897600-1690156799@asnl.ca
SUMMARY:Central/South Region - Back to Nature Camp - Max Simms Camp
DESCRIPTION:
URL:https://asnl.ca/asnl-calendars/central-south-region-back-to-nature-camp-max-simms-camp/
END:VEVENT
BEGIN:VEVENT
DTSTART;TZID=UTC:20230720T130000
DTEND;TZID=UTC:20230720T143000
DTSTAMP:20260424T155454
CREATED:20230628T190544Z
LAST-MODIFIED:20230628T190544Z
UID:4206-1689858000-1689863400@asnl.ca
SUMMARY:Femmes and Them: Teen Social Support Group
DESCRIPTION:Femmes & Them: Teen Social/Peer Support Group \nASNL will be offering a Summer Social/Peer Support Group for community members ages 12-17 who identify as female\, trans (masc or femme) or gender diverse.\nThe group will run weekly from Thursday\, July 20th – Thursday\, August 30th \nThis group will be run from the a first-person\, lived-experience perspective.\nParticipants will be able to share their experiences as an autistic teen\, in a safe and inclusive space.\nSessions will be held at the Elaine Dobbin Centre for Autism on Thursday afternoons\, and will be 1.5 hours long. \nRegistration opens Tuesday\, July 5th.\nMark your calendars!
URL:https://asnl.ca/asnl-calendars/femmes-and-them-teen-social-support-group/2023-07-20/
END:VEVENT
BEGIN:VEVENT
DTSTART;TZID=UTC:20230604T133000
DTEND;TZID=UTC:20230604T143000
DTSTAMP:20260424T155454
CREATED:20230602T150459Z
LAST-MODIFIED:20230602T150459Z
UID:4100-1685885400-1685889000@asnl.ca
SUMMARY:CORNER BROOK - Sensory Play
DESCRIPTION:west coast families\, please join us at JJ Curling Elementary cafeteria on June 4th for a sensory play hour!! Building block\, play dough\, slime\, and so much more already provided! No registration required.
URL:https://asnl.ca/asnl-calendars/corner-brook-sensory-play/
END:VEVENT
BEGIN:VEVENT
DTSTART;TZID=UTC:20230603T130000
DTEND;TZID=UTC:20230603T150000
DTSTAMP:20260424T155454
CREATED:20230602T150644Z
LAST-MODIFIED:20230602T150644Z
UID:4102-1685797200-1685804400@asnl.ca
SUMMARY:CLARENVILLE - Rec exploration
DESCRIPTION:bill david chalet\, 44 tilly’s rd. clarenville \n\nClarenville families! Join us for Recreation Exploration! Activities such as colouring\, crafts\, creative building\, music movement and more! Fun for all ages and abilities!\n\n2d
URL:https://asnl.ca/asnl-calendars/clarenville-rec-exploration/
END:VEVENT
BEGIN:VEVENT
DTSTART;TZID=UTC:20230528T100000
DTEND;TZID=UTC:20230528T120000
DTSTAMP:20260424T155454
CREATED:20230210T142000Z
LAST-MODIFIED:20230210T142000Z
UID:3593-1685268000-1685275200@asnl.ca
SUMMARY:Exceptional Connections - Community Connections Playtime
DESCRIPTION:Drop-in playtime called “Community Connections Playtime” for all ages and all abilities. Refer to this post for full details!\n\n\nDATE: Sunday\, May 28\, 2023\nTIME: 10:00-12:00\nLOCATION: Gloria Pearson Comm Centre\, Mt Pearl\n\n\nDETAILS: Doors will open at 10:00 am\, and our time slot will finish at 12:00 pm. We have accounted for 15 minutes of flex time at the beginning and end to help with transitioning. Drop in for as long or as short as you would like! Activities such as ball play\, mat areas\, stepping stones\, and other play activities will be available\, as well as crafts and colouring. There will also be a lot of room to run and move! There will be lowered lighting and no music to accommodate sensory needs.\n\n\nPlease feel free to bring along anything that may help your loved one feel comfortable. This is a FREE event and it is open to the whole family! Come to play and connect.\n\n\nPlease bring indoor shoes or socks. Feel free to bring along a snack and drink too!
URL:https://asnl.ca/asnl-calendars/exceptional-connections-community-connections-playtime/2023-05-28/
LOCATION:25 Holden Street\, 25 Holden Street\, Mount Pearl\, NL\, Canada
END:VEVENT
BEGIN:VEVENT
DTSTART;TZID=UTC:20230524T083000
DTEND;TZID=UTC:20230524T160000
DTSTAMP:20260424T155454
CREATED:20230417T130242Z
LAST-MODIFIED:20230417T130441Z
UID:3940-1684917000-1684944000@asnl.ca
SUMMARY:Embracing Neurodiversity Conference
DESCRIPTION:Embracing Neurodiversity is a gathering for autistic people\, their families\, caregivers\, educators\, policymakers\, government and the community in general. Embracing Neurodiversity aims to provide engaging and evidence-based sessions to enrich understanding and inclusivity within our communities in a safe and welcoming environment. \nEmera Innovation Exchange\,\nSignal Hill Campus\, St. John’s.\nThe 2023 conference will be a hybrid event. \nWe hope you will join us for an interesting and informative day. Last years conference sold out early. \nRegistration now open!! \nFor more information and to register please click HERE
URL:https://asnl.ca/asnl-calendars/embracing-neurodiversity-conference/
LOCATION:100 Signal Hill Road St. John’s\, NL A1C 5S7
END:VEVENT
BEGIN:VEVENT
DTSTART;TZID=UTC:20230513T140000
DTEND;TZID=UTC:20230513T160000
DTSTAMP:20260424T155454
CREATED:20230505T153341Z
LAST-MODIFIED:20230505T153341Z
UID:4043-1683986400-1683993600@asnl.ca
SUMMARY:Sandringham - Eastport Penninsula - Recreation Exploration
DESCRIPTION:Join us for Recreation Exploration! (movement for all ages and abilities) \nThis week in Sandringham! \nOn May 13th from 2pm-4pm \nWe are itching to do something outside \nand we know you are too! \n  \nGames\, scavenger hunts\, activities\, accessible boardwalk\, and more! \n  \nFor more information contact afillier@asnl.ca \n 
URL:https://asnl.ca/asnl-calendars/sandringham-eastport-penninsula-recreation-exploration/
END:VEVENT
BEGIN:VEVENT
DTSTART;TZID=UTC:20230507T190000
DTEND;TZID=UTC:20230507T210000
DTSTAMP:20260424T155454
CREATED:20230421T144028Z
LAST-MODIFIED:20230929T114649Z
UID:3973-1683486000-1683493200@asnl.ca
SUMMARY:Virtual Parent/Caregiver Support Group
DESCRIPTION:
URL:https://asnl.ca/asnl-calendars/virtual-pieces-parent-caregiver-support-group/2023-05-07/
END:VEVENT
BEGIN:VEVENT
DTSTART;TZID=UTC:20230429T140000
DTEND;TZID=UTC:20230429T150000
DTSTAMP:20260424T155454
CREATED:20230419T132641Z
LAST-MODIFIED:20230419T132641Z
UID:3960-1682776800-1682780400@asnl.ca
SUMMARY:clarenville - bowling (Caribou lanes) - registration required
DESCRIPTION:Clarenville families! Join us for a fun afternoon for making noise and knocking down pins! Saturday\, April 29th from 2 pm to 3pm at Caribou Lanes – 46 Tilley’s Road\, Clarenville *Register today – https://forms.office.com/r/xr9vEPuYGN
URL:https://asnl.ca/asnl-calendars/clarenville-bowling-caribou-lanes-registration-required/
END:VEVENT
BEGIN:VEVENT
DTSTART;TZID=UTC:20230429T090000
DTEND;TZID=UTC:20230429T100000
DTSTAMP:20260424T155454
CREATED:20230419T134320Z
LAST-MODIFIED:20230419T134320Z
UID:3969-1682758800-1682762400@asnl.ca
SUMMARY:st. john's - get air - sensory friendly jump
DESCRIPTION:Get Air St. John’s is offering a FREE sensory aware jump on Saturday April 29th from 9am-10am to celebrate Autism Month!! (Donations will be accepted) Get Air and the Flutie Foundation are invested in supporting and fundraising for autism every year! We’d like to say a big thank you to the St. John’s park manager\, Corey Janes and his staff for their above and beyond efforts! They are welcoming all friends and families of neurodivergent community\, all ages and abilities\, to come and enjoy this free and fun event!  \n  \nPlease fill out the form the Get Air waiver prior to coming to the event. If you need assistance with completing this form\, please email apenney@asnl.ca or call 709-722-2803 ext 232. 
URL:https://asnl.ca/asnl-calendars/st-johns-get-air-sensory-friendly-jump/
END:VEVENT
BEGIN:VEVENT
DTSTART;TZID=UTC:20230427T200000
DTEND;TZID=UTC:20230427T210000
DTSTAMP:20260424T155454
CREATED:20230425T120547Z
LAST-MODIFIED:20230425T120547Z
UID:4004-1682625600-1682629200@asnl.ca
SUMMARY:VIRTUAL - Parent/Caregiver of autistic children *registration needed*
DESCRIPTION:Parents/Caregivers of autistic children! We are offering a virtual session Thursday\, April 27 from 8-9pm. Meeting link and reminder will be sent via email Thursday morning\n\n\n\n\n\n*Register today – https://forms.office.com/r/MVb4bkFymN
URL:https://asnl.ca/asnl-calendars/virtual-parent-caregiver-of-autistic-children-registration-needed/
END:VEVENT
BEGIN:VEVENT
DTSTART;TZID=UTC:20230425T193000
DTEND;TZID=UTC:20230425T210000
DTSTAMP:20260424T155454
CREATED:20230424T141158Z
LAST-MODIFIED:20230424T141158Z
UID:4002-1682451000-1682456400@asnl.ca
SUMMARY:Virtual - Caregiver of Autistic Adults Support Group (Registration needed)
DESCRIPTION:Caregiver of Autistic Adults Support GroupJoin navigator\, Rachel Hogan\, for a participant led group discussion that encourages support\, validation\, and community for the caregivers of autistic adults; including parents\, partners/spouses\, loved ones\, and homecare/respite workers. \nWhen: \nVirtual – 4th Tuesday of every month 7:30-9pm \nRegister: https://forms.office.com/r/fTcuHbb2NW
URL:https://asnl.ca/asnl-calendars/virtual-caregiver-of-autistic-adults-support-group-registration-needed/2023-04-25/
END:VEVENT
BEGIN:VEVENT
DTSTART;TZID=UTC:20230423T150000
DTEND;TZID=UTC:20230423T163000
DTSTAMP:20260424T155454
CREATED:20230419T130448Z
LAST-MODIFIED:20230419T132145Z
UID:3951-1682262000-1682267400@asnl.ca
SUMMARY:Community Town Hall - Corner Brook (Greenwood Inn)
DESCRIPTION:Join ASNL for Community Town Halls taking place Corner Brook (Greenwood Inn) on Sunday\, April 23rd at 12 noon and 3pm.\n\n\nThe first meetings of the day will be geared toward Autistics with the second geared toward parents & caregivers. Both are open to anyone who wishes to attend.\n\n\nWe look forward to hearing from our community! If you wish to submit questions before the meeting\, please email communityfeedback@asnl.ca with subject “Town Hall Question”
URL:https://asnl.ca/asnl-calendars/community-town-hall-corner-brook-greenwood-inn-2/
END:VEVENT
BEGIN:VEVENT
DTSTART;TZID=UTC:20230423T133000
DTEND;TZID=UTC:20230423T143000
DTSTAMP:20260424T155454
CREATED:20230419T131044Z
LAST-MODIFIED:20230419T131934Z
UID:3955-1682256600-1682260200@asnl.ca
SUMMARY:CORNER BROOK - Sports Day
DESCRIPTION:West coast families!!!\nJoin us at the JJ Curling gymnasium\, April 23 from 1:30-3:00pm for a chance to explore and learn new skills in different sports! No registration needed. Contact Jessica at jwyatt@asnl.ca
URL:https://asnl.ca/asnl-calendars/corner-brook-sports-day/
END:VEVENT
END:VCALENDAR