BEGIN:VCALENDAR
VERSION:2.0
PRODID:-//asnl - ECPv5.16.4//NONSGML v1.0//EN
CALSCALE:GREGORIAN
METHOD:PUBLISH
X-WR-CALNAME:asnl
X-ORIGINAL-URL:https://asnl.ca
X-WR-CALDESC:Events for asnl
REFRESH-INTERVAL;VALUE=DURATION:PT1H
X-Robots-Tag:noindex
X-PUBLISHED-TTL:PT1H
BEGIN:VTIMEZONE
TZID:UTC
BEGIN:STANDARD
TZOFFSETFROM:+0000
TZOFFSETTO:+0000
TZNAME:UTC
DTSTART:20240101T000000
END:STANDARD
END:VTIMEZONE
BEGIN:VEVENT
DTSTART;TZID=UTC:20240509T153000
DTEND;TZID=UTC:20240509T170000
DTSTAMP:20260424T151820
CREATED:20240506T124748Z
LAST-MODIFIED:20240506T124748Z
UID:7191-1715268600-1715274000@asnl.ca
SUMMARY:GRAND FALLS - Mother's Day Card making
DESCRIPTION:Grand Falls and surrounding areas! Join us for a FREE Mother’s Day card making! \n21 carmelite rd \nemail echippett@asnl.ca to register!
URL:https://asnl.ca/asnl-calendars/grand-falls-mothers-day-card-making/
END:VEVENT
BEGIN:VEVENT
DTSTART;TZID=UTC:20240505T190000
DTEND;TZID=UTC:20240505T210000
DTSTAMP:20260424T151820
CREATED:20230421T144028Z
LAST-MODIFIED:20230929T114652Z
UID:3987-1714935600-1714942800@asnl.ca
SUMMARY:Virtual Parent/Caregiver Support Group
DESCRIPTION:
URL:https://asnl.ca/asnl-calendars/virtual-pieces-parent-caregiver-support-group/2024-05-05/
END:VEVENT
BEGIN:VEVENT
DTSTART;TZID=UTC:20240504T110000
DTEND;TZID=UTC:20240504T133000
DTSTAMP:20260424T151820
CREATED:20240320T152046Z
LAST-MODIFIED:20240320T152046Z
UID:7024-1714820400-1714829400@asnl.ca
SUMMARY:GANDER - Free Play
DESCRIPTION:Join us for Free play in Gander! This is an all-ages event where we will have different activities and games set up for participants to try. Reach out to ksnow@asnl.ca with any concerns/questions \n1 Brochen St
URL:https://asnl.ca/asnl-calendars/gander-free-play/2024-05-04/
END:VEVENT
BEGIN:VEVENT
DTSTART;TZID=UTC:20240502T200000
DTEND;TZID=UTC:20240502T213000
DTSTAMP:20260424T151820
CREATED:20240422T124145Z
LAST-MODIFIED:20240422T124145Z
UID:7142-1714680000-1714685400@asnl.ca
SUMMARY:VIRTUAL - Show and Tell Night
DESCRIPTION:Virtual Show and Tell Group\nA weekly drop in virtual show and tell group for autistic adults in Newfoundland and Labrador is starting Thursday\, April 11 from 8:00-9:30pm. Participants can pre-register in advance to present their collections\, virtual worlds\, art work\, creations\, other special interests or infodumps on a topic or special interest\, two to three participants can present each week\, and this will be an ongoing group as long as there is interest. To register\, please contact kwarren@asnl.ca.
URL:https://asnl.ca/asnl-calendars/virtual-show-and-tell-night/2024-05-02/
END:VEVENT
BEGIN:VEVENT
DTSTART;TZID=UTC:20240502T180000
DTEND;TZID=UTC:20240502T190000
DTSTAMP:20260424T151820
CREATED:20240422T124349Z
LAST-MODIFIED:20240422T124349Z
UID:7155-1714672800-1714676400@asnl.ca
SUMMARY:ST. JOHN'S - Drop-In Gaming Group
DESCRIPTION:Drop in Gaming Group\nA weekly drop in gaming group is starting at the St. John’s ASNL office on Thursday\, April 11 from 6:00-7:00pm.\nGroup is open to all ages\, for those participants who typically have a support person and/or are under the age of 10\, should have someone remain on site. Otherwise\, please provide emergency contact info the first session you attend. There will be two rooms set up for group\, one with a variety of board games and card games available\, there will be tables for both solo and group play. The other room has two TVs that participants can connect the ASNL switch or their own switch to. Games played on the TV must be rated E or E10+ as it is an all ages group.\nFor more information please contact kwarren@asnl.ca.
URL:https://asnl.ca/asnl-calendars/st-johns-drop-in-gaming-group/2024-05-02/
END:VEVENT
BEGIN:VEVENT
DTSTART;TZID=UTC:20240427T160000
DTEND;TZID=UTC:20240427T170000
DTSTAMP:20260424T151820
CREATED:20240425T111003Z
LAST-MODIFIED:20240425T111003Z
UID:7177-1714233600-1714237200@asnl.ca
SUMMARY:PROVINCIAL - Autism Acceptance Month Celebration - Watch Party!!
DESCRIPTION:ASNL’s final celebration for Autism Acceptance Month will be a watch party! SATURDAY\, APRIL 27TH!!!\n\n\nWe have compiled a short series of videos from our community members sharing what autism means to them and we want to share it with you!\n\n\nWhat: Watch short video\, have pizza and connect\n\n\nTime: 4pm-5pm at all locations (3:30pm Labrador – included in our drop in)\n\n\nPlace:\n\n\nElaine Dobbin Centre for Autism – 70 Clinch Cres St. John’s\, NL\n\n\nBill Davis Chalet in Elizabeth Swan Park (6 Tilley Rd) – Clarenville (Angelina)\n\n\nAutism Centre in Burin (4 Sugarloaf Rd) – Burin Time (Chris)\n\n\nASNL Office Grand Falls – Carmalite Rd\n\n\nASNL Office Corner Brook – 50 Main Street suite 105\n\n\nASNL NEW Office in Goose Bay – 2-4 Hillcrest Road
URL:https://asnl.ca/asnl-calendars/provincial-autism-acceptance-month-celebration-watch-party/
END:VEVENT
BEGIN:VEVENT
DTSTART;TZID=UTC:20240427T140000
DTEND;TZID=UTC:20240427T160000
DTSTAMP:20260424T151820
CREATED:20240424T150929Z
LAST-MODIFIED:20240424T150929Z
UID:7171-1714226400-1714233600@asnl.ca
SUMMARY:GOOSE BAY - Meet and Greet!
DESCRIPTION:Hello Goose Bay! Thank you for your feedback when we visited over the past year. What we’ve heard is that there’s a need for support and a physical presence from ASNL in your community. So\, we’re here! \nASNL is officially open in Goose Bay! Come see our space and meet our Goose Bay Navigator – Jessica Keefe. \nDate: Saturday\, April 27\nTime: 2pm-4pm\nPlace: ASNL office Goose Bay\, 2-4 Hillcrest Rd\, Goose Bay\nWhat: Meet and greet\n2-2:30pm – Info session on ASNL services\n2:30-3:30pm – Slime making and Snacks\n3:30pm – Watch party – short video made by community members about what autism means to them – 3:30pm \nWe are still setting up and getting settled\, so we don’t have a lot in the space\, but we will have snacks 🙂 \ncontact: jkeefe@asnl.ca or apenney@asnl.ca
URL:https://asnl.ca/asnl-calendars/goose-bay-meet-and-greet/
END:VEVENT
BEGIN:VEVENT
DTSTART;TZID=UTC:20240426T183000
DTEND;TZID=UTC:20240426T193000
DTSTAMP:20260424T151820
CREATED:20240424T151052Z
LAST-MODIFIED:20240424T151119Z
UID:7173-1714156200-1714159800@asnl.ca
SUMMARY:SHESHATSHIU - Drop-In!
DESCRIPTION:SHESHATSHIU! Let’s Connect! \nASNL will be hosting a drop in for youth at the Ussiniun Youth Centre in Sheshatshiu on Friday\, April 26. \nTime: 330pm-430pm and 630pm-730pm \nWhat: Short presentation\nSlime making\nPizza
URL:https://asnl.ca/asnl-calendars/sheshatshiu-drop-in/
END:VEVENT
BEGIN:VEVENT
DTSTART;TZID=UTC:20240426T153000
DTEND;TZID=UTC:20240426T163000
DTSTAMP:20260424T151820
CREATED:20240424T151156Z
LAST-MODIFIED:20240424T151156Z
UID:7175-1714145400-1714149000@asnl.ca
SUMMARY:SHESHATSHIU - Drop-In!
DESCRIPTION:SHESHATSHIU! Let’s Connect! \nASNL will be hosting a drop in for youth at the Ussiniun Youth Centre in Sheshatshiu on Friday\, April 26. \nTime: 330pm-430pm and 630pm-730pm \nWhat: Short presentation\nSlime making\nPizza
URL:https://asnl.ca/asnl-calendars/sheshatshiu-drop-in-2/
END:VEVENT
BEGIN:VEVENT
DTSTART;TZID=UTC:20240425T200000
DTEND;TZID=UTC:20240425T213000
DTSTAMP:20260424T151820
CREATED:20240422T124145Z
LAST-MODIFIED:20240422T124145Z
UID:7141-1714075200-1714080600@asnl.ca
SUMMARY:VIRTUAL - Show and Tell Night
DESCRIPTION:Virtual Show and Tell Group\nA weekly drop in virtual show and tell group for autistic adults in Newfoundland and Labrador is starting Thursday\, April 11 from 8:00-9:30pm. Participants can pre-register in advance to present their collections\, virtual worlds\, art work\, creations\, other special interests or infodumps on a topic or special interest\, two to three participants can present each week\, and this will be an ongoing group as long as there is interest. To register\, please contact kwarren@asnl.ca.
URL:https://asnl.ca/asnl-calendars/virtual-show-and-tell-night/2024-04-25/
END:VEVENT
BEGIN:VEVENT
DTSTART;TZID=UTC:20240425T180000
DTEND;TZID=UTC:20240425T190000
DTSTAMP:20260424T151820
CREATED:20240422T124349Z
LAST-MODIFIED:20240422T124349Z
UID:7154-1714068000-1714071600@asnl.ca
SUMMARY:ST. JOHN'S - Drop-In Gaming Group
DESCRIPTION:Drop in Gaming Group\nA weekly drop in gaming group is starting at the St. John’s ASNL office on Thursday\, April 11 from 6:00-7:00pm.\nGroup is open to all ages\, for those participants who typically have a support person and/or are under the age of 10\, should have someone remain on site. Otherwise\, please provide emergency contact info the first session you attend. There will be two rooms set up for group\, one with a variety of board games and card games available\, there will be tables for both solo and group play. The other room has two TVs that participants can connect the ASNL switch or their own switch to. Games played on the TV must be rated E or E10+ as it is an all ages group.\nFor more information please contact kwarren@asnl.ca.
URL:https://asnl.ca/asnl-calendars/st-johns-drop-in-gaming-group/2024-04-25/
END:VEVENT
BEGIN:VEVENT
DTSTART;TZID=UTC:20240421T140000
DTEND;TZID=UTC:20240421T150000
DTSTAMP:20260424T151820
CREATED:20240422T124503Z
LAST-MODIFIED:20240422T124503Z
UID:7164-1713708000-1713711600@asnl.ca
SUMMARY:ST. JOHN'S - Danielle's Bday Party!
DESCRIPTION:Hello to all my friends\, and to all the friends who I have yet to meet!\nDanielle here\, ASNL’s Recreation Coordinator (St. John’s)! My birthday is coming up\, and I’ve had so much fun spending time with you at all the events we’ve had over the last year\, I wanted to invite you to my BIRTHDAY PARTY!!!\nDate: Sunday\, April 21st 2024\nTime: 2: 00 – 3:00 pm\nLocation: Southlands Community Centre\, 40 Teakwood Drive\, St. John’s NL\nWhat to expect:\nEVERYONE IS INVITED – Yes\, that means you (and your supportive people) too!!! This is an event for all ages\, and this party is not just for me – I want to celebrate with our ASNL Community! Care Giver accompaniment is required for my friends age 10 and under. We’ll have access to all the amazing play equipment and the multipurpose lobby space at Southlands Community Centre between 2:00 and 3:00 pm on Sunday\, April 21st. Loot bags will be available for the first 40 friends to RSVP to the party\, so be sure to fill out this form (https://forms.office.com/r/0KVrr6TNgT) to RSVP letting me know how many loot bags to set aside for you! We can accept more than 40 guests\, however after the first 40 RSVP’s\, no more loot bags will be available. We will not have balloons\, or any decorations\, but cake will be provided (and if you’d like to bring your own allergy safe snacks\, that is ok too)!!\nPresents are not expected\, only your presence (but if you feel strongly compelled to bring a gift\, we’ll graciously accept donations towards ASNL’s Physical Art Troupe)! \nI can’t wait to celebrate with you!
URL:https://asnl.ca/asnl-calendars/st-johns-danielles-bday-party/
END:VEVENT
BEGIN:VEVENT
DTSTART;TZID=UTC:20240419T173000
DTEND;TZID=UTC:20240419T183000
DTSTAMP:20260424T151820
CREATED:20240408T200436Z
LAST-MODIFIED:20240408T200436Z
UID:7115-1713547800-1713551400@asnl.ca
SUMMARY:GRAND FALLS - Open gymnastics
DESCRIPTION:ASNL has collaborated with Perfectly Centered Gymnastics to offer an OPEN GYM TIME gymnastics program once per month. This program will include a sensory friendly environment where participants can come and enjoy physical activity in a safe\, neuro-affirming environment. \nThe goal of this program is for participants to have FUN being themselves\, interact with friends\, and build confidence! \nApril 19\, 2024\, 530pm-630pm  \n\nLocation: 44 Hardy Ave\, Grand Falls-Windsor NL A2A 2P9 \nASNL’s new Rec Coordinator\, Elissa Chippett\, will be in attendance along with the Perfectly Centered program staff. \n  \nCost is $5 per participant. Parents or support people are asked to stay on site while the program is in session.
URL:https://asnl.ca/asnl-calendars/grand-falls-open-gymnastics/
END:VEVENT
BEGIN:VEVENT
DTSTART;TZID=UTC:20240411T200000
DTEND;TZID=UTC:20240411T213000
DTSTAMP:20260424T151820
CREATED:20240422T124145Z
LAST-MODIFIED:20240422T124145Z
UID:7138-1712865600-1712871000@asnl.ca
SUMMARY:VIRTUAL - Show and Tell Night
DESCRIPTION:Virtual Show and Tell Group\nA weekly drop in virtual show and tell group for autistic adults in Newfoundland and Labrador is starting Thursday\, April 11 from 8:00-9:30pm. Participants can pre-register in advance to present their collections\, virtual worlds\, art work\, creations\, other special interests or infodumps on a topic or special interest\, two to three participants can present each week\, and this will be an ongoing group as long as there is interest. To register\, please contact kwarren@asnl.ca.
URL:https://asnl.ca/asnl-calendars/virtual-show-and-tell-night/2024-04-11/
END:VEVENT
BEGIN:VEVENT
DTSTART;TZID=UTC:20240411T180000
DTEND;TZID=UTC:20240411T190000
DTSTAMP:20260424T151820
CREATED:20240422T124349Z
LAST-MODIFIED:20240422T124349Z
UID:7151-1712858400-1712862000@asnl.ca
SUMMARY:ST. JOHN'S - Drop-In Gaming Group
DESCRIPTION:Drop in Gaming Group\nA weekly drop in gaming group is starting at the St. John’s ASNL office on Thursday\, April 11 from 6:00-7:00pm.\nGroup is open to all ages\, for those participants who typically have a support person and/or are under the age of 10\, should have someone remain on site. Otherwise\, please provide emergency contact info the first session you attend. There will be two rooms set up for group\, one with a variety of board games and card games available\, there will be tables for both solo and group play. The other room has two TVs that participants can connect the ASNL switch or their own switch to. Games played on the TV must be rated E or E10+ as it is an all ages group.\nFor more information please contact kwarren@asnl.ca.
URL:https://asnl.ca/asnl-calendars/st-johns-drop-in-gaming-group/2024-04-11/
END:VEVENT
BEGIN:VEVENT
DTSTART;TZID=UTC:20240410T180000
DTEND;TZID=UTC:20240410T190000
DTSTAMP:20260424T151820
CREATED:20240422T124617Z
LAST-MODIFIED:20240422T124617Z
UID:7166-1712772000-1712775600@asnl.ca
SUMMARY:ST. JOHN'S - Community Garden
DESCRIPTION:ASNL has a community garden! Everyone welcome. First meeting for the Community Garden is April 10th @ 6pm @ The Elaine Dobbin Centre for Autism\, 70 Clinch Cres\, St. John’s. Discussion will include operating the community garden as a co-op\, what’s needed\, and skill sharing. \nSmall beds – $30\nLarge beds – $50
URL:https://asnl.ca/asnl-calendars/st-johns-community-garden/
END:VEVENT
BEGIN:VEVENT
DTSTART;TZID=UTC:20240407T180000
DTEND;TZID=UTC:20240407T203000
DTSTAMP:20260424T151820
CREATED:20240320T151203Z
LAST-MODIFIED:20240404T173445Z
UID:7009-1712512800-1712521800@asnl.ca
SUMMARY:ST. JOHN'S - The Spectacular PhArt Compendium!
DESCRIPTION:Come one\, come all to a show that might be even greater than the greatest show on earth!\n\n\n\nSAVE THE DATE!!!\nThe participants of ASNL’s Physical Art Troupe (PhArT) have been preparing a spectacular spectacle to share with you! Audience members can expect to see acrobats flipping and flying\, clowns clowning\, and jugglers having a ball in solo and group performances that have been developed by the performers especially for you\, their audience!\nTickets are $5 each and will go on sale Monday\, March 25th via Eventbrite. If cost is a barrier but you wish to attend\, contact Danielle@asnl.ca – a limited number of pay-what-you-can tickets have been made available for this event.\nThe Lantern 35 Barnes Rd\n\n\nTo purchase tickets and for more information please click HERE
URL:https://asnl.ca/asnl-calendars/st-johns-the-spectacular-phart-compendium/
END:VEVENT
BEGIN:VEVENT
DTSTART;VALUE=DATE:20240402
DTEND;VALUE=DATE:20240403
DTSTAMP:20260424T151820
CREATED:20240422T124722Z
LAST-MODIFIED:20240422T124722Z
UID:7168-1712016000-1712102399@asnl.ca
SUMMARY:WORLD AUTISM ACCEPTANCE DAY
DESCRIPTION:
URL:https://asnl.ca/asnl-calendars/world-autism-acceptance-day/
END:VEVENT
BEGIN:VEVENT
DTSTART;TZID=UTC:20240323T160000
DTEND;TZID=UTC:20240323T170000
DTSTAMP:20260424T151820
CREATED:20240308T160901Z
LAST-MODIFIED:20240308T160901Z
UID:6963-1711209600-1711213200@asnl.ca
SUMMARY:CORNER BROOK - Open Mat - Anchor Combat
DESCRIPTION:West coast families!\nAnchor Combat Academy located in Corner Brook (2 Herald Ave\, lower Millbrook Mall) has invited ASNL to join them on Saturday\, March 23 from 4:00pm-5:00pm for an open mat. This is a great opportunity to become familiar and experience different programs they offer. It is also a great time to meet some coaches who are willing to answer any questions you may have regarding their facility. There is no registration needed. Contact Jessica at jwyatt@asnl.ca for any questions or concerns.
URL:https://asnl.ca/asnl-calendars/corner-brook-open-mat-anchor-combat/
END:VEVENT
BEGIN:VEVENT
DTSTART;TZID=UTC:20240322T173000
DTEND;TZID=UTC:20240322T183000
DTSTAMP:20260424T151820
CREATED:20240308T163256Z
LAST-MODIFIED:20240308T163256Z
UID:6965-1711128600-1711132200@asnl.ca
SUMMARY:GRAND FALLS - Open gymnastics *registration required
DESCRIPTION:ASNL has collaborated with Perfectly Centered Gymnastics in Grand Falls to offer a gymnastics program once per month. This program will include a sensory friendly environment where participants can come and enjoy physical activity in a safe\, neuro-affirming environment. \n  \nThe goal of this program is for participants to have FUN and be themselves! \n  \n​**We want to take this opportunity to clarify that there are no criteria or questions from either organization for participation and encourage anyone interested to register and attend. \n  \nDATE: MARCH 22\, 2024\, 530pm-630pm  \n(Future dates TBD) \n  \nLocation: 44 Hardy Ave\, Grand Falls-Windsor NL A2A 2P9 \n  \nCost is $5 per participant. This is an all ages\, inclusive event. If there is a  parent or support person\, we ask them to stay on site while the program is in session. \n  \nForm link for registration: \n  \nhttps://forms.office.com/r/vZACpv5WY8 \n 
URL:https://asnl.ca/asnl-calendars/grand-falls-open-gymnastics-registration-required/
END:VEVENT
BEGIN:VEVENT
DTSTART;TZID=UTC:20240320T080000
DTEND;TZID=UTC:20240320T093000
DTSTAMP:20260424T151820
CREATED:20240207T192944Z
LAST-MODIFIED:20240308T163410Z
UID:6841-1710921600-1710927000@asnl.ca
SUMMARY:ST. JOHN'S - Breakfast with Andreae Callanan - International Women's Day *revised date
DESCRIPTION:Andreae Callanan holds a PhD in English from Memorial University\, and is a Vanier Canada and Pierre Elliott Trudeau Foundation scholar; her research focuses on the relationship between autism and poetry. Her 2021 poetry collection\, The Debt\, was a finalist for the Fred Cogswell Award for Excellence in Poetry and the E. J. Pratt Poetry Award. Andreae is co-convener of the Research and Knowledge Exchange Group on Autism at the NL Centre for Applied Health Research\, and poetry editor for Janus Unbound: Journal of Critical Studies. Currently\, Andreae is working on two book projects: a collection of essays exploring neurodivergent modes of paying attention\, and a volume of lectures on creative writing.
URL:https://asnl.ca/asnl-calendars/st-johns-breakfast-with-andreae-callanan-international-womens-day/
END:VEVENT
BEGIN:VEVENT
DTSTART;TZID=UTC:20240316T110000
DTEND;TZID=UTC:20240316T133000
DTSTAMP:20260424T151820
CREATED:20240320T152046Z
LAST-MODIFIED:20240320T152046Z
UID:7020-1710586800-1710595800@asnl.ca
SUMMARY:GANDER - Free Play
DESCRIPTION:Join us for Free play in Gander! This is an all-ages event where we will have different activities and games set up for participants to try. Reach out to ksnow@asnl.ca with any concerns/questions \n1 Brochen St
URL:https://asnl.ca/asnl-calendars/gander-free-play/2024-03-16/
END:VEVENT
BEGIN:VEVENT
DTSTART;TZID=UTC:20240309T140000
DTEND;TZID=UTC:20240309T160000
DTSTAMP:20260424T151820
CREATED:20240305T133638Z
LAST-MODIFIED:20240305T133638Z
UID:6957-1709992800-1710000000@asnl.ca
SUMMARY:CLARENVILLE - Recreation Exploration
DESCRIPTION:Join us for Recreation Exploration at our Clarenville office location\, 383 Memorial Drive. \nMarch 09th\,16\,and 23rd\, 2024 for play\, movement\, crafts\, socializing\, and fun! \n  \nregistration required through this link: https://forms.office.com/r/R2FA4hjst2
URL:https://asnl.ca/asnl-calendars/clarenville-recreation-exploration-2/2024-03-09/
END:VEVENT
BEGIN:VEVENT
DTSTART;TZID=UTC:20240303T133000
DTEND;TZID=UTC:20240303T153000
DTSTAMP:20260424T151820
CREATED:20240227T133537Z
LAST-MODIFIED:20240227T133537Z
UID:6923-1709472600-1709479800@asnl.ca
SUMMARY:ST. JOHN'S - Understanding Wonderland
DESCRIPTION:Join us for another journey down the rabbit hole with Alice and friends as our greenhouse is transformed into a fairytale world filled with stories\, activities\, and familiar characters brought to life by @NeurodynamicTheatrics. Throughout the event\, our hosts will make offerings of story circles\, arts and crafts\, dance parties\, tea parties\, and theatrics – oh my! \n70 Clinch Cres – Greenhouse\nTickets available here: https://www.eventbrite.ca/e/understanding-wonderland-and-other-neuro-affirming-stories-tickets-827450686277?aff=oddtdtcreator
URL:https://asnl.ca/asnl-calendars/st-johns-understanding-wonderland-2/
END:VEVENT
BEGIN:VEVENT
DTSTART;TZID=UTC:20240302T140000
DTEND;TZID=UTC:20240302T160000
DTSTAMP:20260424T151820
CREATED:20240227T132656Z
LAST-MODIFIED:20240227T132720Z
UID:6919-1709388000-1709395200@asnl.ca
SUMMARY:CLARENVILLE - ASNL Family Fire and fun event *registration needed
DESCRIPTION:Eastern ASNL will meet this Saturday March 02nd at 2pm for our Fire and Fun Event at Elizabeth Swan Park in Clarenville! \n  \nThere will be snow painting\, roasting wieners and marshmallows\, a scavenger hunt and playing at the playground. \n  \nPlease register at the link:  https://forms.office.com/r/s0Uub5Akxr \nall ages and abilities welcomed. This is a FREE EVENT. \n  \nWe look forward to seeing you there!
URL:https://asnl.ca/asnl-calendars/clarenville-asnl-family-fire-and-fun-event-registration-needed/
END:VEVENT
BEGIN:VEVENT
DTSTART;TZID=UTC:20240222T183000
DTEND;TZID=UTC:20240222T200000
DTSTAMP:20260424T151820
CREATED:20240131T160718Z
LAST-MODIFIED:20240131T160718Z
UID:6815-1708626600-1708632000@asnl.ca
SUMMARY:GRAND FALLS WINDSOR - Bowling *registration details included
DESCRIPTION:Come bowl with us at Exploits Lanes\, Grand falls-Windsor.\nAll ages/abilities welcome.\nThursdays\, 6:30pm-8:00pm. Dates listed below:\nFebruary 22\nFebruary 29\nMarch 7\nMarch 14\nSpace is limited and will be on first come first serve basis.\n(10.00/person fee will cover the four-week program)\nSensory friendly\nTo register or for more information\ncontact Kristi ksparkes@asnl.ca
URL:https://asnl.ca/asnl-calendars/grand-falls-windsor-bowling-registration-details-included/2024-02-22/
END:VEVENT
BEGIN:VEVENT
DTSTART;TZID=UTC:20240218T130000
DTEND;TZID=UTC:20240218T150000
DTSTAMP:20260424T151820
CREATED:20240208T151913Z
LAST-MODIFIED:20240208T151913Z
UID:6844-1708261200-1708268400@asnl.ca
SUMMARY:CORNER BROOK- Snowshoeing
DESCRIPTION:West coast families!! \nAfter all the snow we’ve had why don’t we make the best of it? Please join us for snowshoeing at the Blomidon Golf course on February 18th \nWe will meet in the parking lot at the Blomidon golf course at 1:00pm. \nPlease provide your own snowshoes\, if possible. Contact Jessica at jwyatt@asnl.ca for any questions or concerns. \nIf the weather is not looking good the morning of\, I will send out an email by 11:00am to cancel and reschedule for a better day.
URL:https://asnl.ca/asnl-calendars/corner-brook-snowshoeing/
END:VEVENT
BEGIN:VEVENT
DTSTART;TZID=UTC:20240218T130000
DTEND;TZID=UTC:20240218T150000
DTSTAMP:20260424T151820
CREATED:20240131T161129Z
LAST-MODIFIED:20240131T161144Z
UID:6822-1708261200-1708268400@asnl.ca
SUMMARY:ST. JOHN'S - Silent Disco!
DESCRIPTION:Silent Disco Event!! allow for more individualized experiences within a shared space: instead of playing live music through loud speakers\, music is via headphones instead! free of charge Email danielle@asnl.ca with any ques. \n70 clinch cres
URL:https://asnl.ca/asnl-calendars/st-johns-silent-disco/
END:VEVENT
BEGIN:VEVENT
DTSTART;TZID=UTC:20240209T173000
DTEND;TZID=UTC:20240209T183000
DTSTAMP:20260424T151820
CREATED:20240131T160909Z
LAST-MODIFIED:20240131T160909Z
UID:6820-1707499800-1707503400@asnl.ca
SUMMARY:GRAND FALLS WINDSOR - gymnastics
DESCRIPTION:Grand falls- Windsor!\nJoin us at Perfectly Centered Gymnastics for a sensory friendly gymnastics’ session on Friday\, February 9th from 5:30-6:30!\nHope to see you there!\n$5 If cost is a barrier\, please contact ksparkes@asnl.ca\nCanadian Tire Jumpstart Charities
URL:https://asnl.ca/asnl-calendars/grand-falls-windsor-gymnastics/
END:VEVENT
BEGIN:VEVENT
DTSTART;TZID=UTC:20240203T140000
DTEND;TZID=UTC:20240203T160000
DTSTAMP:20260424T151820
CREATED:20240131T154826Z
LAST-MODIFIED:20240131T155228Z
UID:6803-1706968800-1706976000@asnl.ca
SUMMARY:CLARENVILLE - Recreation Exploration
DESCRIPTION:Recreation Exploration\nvariety of activities at ASNL Clarenville Resource Centre.\n\n\nWhen: Sat\, 2-4pm\, Feb 3rd\, 10th\,17th and 24th\,2024.\nWhere: 383 Memorial Drive\, Clarenville.\nContact: afillier@asnl.ca for more information.\nRegistration required: https://forms.office.com/r/tfxGCz6PGW
URL:https://asnl.ca/asnl-calendars/clarenville-recreation-exploration/2024-02-03/
END:VEVENT
END:VCALENDAR