BEGIN:VCALENDAR
VERSION:2.0
PRODID:-//asnl - ECPv5.16.4//NONSGML v1.0//EN
CALSCALE:GREGORIAN
METHOD:PUBLISH
X-ORIGINAL-URL:https://asnl.ca
X-WR-CALDESC:Events for asnl
REFRESH-INTERVAL;VALUE=DURATION:PT1H
X-Robots-Tag:noindex
X-PUBLISHED-TTL:PT1H
BEGIN:VTIMEZONE
TZID:UTC
BEGIN:STANDARD
TZOFFSETFROM:+0000
TZOFFSETTO:+0000
TZNAME:UTC
DTSTART:20270101T000000
END:STANDARD
END:VTIMEZONE
BEGIN:VEVENT
DTSTART;TZID=UTC:20270506T193000
DTEND;TZID=UTC:20270506T203000
DTSTAMP:20260422T214702
CREATED:20230929T123058Z
LAST-MODIFIED:20230929T123058Z
UID:8023-1809631800-1809635400@asnl.ca
SUMMARY:CORNER BROOK - Adult Autistic Support Group (50 Main Street)
DESCRIPTION:Adult Autistic Support Group – Corner Brook \nBiweekly – Thursdays 730-830
URL:https://asnl.ca/asnl-calendars/corner-brook-adult-autistic-support-group-50-main-street/2027-05-06/
END:VEVENT
BEGIN:VEVENT
DTSTART;TZID=UTC:20270520T183000
DTEND;TZID=UTC:20270520T203000
DTSTAMP:20260422T214702
CREATED:20230929T121722Z
LAST-MODIFIED:20230929T121722Z
UID:8027-1810837800-1810845000@asnl.ca
SUMMARY:ST. JOHN'S - Connections - In-Person (70 Clinch Cres)
DESCRIPTION:Connections: \nVirtual – 2nd and 4th Monday of each month 630-830 \nAt ASNL St. John’s – every 3rd Thursday of the month \nIn person in community outing St. John’s – 1st Monday of each month
URL:https://asnl.ca/asnl-calendars/st-johns-connections-in-person-70-clinch-cres/2027-05-20/
END:VEVENT
BEGIN:VEVENT
DTSTART;TZID=UTC:20270520T193000
DTEND;TZID=UTC:20270520T203000
DTSTAMP:20260422T214702
CREATED:20230929T123058Z
LAST-MODIFIED:20230929T123058Z
UID:8028-1810841400-1810845000@asnl.ca
SUMMARY:CORNER BROOK - Adult Autistic Support Group (50 Main Street)
DESCRIPTION:Adult Autistic Support Group – Corner Brook \nBiweekly – Thursdays 730-830
URL:https://asnl.ca/asnl-calendars/corner-brook-adult-autistic-support-group-50-main-street/2027-05-20/
END:VEVENT
BEGIN:VEVENT
DTSTART;TZID=UTC:20270603T193000
DTEND;TZID=UTC:20270603T203000
DTSTAMP:20260422T214702
CREATED:20230929T123058Z
LAST-MODIFIED:20230929T123058Z
UID:8061-1812051000-1812054600@asnl.ca
SUMMARY:CORNER BROOK - Adult Autistic Support Group (50 Main Street)
DESCRIPTION:Adult Autistic Support Group – Corner Brook \nBiweekly – Thursdays 730-830
URL:https://asnl.ca/asnl-calendars/corner-brook-adult-autistic-support-group-50-main-street/2027-06-03/
END:VEVENT
BEGIN:VEVENT
DTSTART;TZID=UTC:20270617T183000
DTEND;TZID=UTC:20270617T203000
DTSTAMP:20260422T214702
CREATED:20230929T121722Z
LAST-MODIFIED:20230929T121722Z
UID:8094-1813257000-1813264200@asnl.ca
SUMMARY:ST. JOHN'S - Connections - In-Person (70 Clinch Cres)
DESCRIPTION:Connections: \nVirtual – 2nd and 4th Monday of each month 630-830 \nAt ASNL St. John’s – every 3rd Thursday of the month \nIn person in community outing St. John’s – 1st Monday of each month
URL:https://asnl.ca/asnl-calendars/st-johns-connections-in-person-70-clinch-cres/2027-06-17/
END:VEVENT
BEGIN:VEVENT
DTSTART;TZID=UTC:20270617T193000
DTEND;TZID=UTC:20270617T203000
DTSTAMP:20260422T214702
CREATED:20230929T123058Z
LAST-MODIFIED:20230929T123058Z
UID:8095-1813260600-1813264200@asnl.ca
SUMMARY:CORNER BROOK - Adult Autistic Support Group (50 Main Street)
DESCRIPTION:Adult Autistic Support Group – Corner Brook \nBiweekly – Thursdays 730-830
URL:https://asnl.ca/asnl-calendars/corner-brook-adult-autistic-support-group-50-main-street/2027-06-17/
END:VEVENT
BEGIN:VEVENT
DTSTART;TZID=UTC:20270701T193000
DTEND;TZID=UTC:20270701T203000
DTSTAMP:20260422T214702
CREATED:20230929T123058Z
LAST-MODIFIED:20230929T123058Z
UID:8096-1814470200-1814473800@asnl.ca
SUMMARY:CORNER BROOK - Adult Autistic Support Group (50 Main Street)
DESCRIPTION:Adult Autistic Support Group – Corner Brook \nBiweekly – Thursdays 730-830
URL:https://asnl.ca/asnl-calendars/corner-brook-adult-autistic-support-group-50-main-street/2027-07-01/
END:VEVENT
BEGIN:VEVENT
DTSTART;TZID=UTC:20270715T183000
DTEND;TZID=UTC:20270715T203000
DTSTAMP:20260422T214702
CREATED:20230929T121722Z
LAST-MODIFIED:20230929T121722Z
UID:8227-1815676200-1815683400@asnl.ca
SUMMARY:ST. JOHN'S - Connections - In-Person (70 Clinch Cres)
DESCRIPTION:Connections: \nVirtual – 2nd and 4th Monday of each month 630-830 \nAt ASNL St. John’s – every 3rd Thursday of the month \nIn person in community outing St. John’s – 1st Monday of each month
URL:https://asnl.ca/asnl-calendars/st-johns-connections-in-person-70-clinch-cres/2027-07-15/
END:VEVENT
BEGIN:VEVENT
DTSTART;TZID=UTC:20270715T193000
DTEND;TZID=UTC:20270715T203000
DTSTAMP:20260422T214702
CREATED:20230929T123058Z
LAST-MODIFIED:20230929T123058Z
UID:8228-1815679800-1815683400@asnl.ca
SUMMARY:CORNER BROOK - Adult Autistic Support Group (50 Main Street)
DESCRIPTION:Adult Autistic Support Group – Corner Brook \nBiweekly – Thursdays 730-830
URL:https://asnl.ca/asnl-calendars/corner-brook-adult-autistic-support-group-50-main-street/2027-07-15/
END:VEVENT
BEGIN:VEVENT
DTSTART;TZID=UTC:20270729T193000
DTEND;TZID=UTC:20270729T203000
DTSTAMP:20260422T214702
CREATED:20230929T123058Z
LAST-MODIFIED:20230929T123058Z
UID:8243-1816889400-1816893000@asnl.ca
SUMMARY:CORNER BROOK - Adult Autistic Support Group (50 Main Street)
DESCRIPTION:Adult Autistic Support Group – Corner Brook \nBiweekly – Thursdays 730-830
URL:https://asnl.ca/asnl-calendars/corner-brook-adult-autistic-support-group-50-main-street/2027-07-29/
END:VEVENT
BEGIN:VEVENT
DTSTART;TZID=UTC:20270812T193000
DTEND;TZID=UTC:20270812T203000
DTSTAMP:20260422T214702
CREATED:20230929T123058Z
LAST-MODIFIED:20230929T123058Z
UID:8252-1818099000-1818102600@asnl.ca
SUMMARY:CORNER BROOK - Adult Autistic Support Group (50 Main Street)
DESCRIPTION:Adult Autistic Support Group – Corner Brook \nBiweekly – Thursdays 730-830
URL:https://asnl.ca/asnl-calendars/corner-brook-adult-autistic-support-group-50-main-street/2027-08-12/
END:VEVENT
BEGIN:VEVENT
DTSTART;TZID=UTC:20270819T183000
DTEND;TZID=UTC:20270819T203000
DTSTAMP:20260422T214702
CREATED:20230929T121722Z
LAST-MODIFIED:20230929T121722Z
UID:8273-1818700200-1818707400@asnl.ca
SUMMARY:ST. JOHN'S - Connections - In-Person (70 Clinch Cres)
DESCRIPTION:Connections: \nVirtual – 2nd and 4th Monday of each month 630-830 \nAt ASNL St. John’s – every 3rd Thursday of the month \nIn person in community outing St. John’s – 1st Monday of each month
URL:https://asnl.ca/asnl-calendars/st-johns-connections-in-person-70-clinch-cres/2027-08-19/
END:VEVENT
BEGIN:VEVENT
DTSTART;TZID=UTC:20270826T193000
DTEND;TZID=UTC:20270826T203000
DTSTAMP:20260422T214702
CREATED:20230929T123058Z
LAST-MODIFIED:20230929T123058Z
UID:8278-1819308600-1819312200@asnl.ca
SUMMARY:CORNER BROOK - Adult Autistic Support Group (50 Main Street)
DESCRIPTION:Adult Autistic Support Group – Corner Brook \nBiweekly – Thursdays 730-830
URL:https://asnl.ca/asnl-calendars/corner-brook-adult-autistic-support-group-50-main-street/2027-08-26/
END:VEVENT
BEGIN:VEVENT
DTSTART;TZID=UTC:20270909T193000
DTEND;TZID=UTC:20270909T203000
DTSTAMP:20260422T214702
CREATED:20230929T123058Z
LAST-MODIFIED:20230929T123058Z
UID:8282-1820518200-1820521800@asnl.ca
SUMMARY:CORNER BROOK - Adult Autistic Support Group (50 Main Street)
DESCRIPTION:Adult Autistic Support Group – Corner Brook \nBiweekly – Thursdays 730-830
URL:https://asnl.ca/asnl-calendars/corner-brook-adult-autistic-support-group-50-main-street/2027-09-09/
END:VEVENT
BEGIN:VEVENT
DTSTART;TZID=UTC:20270916T183000
DTEND;TZID=UTC:20270916T203000
DTSTAMP:20260422T214702
CREATED:20230929T121722Z
LAST-MODIFIED:20230929T121722Z
UID:8302-1821119400-1821126600@asnl.ca
SUMMARY:ST. JOHN'S - Connections - In-Person (70 Clinch Cres)
DESCRIPTION:Connections: \nVirtual – 2nd and 4th Monday of each month 630-830 \nAt ASNL St. John’s – every 3rd Thursday of the month \nIn person in community outing St. John’s – 1st Monday of each month
URL:https://asnl.ca/asnl-calendars/st-johns-connections-in-person-70-clinch-cres/2027-09-16/
END:VEVENT
BEGIN:VEVENT
DTSTART;TZID=UTC:20270923T193000
DTEND;TZID=UTC:20270923T203000
DTSTAMP:20260422T214702
CREATED:20230929T123058Z
LAST-MODIFIED:20230929T123058Z
UID:8310-1821727800-1821731400@asnl.ca
SUMMARY:CORNER BROOK - Adult Autistic Support Group (50 Main Street)
DESCRIPTION:Adult Autistic Support Group – Corner Brook \nBiweekly – Thursdays 730-830
URL:https://asnl.ca/asnl-calendars/corner-brook-adult-autistic-support-group-50-main-street/2027-09-23/
END:VEVENT
BEGIN:VEVENT
DTSTART;TZID=UTC:20271007T193000
DTEND;TZID=UTC:20271007T203000
DTSTAMP:20260422T214702
CREATED:20230929T123058Z
LAST-MODIFIED:20230929T123058Z
UID:8327-1822937400-1822941000@asnl.ca
SUMMARY:CORNER BROOK - Adult Autistic Support Group (50 Main Street)
DESCRIPTION:Adult Autistic Support Group – Corner Brook \nBiweekly – Thursdays 730-830
URL:https://asnl.ca/asnl-calendars/corner-brook-adult-autistic-support-group-50-main-street/2027-10-07/
END:VEVENT
BEGIN:VEVENT
DTSTART;TZID=UTC:20271021T183000
DTEND;TZID=UTC:20271021T203000
DTSTAMP:20260422T214702
CREATED:20230929T121722Z
LAST-MODIFIED:20230929T121722Z
UID:8346-1824143400-1824150600@asnl.ca
SUMMARY:ST. JOHN'S - Connections - In-Person (70 Clinch Cres)
DESCRIPTION:Connections: \nVirtual – 2nd and 4th Monday of each month 630-830 \nAt ASNL St. John’s – every 3rd Thursday of the month \nIn person in community outing St. John’s – 1st Monday of each month
URL:https://asnl.ca/asnl-calendars/st-johns-connections-in-person-70-clinch-cres/2027-10-21/
END:VEVENT
BEGIN:VEVENT
DTSTART;TZID=UTC:20271021T193000
DTEND;TZID=UTC:20271021T203000
DTSTAMP:20260422T214702
CREATED:20230929T123058Z
LAST-MODIFIED:20230929T123058Z
UID:8347-1824147000-1824150600@asnl.ca
SUMMARY:CORNER BROOK - Adult Autistic Support Group (50 Main Street)
DESCRIPTION:Adult Autistic Support Group – Corner Brook \nBiweekly – Thursdays 730-830
URL:https://asnl.ca/asnl-calendars/corner-brook-adult-autistic-support-group-50-main-street/2027-10-21/
END:VEVENT
BEGIN:VEVENT
DTSTART;TZID=UTC:20271104T193000
DTEND;TZID=UTC:20271104T203000
DTSTAMP:20260422T214702
CREATED:20230929T123058Z
LAST-MODIFIED:20230929T123058Z
UID:8379-1825356600-1825360200@asnl.ca
SUMMARY:CORNER BROOK - Adult Autistic Support Group (50 Main Street)
DESCRIPTION:Adult Autistic Support Group – Corner Brook \nBiweekly – Thursdays 730-830
URL:https://asnl.ca/asnl-calendars/corner-brook-adult-autistic-support-group-50-main-street/2027-11-04/
END:VEVENT
BEGIN:VEVENT
DTSTART;TZID=UTC:20271118T183000
DTEND;TZID=UTC:20271118T203000
DTSTAMP:20260422T214702
CREATED:20230929T121722Z
LAST-MODIFIED:20230929T121722Z
UID:8386-1826562600-1826569800@asnl.ca
SUMMARY:ST. JOHN'S - Connections - In-Person (70 Clinch Cres)
DESCRIPTION:Connections: \nVirtual – 2nd and 4th Monday of each month 630-830 \nAt ASNL St. John’s – every 3rd Thursday of the month \nIn person in community outing St. John’s – 1st Monday of each month
URL:https://asnl.ca/asnl-calendars/st-johns-connections-in-person-70-clinch-cres/2027-11-18/
END:VEVENT
BEGIN:VEVENT
DTSTART;TZID=UTC:20271118T193000
DTEND;TZID=UTC:20271118T203000
DTSTAMP:20260422T214702
CREATED:20230929T123058Z
LAST-MODIFIED:20230929T123058Z
UID:8387-1826566200-1826569800@asnl.ca
SUMMARY:CORNER BROOK - Adult Autistic Support Group (50 Main Street)
DESCRIPTION:Adult Autistic Support Group – Corner Brook \nBiweekly – Thursdays 730-830
URL:https://asnl.ca/asnl-calendars/corner-brook-adult-autistic-support-group-50-main-street/2027-11-18/
END:VEVENT
BEGIN:VEVENT
DTSTART;TZID=UTC:20271202T193000
DTEND;TZID=UTC:20271202T203000
DTSTAMP:20260422T214702
CREATED:20230929T123058Z
LAST-MODIFIED:20230929T123058Z
UID:8396-1827775800-1827779400@asnl.ca
SUMMARY:CORNER BROOK - Adult Autistic Support Group (50 Main Street)
DESCRIPTION:Adult Autistic Support Group – Corner Brook \nBiweekly – Thursdays 730-830
URL:https://asnl.ca/asnl-calendars/corner-brook-adult-autistic-support-group-50-main-street/2027-12-02/
END:VEVENT
BEGIN:VEVENT
DTSTART;TZID=UTC:20271216T183000
DTEND;TZID=UTC:20271216T203000
DTSTAMP:20260422T214702
CREATED:20230929T121722Z
LAST-MODIFIED:20230929T121722Z
UID:8399-1828981800-1828989000@asnl.ca
SUMMARY:ST. JOHN'S - Connections - In-Person (70 Clinch Cres)
DESCRIPTION:Connections: \nVirtual – 2nd and 4th Monday of each month 630-830 \nAt ASNL St. John’s – every 3rd Thursday of the month \nIn person in community outing St. John’s – 1st Monday of each month
URL:https://asnl.ca/asnl-calendars/st-johns-connections-in-person-70-clinch-cres/2027-12-16/
END:VEVENT
BEGIN:VEVENT
DTSTART;TZID=UTC:20271216T193000
DTEND;TZID=UTC:20271216T203000
DTSTAMP:20260422T214702
CREATED:20230929T123058Z
LAST-MODIFIED:20230929T123058Z
UID:8400-1828985400-1828989000@asnl.ca
SUMMARY:CORNER BROOK - Adult Autistic Support Group (50 Main Street)
DESCRIPTION:Adult Autistic Support Group – Corner Brook \nBiweekly – Thursdays 730-830
URL:https://asnl.ca/asnl-calendars/corner-brook-adult-autistic-support-group-50-main-street/2027-12-16/
END:VEVENT
BEGIN:VEVENT
DTSTART;TZID=UTC:20271230T193000
DTEND;TZID=UTC:20271230T203000
DTSTAMP:20260422T214702
CREATED:20230929T123058Z
LAST-MODIFIED:20230929T123058Z
UID:8403-1830195000-1830198600@asnl.ca
SUMMARY:CORNER BROOK - Adult Autistic Support Group (50 Main Street)
DESCRIPTION:Adult Autistic Support Group – Corner Brook \nBiweekly – Thursdays 730-830
URL:https://asnl.ca/asnl-calendars/corner-brook-adult-autistic-support-group-50-main-street/2027-12-30/
END:VEVENT
BEGIN:VEVENT
DTSTART;TZID=UTC:20280113T193000
DTEND;TZID=UTC:20280113T203000
DTSTAMP:20260422T214702
CREATED:20230929T123058Z
LAST-MODIFIED:20230929T123058Z
UID:8412-1831404600-1831408200@asnl.ca
SUMMARY:CORNER BROOK - Adult Autistic Support Group (50 Main Street)
DESCRIPTION:Adult Autistic Support Group – Corner Brook \nBiweekly – Thursdays 730-830
URL:https://asnl.ca/asnl-calendars/corner-brook-adult-autistic-support-group-50-main-street/2028-01-13/
END:VEVENT
BEGIN:VEVENT
DTSTART;TZID=UTC:20280120T183000
DTEND;TZID=UTC:20280120T203000
DTSTAMP:20260422T214702
CREATED:20230929T121722Z
LAST-MODIFIED:20230929T121722Z
UID:8416-1832005800-1832013000@asnl.ca
SUMMARY:ST. JOHN'S - Connections - In-Person (70 Clinch Cres)
DESCRIPTION:Connections: \nVirtual – 2nd and 4th Monday of each month 630-830 \nAt ASNL St. John’s – every 3rd Thursday of the month \nIn person in community outing St. John’s – 1st Monday of each month
URL:https://asnl.ca/asnl-calendars/st-johns-connections-in-person-70-clinch-cres/2028-01-20/
END:VEVENT
BEGIN:VEVENT
DTSTART;TZID=UTC:20280127T193000
DTEND;TZID=UTC:20280127T203000
DTSTAMP:20260422T214702
CREATED:20230929T123058Z
LAST-MODIFIED:20230929T123058Z
UID:8419-1832614200-1832617800@asnl.ca
SUMMARY:CORNER BROOK - Adult Autistic Support Group (50 Main Street)
DESCRIPTION:Adult Autistic Support Group – Corner Brook \nBiweekly – Thursdays 730-830
URL:https://asnl.ca/asnl-calendars/corner-brook-adult-autistic-support-group-50-main-street/2028-01-27/
END:VEVENT
BEGIN:VEVENT
DTSTART;TZID=UTC:20280210T193000
DTEND;TZID=UTC:20280210T203000
DTSTAMP:20260422T214702
CREATED:20230929T123058Z
LAST-MODIFIED:20230929T123058Z
UID:8437-1833823800-1833827400@asnl.ca
SUMMARY:CORNER BROOK - Adult Autistic Support Group (50 Main Street)
DESCRIPTION:Adult Autistic Support Group – Corner Brook \nBiweekly – Thursdays 730-830
URL:https://asnl.ca/asnl-calendars/corner-brook-adult-autistic-support-group-50-main-street/2028-02-10/
END:VEVENT
END:VCALENDAR