BEGIN:VCALENDAR
VERSION:2.0
PRODID:-//asnl - ECPv5.16.4//NONSGML v1.0//EN
CALSCALE:GREGORIAN
METHOD:PUBLISH
X-WR-CALNAME:asnl
X-ORIGINAL-URL:https://asnl.ca
X-WR-CALDESC:Events for asnl
REFRESH-INTERVAL;VALUE=DURATION:PT1H
X-Robots-Tag:noindex
X-PUBLISHED-TTL:PT1H
BEGIN:VTIMEZONE
TZID:UTC
BEGIN:STANDARD
TZOFFSETFROM:+0000
TZOFFSETTO:+0000
TZNAME:UTC
DTSTART:20250101T000000
END:STANDARD
END:VTIMEZONE
BEGIN:VEVENT
DTSTART;TZID=UTC:20260319T183000
DTEND;TZID=UTC:20260319T203000
DTSTAMP:20260422T224757
CREATED:20230929T121722Z
LAST-MODIFIED:20230929T121722Z
UID:7007-1773945000-1773952200@asnl.ca
SUMMARY:ST. JOHN'S - Connections - In-Person (70 Clinch Cres)
DESCRIPTION:Connections: \nVirtual – 2nd and 4th Monday of each month 630-830 \nAt ASNL St. John’s – every 3rd Thursday of the month \nIn person in community outing St. John’s – 1st Monday of each month
URL:https://asnl.ca/asnl-calendars/st-johns-connections-in-person-70-clinch-cres/2026-03-19/
END:VEVENT
BEGIN:VEVENT
DTSTART;TZID=UTC:20260312T193000
DTEND;TZID=UTC:20260312T203000
DTSTAMP:20260422T224757
CREATED:20230929T123058Z
LAST-MODIFIED:20230929T123058Z
UID:7915-1773343800-1773347400@asnl.ca
SUMMARY:CORNER BROOK - Adult Autistic Support Group (50 Main Street)
DESCRIPTION:Adult Autistic Support Group – Corner Brook \nBiweekly – Thursdays 730-830
URL:https://asnl.ca/asnl-calendars/corner-brook-adult-autistic-support-group-50-main-street/2026-03-12/
END:VEVENT
BEGIN:VEVENT
DTSTART;TZID=UTC:20260226T193000
DTEND;TZID=UTC:20260226T203000
DTSTAMP:20260422T224757
CREATED:20230929T123058Z
LAST-MODIFIED:20230929T123058Z
UID:7914-1772134200-1772137800@asnl.ca
SUMMARY:CORNER BROOK - Adult Autistic Support Group (50 Main Street)
DESCRIPTION:Adult Autistic Support Group – Corner Brook \nBiweekly – Thursdays 730-830
URL:https://asnl.ca/asnl-calendars/corner-brook-adult-autistic-support-group-50-main-street/2026-02-26/
END:VEVENT
BEGIN:VEVENT
DTSTART;TZID=UTC:20260224T190000
DTEND;TZID=UTC:20260224T203000
DTSTAMP:20260422T224757
CREATED:20250707T164704Z
LAST-MODIFIED:20250707T164704Z
UID:8195-1771959600-1771965000@asnl.ca
SUMMARY:CORNER BROOK - PARENT/CAREGIVER SUPPORT GROUP
DESCRIPTION:CORNER BROOK!Are you a parent or Caregiver looking for supports from other parents? If so\, we are happy to invite you to join us on the last Tuesday of each month\, beginning June 24th for our in-person parent support group.There is no registration needed for this\, if you have any questions or concerns\, please contact Jessica at jwyatt@asnl.ca
URL:https://asnl.ca/asnl-calendars/corner-brook-parent-caregiver-support-group/2026-02-24/
END:VEVENT
BEGIN:VEVENT
DTSTART;TZID=UTC:20260219T183000
DTEND;TZID=UTC:20260219T203000
DTSTAMP:20260422T224757
CREATED:20230929T121722Z
LAST-MODIFIED:20230929T121722Z
UID:6871-1771525800-1771533000@asnl.ca
SUMMARY:ST. JOHN'S - Connections - In-Person (70 Clinch Cres)
DESCRIPTION:Connections: \nVirtual – 2nd and 4th Monday of each month 630-830 \nAt ASNL St. John’s – every 3rd Thursday of the month \nIn person in community outing St. John’s – 1st Monday of each month
URL:https://asnl.ca/asnl-calendars/st-johns-connections-in-person-70-clinch-cres/2026-02-19/
END:VEVENT
BEGIN:VEVENT
DTSTART;TZID=UTC:20260212T193000
DTEND;TZID=UTC:20260212T203000
DTSTAMP:20260422T224757
CREATED:20230929T123058Z
LAST-MODIFIED:20230929T123058Z
UID:7913-1770924600-1770928200@asnl.ca
SUMMARY:CORNER BROOK - Adult Autistic Support Group (50 Main Street)
DESCRIPTION:Adult Autistic Support Group – Corner Brook \nBiweekly – Thursdays 730-830
URL:https://asnl.ca/asnl-calendars/corner-brook-adult-autistic-support-group-50-main-street/2026-02-12/
END:VEVENT
BEGIN:VEVENT
DTSTART;TZID=UTC:20260129T193000
DTEND;TZID=UTC:20260129T203000
DTSTAMP:20260422T224757
CREATED:20230929T123058Z
LAST-MODIFIED:20230929T123058Z
UID:7912-1769715000-1769718600@asnl.ca
SUMMARY:CORNER BROOK - Adult Autistic Support Group (50 Main Street)
DESCRIPTION:Adult Autistic Support Group – Corner Brook \nBiweekly – Thursdays 730-830
URL:https://asnl.ca/asnl-calendars/corner-brook-adult-autistic-support-group-50-main-street/2026-01-29/
END:VEVENT
BEGIN:VEVENT
DTSTART;TZID=UTC:20260127T190000
DTEND;TZID=UTC:20260127T203000
DTSTAMP:20260422T224757
CREATED:20250707T164704Z
LAST-MODIFIED:20250707T164704Z
UID:8194-1769540400-1769545800@asnl.ca
SUMMARY:CORNER BROOK - PARENT/CAREGIVER SUPPORT GROUP
DESCRIPTION:CORNER BROOK!Are you a parent or Caregiver looking for supports from other parents? If so\, we are happy to invite you to join us on the last Tuesday of each month\, beginning June 24th for our in-person parent support group.There is no registration needed for this\, if you have any questions or concerns\, please contact Jessica at jwyatt@asnl.ca
URL:https://asnl.ca/asnl-calendars/corner-brook-parent-caregiver-support-group/2026-01-27/
END:VEVENT
BEGIN:VEVENT
DTSTART;TZID=UTC:20260115T193000
DTEND;TZID=UTC:20260115T203000
DTSTAMP:20260422T224757
CREATED:20230929T123058Z
LAST-MODIFIED:20230929T123058Z
UID:7911-1768505400-1768509000@asnl.ca
SUMMARY:CORNER BROOK - Adult Autistic Support Group (50 Main Street)
DESCRIPTION:Adult Autistic Support Group – Corner Brook \nBiweekly – Thursdays 730-830
URL:https://asnl.ca/asnl-calendars/corner-brook-adult-autistic-support-group-50-main-street/2026-01-15/
END:VEVENT
BEGIN:VEVENT
DTSTART;TZID=UTC:20260115T183000
DTEND;TZID=UTC:20260115T203000
DTSTAMP:20260422T224757
CREATED:20230929T121722Z
LAST-MODIFIED:20230929T121722Z
UID:6774-1768501800-1768509000@asnl.ca
SUMMARY:ST. JOHN'S - Connections - In-Person (70 Clinch Cres)
DESCRIPTION:Connections: \nVirtual – 2nd and 4th Monday of each month 630-830 \nAt ASNL St. John’s – every 3rd Thursday of the month \nIn person in community outing St. John’s – 1st Monday of each month
URL:https://asnl.ca/asnl-calendars/st-johns-connections-in-person-70-clinch-cres/2026-01-15/
END:VEVENT
BEGIN:VEVENT
DTSTART;TZID=UTC:20260101T193000
DTEND;TZID=UTC:20260101T203000
DTSTAMP:20260422T224757
CREATED:20230929T123058Z
LAST-MODIFIED:20230929T123058Z
UID:7910-1767295800-1767299400@asnl.ca
SUMMARY:CORNER BROOK - Adult Autistic Support Group (50 Main Street)
DESCRIPTION:Adult Autistic Support Group – Corner Brook \nBiweekly – Thursdays 730-830
URL:https://asnl.ca/asnl-calendars/corner-brook-adult-autistic-support-group-50-main-street/2026-01-01/
END:VEVENT
BEGIN:VEVENT
DTSTART;TZID=UTC:20251230T190000
DTEND;TZID=UTC:20251230T203000
DTSTAMP:20260422T224757
CREATED:20250707T164704Z
LAST-MODIFIED:20250707T164704Z
UID:8193-1767121200-1767126600@asnl.ca
SUMMARY:CORNER BROOK - PARENT/CAREGIVER SUPPORT GROUP
DESCRIPTION:CORNER BROOK!Are you a parent or Caregiver looking for supports from other parents? If so\, we are happy to invite you to join us on the last Tuesday of each month\, beginning June 24th for our in-person parent support group.There is no registration needed for this\, if you have any questions or concerns\, please contact Jessica at jwyatt@asnl.ca
URL:https://asnl.ca/asnl-calendars/corner-brook-parent-caregiver-support-group/2025-12-30/
END:VEVENT
BEGIN:VEVENT
DTSTART;TZID=UTC:20251218T193000
DTEND;TZID=UTC:20251218T203000
DTSTAMP:20260422T224757
CREATED:20230929T123058Z
LAST-MODIFIED:20230929T123058Z
UID:7909-1766086200-1766089800@asnl.ca
SUMMARY:CORNER BROOK - Adult Autistic Support Group (50 Main Street)
DESCRIPTION:Adult Autistic Support Group – Corner Brook \nBiweekly – Thursdays 730-830
URL:https://asnl.ca/asnl-calendars/corner-brook-adult-autistic-support-group-50-main-street/2025-12-18/
END:VEVENT
BEGIN:VEVENT
DTSTART;TZID=UTC:20251218T183000
DTEND;TZID=UTC:20251218T203000
DTSTAMP:20260422T224757
CREATED:20230929T121722Z
LAST-MODIFIED:20230929T121722Z
UID:6736-1766082600-1766089800@asnl.ca
SUMMARY:ST. JOHN'S - Connections - In-Person (70 Clinch Cres)
DESCRIPTION:Connections: \nVirtual – 2nd and 4th Monday of each month 630-830 \nAt ASNL St. John’s – every 3rd Thursday of the month \nIn person in community outing St. John’s – 1st Monday of each month
URL:https://asnl.ca/asnl-calendars/st-johns-connections-in-person-70-clinch-cres/2025-12-18/
END:VEVENT
BEGIN:VEVENT
DTSTART;TZID=UTC:20251204T193000
DTEND;TZID=UTC:20251204T203000
DTSTAMP:20260422T224757
CREATED:20230929T123058Z
LAST-MODIFIED:20230929T123058Z
UID:7908-1764876600-1764880200@asnl.ca
SUMMARY:CORNER BROOK - Adult Autistic Support Group (50 Main Street)
DESCRIPTION:Adult Autistic Support Group – Corner Brook \nBiweekly – Thursdays 730-830
URL:https://asnl.ca/asnl-calendars/corner-brook-adult-autistic-support-group-50-main-street/2025-12-04/
END:VEVENT
BEGIN:VEVENT
DTSTART;TZID=UTC:20251125T190000
DTEND;TZID=UTC:20251125T203000
DTSTAMP:20260422T224757
CREATED:20250707T164704Z
LAST-MODIFIED:20250707T164704Z
UID:8192-1764097200-1764102600@asnl.ca
SUMMARY:CORNER BROOK - PARENT/CAREGIVER SUPPORT GROUP
DESCRIPTION:CORNER BROOK!Are you a parent or Caregiver looking for supports from other parents? If so\, we are happy to invite you to join us on the last Tuesday of each month\, beginning June 24th for our in-person parent support group.There is no registration needed for this\, if you have any questions or concerns\, please contact Jessica at jwyatt@asnl.ca
URL:https://asnl.ca/asnl-calendars/corner-brook-parent-caregiver-support-group/2025-11-25/
END:VEVENT
BEGIN:VEVENT
DTSTART;TZID=UTC:20251120T193000
DTEND;TZID=UTC:20251120T203000
DTSTAMP:20260422T224757
CREATED:20230929T123058Z
LAST-MODIFIED:20230929T123058Z
UID:7907-1763667000-1763670600@asnl.ca
SUMMARY:CORNER BROOK - Adult Autistic Support Group (50 Main Street)
DESCRIPTION:Adult Autistic Support Group – Corner Brook \nBiweekly – Thursdays 730-830
URL:https://asnl.ca/asnl-calendars/corner-brook-adult-autistic-support-group-50-main-street/2025-11-20/
END:VEVENT
BEGIN:VEVENT
DTSTART;TZID=UTC:20251120T183000
DTEND;TZID=UTC:20251120T203000
DTSTAMP:20260422T224757
CREATED:20230929T121722Z
LAST-MODIFIED:20230929T121722Z
UID:6646-1763663400-1763670600@asnl.ca
SUMMARY:ST. JOHN'S - Connections - In-Person (70 Clinch Cres)
DESCRIPTION:Connections: \nVirtual – 2nd and 4th Monday of each month 630-830 \nAt ASNL St. John’s – every 3rd Thursday of the month \nIn person in community outing St. John’s – 1st Monday of each month
URL:https://asnl.ca/asnl-calendars/st-johns-connections-in-person-70-clinch-cres/2025-11-20/
END:VEVENT
BEGIN:VEVENT
DTSTART;TZID=UTC:20251106T193000
DTEND;TZID=UTC:20251106T203000
DTSTAMP:20260422T224757
CREATED:20230929T123058Z
LAST-MODIFIED:20230929T123058Z
UID:7906-1762457400-1762461000@asnl.ca
SUMMARY:CORNER BROOK - Adult Autistic Support Group (50 Main Street)
DESCRIPTION:Adult Autistic Support Group – Corner Brook \nBiweekly – Thursdays 730-830
URL:https://asnl.ca/asnl-calendars/corner-brook-adult-autistic-support-group-50-main-street/2025-11-06/
END:VEVENT
BEGIN:VEVENT
DTSTART;TZID=UTC:20251028T190000
DTEND;TZID=UTC:20251028T203000
DTSTAMP:20260422T224757
CREATED:20250707T164704Z
LAST-MODIFIED:20250707T164704Z
UID:8191-1761678000-1761683400@asnl.ca
SUMMARY:CORNER BROOK - PARENT/CAREGIVER SUPPORT GROUP
DESCRIPTION:CORNER BROOK!Are you a parent or Caregiver looking for supports from other parents? If so\, we are happy to invite you to join us on the last Tuesday of each month\, beginning June 24th for our in-person parent support group.There is no registration needed for this\, if you have any questions or concerns\, please contact Jessica at jwyatt@asnl.ca
URL:https://asnl.ca/asnl-calendars/corner-brook-parent-caregiver-support-group/2025-10-28/
END:VEVENT
BEGIN:VEVENT
DTSTART;TZID=UTC:20251023T193000
DTEND;TZID=UTC:20251023T203000
DTSTAMP:20260422T224757
CREATED:20230929T123058Z
LAST-MODIFIED:20230929T123058Z
UID:7905-1761247800-1761251400@asnl.ca
SUMMARY:CORNER BROOK - Adult Autistic Support Group (50 Main Street)
DESCRIPTION:Adult Autistic Support Group – Corner Brook \nBiweekly – Thursdays 730-830
URL:https://asnl.ca/asnl-calendars/corner-brook-adult-autistic-support-group-50-main-street/2025-10-23/
END:VEVENT
BEGIN:VEVENT
DTSTART;TZID=UTC:20251016T183000
DTEND;TZID=UTC:20251016T203000
DTSTAMP:20260422T224757
CREATED:20230929T121722Z
LAST-MODIFIED:20231108T150245Z
UID:6465-1760639400-1760646600@asnl.ca
SUMMARY:ST. JOHN'S - Connections - In-Person (70 Clinch Cres)
DESCRIPTION:Connections: \nVirtual – 2nd and 4th Monday of each month 630-830 \nAt ASNL St. John’s – every 3rd Thursday of the month \nIn person in community outing St. John’s – 1st Monday of each month
URL:https://asnl.ca/asnl-calendars/st-johns-connections-in-person-70-clinch-cres/2025-10-16/
END:VEVENT
BEGIN:VEVENT
DTSTART;TZID=UTC:20251009T193000
DTEND;TZID=UTC:20251009T203000
DTSTAMP:20260422T224757
CREATED:20230929T123058Z
LAST-MODIFIED:20230929T123058Z
UID:7904-1760038200-1760041800@asnl.ca
SUMMARY:CORNER BROOK - Adult Autistic Support Group (50 Main Street)
DESCRIPTION:Adult Autistic Support Group – Corner Brook \nBiweekly – Thursdays 730-830
URL:https://asnl.ca/asnl-calendars/corner-brook-adult-autistic-support-group-50-main-street/2025-10-09/
END:VEVENT
BEGIN:VEVENT
DTSTART;TZID=UTC:20250930T190000
DTEND;TZID=UTC:20250930T203000
DTSTAMP:20260422T224757
CREATED:20250707T164704Z
LAST-MODIFIED:20250707T164704Z
UID:8190-1759258800-1759264200@asnl.ca
SUMMARY:CORNER BROOK - PARENT/CAREGIVER SUPPORT GROUP
DESCRIPTION:CORNER BROOK!Are you a parent or Caregiver looking for supports from other parents? If so\, we are happy to invite you to join us on the last Tuesday of each month\, beginning June 24th for our in-person parent support group.There is no registration needed for this\, if you have any questions or concerns\, please contact Jessica at jwyatt@asnl.ca
URL:https://asnl.ca/asnl-calendars/corner-brook-parent-caregiver-support-group/2025-09-30/
END:VEVENT
BEGIN:VEVENT
DTSTART;TZID=UTC:20250925T193000
DTEND;TZID=UTC:20250925T203000
DTSTAMP:20260422T224757
CREATED:20230929T123058Z
LAST-MODIFIED:20230929T123058Z
UID:7903-1758828600-1758832200@asnl.ca
SUMMARY:CORNER BROOK - Adult Autistic Support Group (50 Main Street)
DESCRIPTION:Adult Autistic Support Group – Corner Brook \nBiweekly – Thursdays 730-830
URL:https://asnl.ca/asnl-calendars/corner-brook-adult-autistic-support-group-50-main-street/2025-09-25/
END:VEVENT
BEGIN:VEVENT
DTSTART;TZID=UTC:20250921T100000
DTEND;TZID=UTC:20250921T120000
DTSTAMP:20260422T224757
CREATED:20250818T150804Z
LAST-MODIFIED:20250818T150811Z
UID:8270-1758448800-1758456000@asnl.ca
SUMMARY:Annual AGM - Virtual only
DESCRIPTION:The Annual General Meeting (AGM) of the Autism Society of Newfoundland & Labrador (ASNL) will be held on Saturday\, September 20th\, 2025\, beginning at 10:00.  The AGM will be in a virtual format only.  Anyone wishing to attend is asked to e-mail Paul Walsh at jpwalsh@asnl.ca.  A link to the meeting will be forwarded to you a few days before the event.
URL:https://asnl.ca/asnl-calendars/annual-agm-virtual-only/
END:VEVENT
BEGIN:VEVENT
DTSTART;TZID=UTC:20250918T183000
DTEND;TZID=UTC:20250918T203000
DTSTAMP:20260422T224757
CREATED:20230929T121722Z
LAST-MODIFIED:20231108T150245Z
UID:6333-1758220200-1758227400@asnl.ca
SUMMARY:ST. JOHN'S - Connections - In-Person (70 Clinch Cres)
DESCRIPTION:Connections: \nVirtual – 2nd and 4th Monday of each month 630-830 \nAt ASNL St. John’s – every 3rd Thursday of the month \nIn person in community outing St. John’s – 1st Monday of each month
URL:https://asnl.ca/asnl-calendars/st-johns-connections-in-person-70-clinch-cres/2025-09-18/
END:VEVENT
BEGIN:VEVENT
DTSTART;TZID=UTC:20250911T193000
DTEND;TZID=UTC:20250911T203000
DTSTAMP:20260422T224757
CREATED:20230929T123058Z
LAST-MODIFIED:20230929T123058Z
UID:7902-1757619000-1757622600@asnl.ca
SUMMARY:CORNER BROOK - Adult Autistic Support Group (50 Main Street)
DESCRIPTION:Adult Autistic Support Group – Corner Brook \nBiweekly – Thursdays 730-830
URL:https://asnl.ca/asnl-calendars/corner-brook-adult-autistic-support-group-50-main-street/2025-09-11/
END:VEVENT
BEGIN:VEVENT
DTSTART;TZID=UTC:20250828T193000
DTEND;TZID=UTC:20250828T203000
DTSTAMP:20260422T224757
CREATED:20230929T123058Z
LAST-MODIFIED:20230929T123058Z
UID:7901-1756409400-1756413000@asnl.ca
SUMMARY:CORNER BROOK - Adult Autistic Support Group (50 Main Street)
DESCRIPTION:Adult Autistic Support Group – Corner Brook \nBiweekly – Thursdays 730-830
URL:https://asnl.ca/asnl-calendars/corner-brook-adult-autistic-support-group-50-main-street/2025-08-28/
END:VEVENT
BEGIN:VEVENT
DTSTART;TZID=UTC:20250828T190000
DTEND;TZID=UTC:20250828T200000
DTSTAMP:20260422T224757
CREATED:20250707T164941Z
LAST-MODIFIED:20250707T164941Z
UID:8205-1756407600-1756411200@asnl.ca
SUMMARY:ST. JOHN'S - TEEN SUMMER GAMING GROUP
DESCRIPTION:St. John’s!!TEEN SUMMER GAMING GROUPJoin us for fun\, low-pressure gaming sessions this summer!Please read the following details carefully before filling out the form below.REGISTRATION OPENS FRIDAY\, JUNE 20th @ 9:00amWhen: Thursdays 7-8pm\, beginning July 17Where: Elaine Dobbin Centre for Autism (Located at 70 Clinch crescent St. John’s)What to expect: Participants are invited to share space and engage with the games that interest them most\, at a pace that feels right for them. There’s no pressure to socialize or play in a certain way—parallel play and quiet participation are always welcome.https://forms.office.com/r/jgCNwJCpFA
URL:https://asnl.ca/asnl-calendars/st-johns-teen-summer-gaming-group/2025-08-28/
END:VEVENT
END:VCALENDAR