BEGIN:VCALENDAR
VERSION:2.0
PRODID:-//asnl - ECPv5.16.4//NONSGML v1.0//EN
CALSCALE:GREGORIAN
METHOD:PUBLISH
X-WR-CALNAME:asnl
X-ORIGINAL-URL:https://asnl.ca
X-WR-CALDESC:Events for asnl
REFRESH-INTERVAL;VALUE=DURATION:PT1H
X-Robots-Tag:noindex
X-PUBLISHED-TTL:PT1H
BEGIN:VTIMEZONE
TZID:UTC
BEGIN:STANDARD
TZOFFSETFROM:+0000
TZOFFSETTO:+0000
TZNAME:UTC
DTSTART:20240101T000000
END:STANDARD
END:VTIMEZONE
BEGIN:VEVENT
DTSTART;TZID=UTC:20240708T090000
DTEND;TZID=UTC:20240708T150000
DTSTAMP:20260423T221135
CREATED:20240703T144904Z
LAST-MODIFIED:20240703T144904Z
UID:7282-1720429200-1720450800@asnl.ca
SUMMARY:EASTPORT - St Brendan’s Island Day Trip - registration required
DESCRIPTION:St Brendan’s Island Day Trip!\nJoin us for a Ferry Ride and Adventure! Monday\, July 8th 9am-3pm\nArrive 9:00am in Burnside (Eastport peninsula) to Ferry – departs at 9:30\nBack to the Ferry no-later than 1:00-1:30 Ferry departs St. Brendan’s at 2:00pm\n*Ferry Rates (One Way) apply – $12.75 for vehicle and drive\n6dr – plus 4.25 per adult\, 3.35 per child/senior/student\, children under 5 free\nRegistration Required:https://forms.office.com/r/zXStCJj5u0\nContact cdedde@asnl.ca or afillier@asnl.ca for more info.
URL:https://asnl.ca/asnl-calendars/eastport-st-brendans-island-day-trip-registration-required/
END:VEVENT
BEGIN:VEVENT
DTSTART;TZID=UTC:20240706T140000
DTEND;TZID=UTC:20240706T160000
DTSTAMP:20260423T221135
CREATED:20240703T141739Z
LAST-MODIFIED:20240703T141739Z
UID:7257-1720274400-1720281600@asnl.ca
SUMMARY:SHESHATSHIU - Cookie Baking and Peer Support Group
DESCRIPTION:‘ASNL  is in Sheshatshiu on July 6! \nJoin us at the CYN on July 6 from 2 p.m. to 4 p.m. for Chocolate Chip Cookie Baking and our Parent and Caregiver Peer Support Group! \nCome out to enjoy the child-friendly\, egg-free activity while present in a safe space to talk about the challenging and concerns most parents and caregivers face. \nSensory fidgets\, plasma cards\, colouring and more will also be available.
URL:https://asnl.ca/asnl-calendars/sheshatshiu-cookie-baking-and-peer-support-group/
END:VEVENT
BEGIN:VEVENT
DTSTART;TZID=UTC:20240702T100000
DTEND;TZID=UTC:20240702T120000
DTSTAMP:20260423T221135
CREATED:20240703T144021Z
LAST-MODIFIED:20240703T144021Z
UID:7272-1719914400-1719921600@asnl.ca
SUMMARY:CLARENVILLE - Sensory Art and Sensory Science - registration required
DESCRIPTION:Sensory Art & Sensory Science\nat our Clarenville Resource Center 383 Memorial Drive\, Clarenville\nTuesdays from 10am-12pm\, July 2nd\, 9th\, 16th and August 6th\,13th\, 20th\nRegistration Required: https://forms.office.com/r/76bfSURYZw \nContact cdedde@asnl.ca for more info
URL:https://asnl.ca/asnl-calendars/clarenville-sensory-art-and-sensory-science-registration-required/2024-07-02/
END:VEVENT
BEGIN:VEVENT
DTSTART;TZID=UTC:20240627T200000
DTEND;TZID=UTC:20240627T213000
DTSTAMP:20260423T221135
CREATED:20240422T124145Z
LAST-MODIFIED:20240422T124145Z
UID:7150-1719518400-1719523800@asnl.ca
SUMMARY:VIRTUAL - Show and Tell Night
DESCRIPTION:Virtual Show and Tell Group\nA weekly drop in virtual show and tell group for autistic adults in Newfoundland and Labrador is starting Thursday\, April 11 from 8:00-9:30pm. Participants can pre-register in advance to present their collections\, virtual worlds\, art work\, creations\, other special interests or infodumps on a topic or special interest\, two to three participants can present each week\, and this will be an ongoing group as long as there is interest. To register\, please contact kwarren@asnl.ca.
URL:https://asnl.ca/asnl-calendars/virtual-show-and-tell-night/2024-06-27/
END:VEVENT
BEGIN:VEVENT
DTSTART;TZID=UTC:20240627T180000
DTEND;TZID=UTC:20240627T190000
DTSTAMP:20260423T221135
CREATED:20240422T124349Z
LAST-MODIFIED:20240422T124349Z
UID:7163-1719511200-1719514800@asnl.ca
SUMMARY:ST. JOHN'S - Drop-In Gaming Group
DESCRIPTION:Drop in Gaming Group\nA weekly drop in gaming group is starting at the St. John’s ASNL office on Thursday\, April 11 from 6:00-7:00pm.\nGroup is open to all ages\, for those participants who typically have a support person and/or are under the age of 10\, should have someone remain on site. Otherwise\, please provide emergency contact info the first session you attend. There will be two rooms set up for group\, one with a variety of board games and card games available\, there will be tables for both solo and group play. The other room has two TVs that participants can connect the ASNL switch or their own switch to. Games played on the TV must be rated E or E10+ as it is an all ages group.\nFor more information please contact kwarren@asnl.ca.
URL:https://asnl.ca/asnl-calendars/st-johns-drop-in-gaming-group/2024-06-27/
END:VEVENT
BEGIN:VEVENT
DTSTART;TZID=UTC:20240620T200000
DTEND;TZID=UTC:20240620T213000
DTSTAMP:20260423T221135
CREATED:20240422T124145Z
LAST-MODIFIED:20240422T124145Z
UID:7149-1718913600-1718919000@asnl.ca
SUMMARY:VIRTUAL - Show and Tell Night
DESCRIPTION:Virtual Show and Tell Group\nA weekly drop in virtual show and tell group for autistic adults in Newfoundland and Labrador is starting Thursday\, April 11 from 8:00-9:30pm. Participants can pre-register in advance to present their collections\, virtual worlds\, art work\, creations\, other special interests or infodumps on a topic or special interest\, two to three participants can present each week\, and this will be an ongoing group as long as there is interest. To register\, please contact kwarren@asnl.ca.
URL:https://asnl.ca/asnl-calendars/virtual-show-and-tell-night/2024-06-20/
END:VEVENT
BEGIN:VEVENT
DTSTART;TZID=UTC:20240620T183000
DTEND;TZID=UTC:20240620T203000
DTSTAMP:20260423T221135
CREATED:20230929T121722Z
LAST-MODIFIED:20231108T150242Z
UID:6318-1718908200-1718915400@asnl.ca
SUMMARY:ST. JOHN'S - Connections - In-Person (70 Clinch Cres)
DESCRIPTION:Connections: \nVirtual – 2nd and 4th Monday of each month 630-830 \nAt ASNL St. John’s – every 3rd Thursday of the month \nIn person in community outing St. John’s – 1st Monday of each month
URL:https://asnl.ca/asnl-calendars/st-johns-connections-in-person-70-clinch-cres/2024-06-20/
END:VEVENT
BEGIN:VEVENT
DTSTART;TZID=UTC:20240620T180000
DTEND;TZID=UTC:20240620T190000
DTSTAMP:20260423T221135
CREATED:20240422T124349Z
LAST-MODIFIED:20240422T124349Z
UID:7162-1718906400-1718910000@asnl.ca
SUMMARY:ST. JOHN'S - Drop-In Gaming Group
DESCRIPTION:Drop in Gaming Group\nA weekly drop in gaming group is starting at the St. John’s ASNL office on Thursday\, April 11 from 6:00-7:00pm.\nGroup is open to all ages\, for those participants who typically have a support person and/or are under the age of 10\, should have someone remain on site. Otherwise\, please provide emergency contact info the first session you attend. There will be two rooms set up for group\, one with a variety of board games and card games available\, there will be tables for both solo and group play. The other room has two TVs that participants can connect the ASNL switch or their own switch to. Games played on the TV must be rated E or E10+ as it is an all ages group.\nFor more information please contact kwarren@asnl.ca.
URL:https://asnl.ca/asnl-calendars/st-johns-drop-in-gaming-group/2024-06-20/
END:VEVENT
BEGIN:VEVENT
DTSTART;TZID=UTC:20240613T200000
DTEND;TZID=UTC:20240613T213000
DTSTAMP:20260423T221135
CREATED:20240422T124145Z
LAST-MODIFIED:20240422T124145Z
UID:7148-1718308800-1718314200@asnl.ca
SUMMARY:VIRTUAL - Show and Tell Night
DESCRIPTION:Virtual Show and Tell Group\nA weekly drop in virtual show and tell group for autistic adults in Newfoundland and Labrador is starting Thursday\, April 11 from 8:00-9:30pm. Participants can pre-register in advance to present their collections\, virtual worlds\, art work\, creations\, other special interests or infodumps on a topic or special interest\, two to three participants can present each week\, and this will be an ongoing group as long as there is interest. To register\, please contact kwarren@asnl.ca.
URL:https://asnl.ca/asnl-calendars/virtual-show-and-tell-night/2024-06-13/
END:VEVENT
BEGIN:VEVENT
DTSTART;TZID=UTC:20240613T180000
DTEND;TZID=UTC:20240613T190000
DTSTAMP:20260423T221135
CREATED:20240422T124349Z
LAST-MODIFIED:20240422T124349Z
UID:7161-1718301600-1718305200@asnl.ca
SUMMARY:ST. JOHN'S - Drop-In Gaming Group
DESCRIPTION:Drop in Gaming Group\nA weekly drop in gaming group is starting at the St. John’s ASNL office on Thursday\, April 11 from 6:00-7:00pm.\nGroup is open to all ages\, for those participants who typically have a support person and/or are under the age of 10\, should have someone remain on site. Otherwise\, please provide emergency contact info the first session you attend. There will be two rooms set up for group\, one with a variety of board games and card games available\, there will be tables for both solo and group play. The other room has two TVs that participants can connect the ASNL switch or their own switch to. Games played on the TV must be rated E or E10+ as it is an all ages group.\nFor more information please contact kwarren@asnl.ca.
URL:https://asnl.ca/asnl-calendars/st-johns-drop-in-gaming-group/2024-06-13/
END:VEVENT
BEGIN:VEVENT
DTSTART;TZID=UTC:20240606T200000
DTEND;TZID=UTC:20240606T213000
DTSTAMP:20260423T221135
CREATED:20240422T124145Z
LAST-MODIFIED:20240422T124145Z
UID:7147-1717704000-1717709400@asnl.ca
SUMMARY:VIRTUAL - Show and Tell Night
DESCRIPTION:Virtual Show and Tell Group\nA weekly drop in virtual show and tell group for autistic adults in Newfoundland and Labrador is starting Thursday\, April 11 from 8:00-9:30pm. Participants can pre-register in advance to present their collections\, virtual worlds\, art work\, creations\, other special interests or infodumps on a topic or special interest\, two to three participants can present each week\, and this will be an ongoing group as long as there is interest. To register\, please contact kwarren@asnl.ca.
URL:https://asnl.ca/asnl-calendars/virtual-show-and-tell-night/2024-06-06/
END:VEVENT
BEGIN:VEVENT
DTSTART;TZID=UTC:20240606T180000
DTEND;TZID=UTC:20240606T190000
DTSTAMP:20260423T221135
CREATED:20240422T124349Z
LAST-MODIFIED:20240422T124349Z
UID:7160-1717696800-1717700400@asnl.ca
SUMMARY:ST. JOHN'S - Drop-In Gaming Group
DESCRIPTION:Drop in Gaming Group\nA weekly drop in gaming group is starting at the St. John’s ASNL office on Thursday\, April 11 from 6:00-7:00pm.\nGroup is open to all ages\, for those participants who typically have a support person and/or are under the age of 10\, should have someone remain on site. Otherwise\, please provide emergency contact info the first session you attend. There will be two rooms set up for group\, one with a variety of board games and card games available\, there will be tables for both solo and group play. The other room has two TVs that participants can connect the ASNL switch or their own switch to. Games played on the TV must be rated E or E10+ as it is an all ages group.\nFor more information please contact kwarren@asnl.ca.
URL:https://asnl.ca/asnl-calendars/st-johns-drop-in-gaming-group/2024-06-06/
END:VEVENT
BEGIN:VEVENT
DTSTART;TZID=UTC:20240602T110000
DTEND;TZID=UTC:20240602T130000
DTSTAMP:20260423T221135
CREATED:20240422T123821Z
LAST-MODIFIED:20240422T123821Z
UID:7136-1717326000-1717333200@asnl.ca
SUMMARY:ST. JOHN'S - Picnic\, Planting and Prosecco
DESCRIPTION:Enjoy a delicious picnic prepared by The Pantry Cafe that includes a sandwich\, pasta salad and dessert. Paired with your own 187ML bottle of LaMarca Prosecco or choice of House made Lemonade. \nLearn some tips and tricks about planting and caring for your house plants. Choose from a selection of our available plants to re-pot in your own pot that you get to customize and take home. \nDate: Sunday June 2nd\, 11am-1pm\nVenue: The Greenhouse at The Pantry Cafe and Catering 70 Clinch Crescent\nTicket $70.00 with Prosecco\nTicket $60.00 with House Made Lemonade\nTickets available until supply last.\nThis event is organized and facilitated in partnership with The Transitions Program at ASNL. \nTo purchase your tickets please follow the link below\nhttps://www.eventbrite.ca/e/picnic-planting-prosecco-tickets-881334734917?aff=oddtdtcreator \nIf you have any questions\, concerns or if you have any dietary restrictions please reach out to Chef Brenda at thepantry@asnl.ca\n\n3d
URL:https://asnl.ca/asnl-calendars/st-johns-picnic-planting-and-prosecco/
END:VEVENT
BEGIN:VEVENT
DTSTART;TZID=UTC:20240602T110000
DTEND;TZID=UTC:20240602T130000
DTSTAMP:20260423T221135
CREATED:20240411T150449Z
LAST-MODIFIED:20240411T150449Z
UID:7118-1717326000-1717333200@asnl.ca
SUMMARY:Picnic\, Planting & Prosecco!
DESCRIPTION:Join us for a unique experience at ASNL in The Green House with The Pantry Cafe. \nEnjoy a delicious picnic prepared by The Pantry Cafe that includes a sandwich\, pasta salad and dessert. Paired with your own 187ML bottle of LaMarca Prosecco or choice of House made Lemonade. Bring your green thumbs as we learn some tips and tricks about planting and caring for your house plants. Choose from a selection of our available plants to re-pot in your own pot that you can customize and take home! Only 50 seats available so book yours early!!!!!!! \nThis event is organized and facilitated in partnership with The Transitions Program at ASNL. \nFor more information and to purchase a tickets please click HERE
URL:https://asnl.ca/asnl-calendars/picnic-planting-prosecco/
LOCATION:70 Clinch Crescent\, 70 Clinch Cres\, St. Johns\, Newfoundland\, a1b4g8\, Canada
END:VEVENT
BEGIN:VEVENT
DTSTART;TZID=UTC:20240530T200000
DTEND;TZID=UTC:20240530T213000
DTSTAMP:20260423T221135
CREATED:20240422T124145Z
LAST-MODIFIED:20240422T124145Z
UID:7146-1717099200-1717104600@asnl.ca
SUMMARY:VIRTUAL - Show and Tell Night
DESCRIPTION:Virtual Show and Tell Group\nA weekly drop in virtual show and tell group for autistic adults in Newfoundland and Labrador is starting Thursday\, April 11 from 8:00-9:30pm. Participants can pre-register in advance to present their collections\, virtual worlds\, art work\, creations\, other special interests or infodumps on a topic or special interest\, two to three participants can present each week\, and this will be an ongoing group as long as there is interest. To register\, please contact kwarren@asnl.ca.
URL:https://asnl.ca/asnl-calendars/virtual-show-and-tell-night/2024-05-30/
END:VEVENT
BEGIN:VEVENT
DTSTART;TZID=UTC:20240530T180000
DTEND;TZID=UTC:20240530T190000
DTSTAMP:20260423T221135
CREATED:20240422T124349Z
LAST-MODIFIED:20240422T124349Z
UID:7159-1717092000-1717095600@asnl.ca
SUMMARY:ST. JOHN'S - Drop-In Gaming Group
DESCRIPTION:Drop in Gaming Group\nA weekly drop in gaming group is starting at the St. John’s ASNL office on Thursday\, April 11 from 6:00-7:00pm.\nGroup is open to all ages\, for those participants who typically have a support person and/or are under the age of 10\, should have someone remain on site. Otherwise\, please provide emergency contact info the first session you attend. There will be two rooms set up for group\, one with a variety of board games and card games available\, there will be tables for both solo and group play. The other room has two TVs that participants can connect the ASNL switch or their own switch to. Games played on the TV must be rated E or E10+ as it is an all ages group.\nFor more information please contact kwarren@asnl.ca.
URL:https://asnl.ca/asnl-calendars/st-johns-drop-in-gaming-group/2024-05-30/
END:VEVENT
BEGIN:VEVENT
DTSTART;TZID=UTC:20240523T200000
DTEND;TZID=UTC:20240523T213000
DTSTAMP:20260423T221135
CREATED:20240422T124145Z
LAST-MODIFIED:20240422T124145Z
UID:7145-1716494400-1716499800@asnl.ca
SUMMARY:VIRTUAL - Show and Tell Night
DESCRIPTION:Virtual Show and Tell Group\nA weekly drop in virtual show and tell group for autistic adults in Newfoundland and Labrador is starting Thursday\, April 11 from 8:00-9:30pm. Participants can pre-register in advance to present their collections\, virtual worlds\, art work\, creations\, other special interests or infodumps on a topic or special interest\, two to three participants can present each week\, and this will be an ongoing group as long as there is interest. To register\, please contact kwarren@asnl.ca.
URL:https://asnl.ca/asnl-calendars/virtual-show-and-tell-night/2024-05-23/
END:VEVENT
BEGIN:VEVENT
DTSTART;TZID=UTC:20240523T180000
DTEND;TZID=UTC:20240523T190000
DTSTAMP:20260423T221135
CREATED:20240422T124349Z
LAST-MODIFIED:20240422T124349Z
UID:7158-1716487200-1716490800@asnl.ca
SUMMARY:ST. JOHN'S - Drop-In Gaming Group
DESCRIPTION:Drop in Gaming Group\nA weekly drop in gaming group is starting at the St. John’s ASNL office on Thursday\, April 11 from 6:00-7:00pm.\nGroup is open to all ages\, for those participants who typically have a support person and/or are under the age of 10\, should have someone remain on site. Otherwise\, please provide emergency contact info the first session you attend. There will be two rooms set up for group\, one with a variety of board games and card games available\, there will be tables for both solo and group play. The other room has two TVs that participants can connect the ASNL switch or their own switch to. Games played on the TV must be rated E or E10+ as it is an all ages group.\nFor more information please contact kwarren@asnl.ca.
URL:https://asnl.ca/asnl-calendars/st-johns-drop-in-gaming-group/2024-05-23/
END:VEVENT
BEGIN:VEVENT
DTSTART;TZID=UTC:20240522T080000
DTEND;TZID=UTC:20240522T170000
DTSTAMP:20260423T221135
CREATED:20230828T161637Z
LAST-MODIFIED:20240404T172831Z
UID:6120-1716364800-1716397200@asnl.ca
SUMMARY:Embracing Neurodiversity Conference
DESCRIPTION:Embracing Neurodiversity is a gathering for Autistics\, their families\, caregivers\, educators\, policymakers\, government\, and the community in general. Embracing Neurodiversity aims to provide engaging sessions to enrich understanding and inclusivity within our communities in a safe and welcoming environment. It is the only conference solely dedicated to the Autistic community in the province. \nFor more information and to purchase your tickets please click HERE
URL:https://asnl.ca/asnl-calendars/embracing-neurodiversity-conference-2/
END:VEVENT
BEGIN:VEVENT
DTSTART;TZID=UTC:20240516T200000
DTEND;TZID=UTC:20240516T213000
DTSTAMP:20260423T221135
CREATED:20240422T124145Z
LAST-MODIFIED:20240422T124145Z
UID:7144-1715889600-1715895000@asnl.ca
SUMMARY:VIRTUAL - Show and Tell Night
DESCRIPTION:Virtual Show and Tell Group\nA weekly drop in virtual show and tell group for autistic adults in Newfoundland and Labrador is starting Thursday\, April 11 from 8:00-9:30pm. Participants can pre-register in advance to present their collections\, virtual worlds\, art work\, creations\, other special interests or infodumps on a topic or special interest\, two to three participants can present each week\, and this will be an ongoing group as long as there is interest. To register\, please contact kwarren@asnl.ca.
URL:https://asnl.ca/asnl-calendars/virtual-show-and-tell-night/2024-05-16/
END:VEVENT
BEGIN:VEVENT
DTSTART;TZID=UTC:20240516T183000
DTEND;TZID=UTC:20240516T203000
DTSTAMP:20260423T221135
CREATED:20230929T121722Z
LAST-MODIFIED:20231108T150242Z
UID:6317-1715884200-1715891400@asnl.ca
SUMMARY:ST. JOHN'S - Connections - In-Person (70 Clinch Cres)
DESCRIPTION:Connections: \nVirtual – 2nd and 4th Monday of each month 630-830 \nAt ASNL St. John’s – every 3rd Thursday of the month \nIn person in community outing St. John’s – 1st Monday of each month
URL:https://asnl.ca/asnl-calendars/st-johns-connections-in-person-70-clinch-cres/2024-05-16/
END:VEVENT
BEGIN:VEVENT
DTSTART;TZID=UTC:20240516T180000
DTEND;TZID=UTC:20240516T190000
DTSTAMP:20260423T221135
CREATED:20240422T124349Z
LAST-MODIFIED:20240422T124349Z
UID:7157-1715882400-1715886000@asnl.ca
SUMMARY:ST. JOHN'S - Drop-In Gaming Group
DESCRIPTION:Drop in Gaming Group\nA weekly drop in gaming group is starting at the St. John’s ASNL office on Thursday\, April 11 from 6:00-7:00pm.\nGroup is open to all ages\, for those participants who typically have a support person and/or are under the age of 10\, should have someone remain on site. Otherwise\, please provide emergency contact info the first session you attend. There will be two rooms set up for group\, one with a variety of board games and card games available\, there will be tables for both solo and group play. The other room has two TVs that participants can connect the ASNL switch or their own switch to. Games played on the TV must be rated E or E10+ as it is an all ages group.\nFor more information please contact kwarren@asnl.ca.
URL:https://asnl.ca/asnl-calendars/st-johns-drop-in-gaming-group/2024-05-16/
END:VEVENT
BEGIN:VEVENT
DTSTART;TZID=UTC:20240510T140000
DTEND;TZID=UTC:20240510T160000
DTSTAMP:20260423T221135
CREATED:20240509T172416Z
LAST-MODIFIED:20240509T172416Z
UID:7193-1715349600-1715356800@asnl.ca
SUMMARY:GOOSE BAY - Mother's Day card making
DESCRIPTION:Please Join us in Goose Bay\, Labrador @ ASNL’s office from 2-4PM\, Friday afternoon to Make a FREE Mother’s Day card! We openly welcome all ages who are Neurodivergent\, or come on by to LEARN more about Neurodiversity! \nWe encourage you to register to jkeefe@asnl.ca to participate\, but drop in’s are Welcome \n2-4 Hillcrest rd \n 
URL:https://asnl.ca/asnl-calendars/goose-bay-mothers-day-card-making/
END:VEVENT
BEGIN:VEVENT
DTSTART;TZID=UTC:20240509T200000
DTEND;TZID=UTC:20240509T213000
DTSTAMP:20260423T221135
CREATED:20240422T124145Z
LAST-MODIFIED:20240422T124145Z
UID:7143-1715284800-1715290200@asnl.ca
SUMMARY:VIRTUAL - Show and Tell Night
DESCRIPTION:Virtual Show and Tell Group\nA weekly drop in virtual show and tell group for autistic adults in Newfoundland and Labrador is starting Thursday\, April 11 from 8:00-9:30pm. Participants can pre-register in advance to present their collections\, virtual worlds\, art work\, creations\, other special interests or infodumps on a topic or special interest\, two to three participants can present each week\, and this will be an ongoing group as long as there is interest. To register\, please contact kwarren@asnl.ca.
URL:https://asnl.ca/asnl-calendars/virtual-show-and-tell-night/2024-05-09/
END:VEVENT
BEGIN:VEVENT
DTSTART;TZID=UTC:20240509T180000
DTEND;TZID=UTC:20240509T190000
DTSTAMP:20260423T221135
CREATED:20240422T124349Z
LAST-MODIFIED:20240422T124349Z
UID:7156-1715277600-1715281200@asnl.ca
SUMMARY:ST. JOHN'S - Drop-In Gaming Group
DESCRIPTION:Drop in Gaming Group\nA weekly drop in gaming group is starting at the St. John’s ASNL office on Thursday\, April 11 from 6:00-7:00pm.\nGroup is open to all ages\, for those participants who typically have a support person and/or are under the age of 10\, should have someone remain on site. Otherwise\, please provide emergency contact info the first session you attend. There will be two rooms set up for group\, one with a variety of board games and card games available\, there will be tables for both solo and group play. The other room has two TVs that participants can connect the ASNL switch or their own switch to. Games played on the TV must be rated E or E10+ as it is an all ages group.\nFor more information please contact kwarren@asnl.ca.
URL:https://asnl.ca/asnl-calendars/st-johns-drop-in-gaming-group/2024-05-09/
END:VEVENT
BEGIN:VEVENT
DTSTART;TZID=UTC:20240509T153000
DTEND;TZID=UTC:20240509T170000
DTSTAMP:20260423T221135
CREATED:20240506T124748Z
LAST-MODIFIED:20240506T124748Z
UID:7191-1715268600-1715274000@asnl.ca
SUMMARY:GRAND FALLS - Mother's Day Card making
DESCRIPTION:Grand Falls and surrounding areas! Join us for a FREE Mother’s Day card making! \n21 carmelite rd \nemail echippett@asnl.ca to register!
URL:https://asnl.ca/asnl-calendars/grand-falls-mothers-day-card-making/
END:VEVENT
BEGIN:VEVENT
DTSTART;TZID=UTC:20240505T190000
DTEND;TZID=UTC:20240505T210000
DTSTAMP:20260423T221135
CREATED:20230421T144028Z
LAST-MODIFIED:20230929T114652Z
UID:3987-1714935600-1714942800@asnl.ca
SUMMARY:Virtual Parent/Caregiver Support Group
DESCRIPTION:
URL:https://asnl.ca/asnl-calendars/virtual-pieces-parent-caregiver-support-group/2024-05-05/
END:VEVENT
BEGIN:VEVENT
DTSTART;TZID=UTC:20240504T110000
DTEND;TZID=UTC:20240504T133000
DTSTAMP:20260423T221135
CREATED:20240320T152046Z
LAST-MODIFIED:20240320T152046Z
UID:7024-1714820400-1714829400@asnl.ca
SUMMARY:GANDER - Free Play
DESCRIPTION:Join us for Free play in Gander! This is an all-ages event where we will have different activities and games set up for participants to try. Reach out to ksnow@asnl.ca with any concerns/questions \n1 Brochen St
URL:https://asnl.ca/asnl-calendars/gander-free-play/2024-05-04/
END:VEVENT
BEGIN:VEVENT
DTSTART;TZID=UTC:20240502T200000
DTEND;TZID=UTC:20240502T213000
DTSTAMP:20260423T221135
CREATED:20240422T124145Z
LAST-MODIFIED:20240422T124145Z
UID:7142-1714680000-1714685400@asnl.ca
SUMMARY:VIRTUAL - Show and Tell Night
DESCRIPTION:Virtual Show and Tell Group\nA weekly drop in virtual show and tell group for autistic adults in Newfoundland and Labrador is starting Thursday\, April 11 from 8:00-9:30pm. Participants can pre-register in advance to present their collections\, virtual worlds\, art work\, creations\, other special interests or infodumps on a topic or special interest\, two to three participants can present each week\, and this will be an ongoing group as long as there is interest. To register\, please contact kwarren@asnl.ca.
URL:https://asnl.ca/asnl-calendars/virtual-show-and-tell-night/2024-05-02/
END:VEVENT
BEGIN:VEVENT
DTSTART;TZID=UTC:20240502T180000
DTEND;TZID=UTC:20240502T190000
DTSTAMP:20260423T221135
CREATED:20240422T124349Z
LAST-MODIFIED:20240422T124349Z
UID:7155-1714672800-1714676400@asnl.ca
SUMMARY:ST. JOHN'S - Drop-In Gaming Group
DESCRIPTION:Drop in Gaming Group\nA weekly drop in gaming group is starting at the St. John’s ASNL office on Thursday\, April 11 from 6:00-7:00pm.\nGroup is open to all ages\, for those participants who typically have a support person and/or are under the age of 10\, should have someone remain on site. Otherwise\, please provide emergency contact info the first session you attend. There will be two rooms set up for group\, one with a variety of board games and card games available\, there will be tables for both solo and group play. The other room has two TVs that participants can connect the ASNL switch or their own switch to. Games played on the TV must be rated E or E10+ as it is an all ages group.\nFor more information please contact kwarren@asnl.ca.
URL:https://asnl.ca/asnl-calendars/st-johns-drop-in-gaming-group/2024-05-02/
END:VEVENT
END:VCALENDAR