BEGIN:VCALENDAR
VERSION:2.0
PRODID:-//asnl - ECPv5.16.4//NONSGML v1.0//EN
CALSCALE:GREGORIAN
METHOD:PUBLISH
X-WR-CALNAME:asnl
X-ORIGINAL-URL:https://asnl.ca
X-WR-CALDESC:Events for asnl
REFRESH-INTERVAL;VALUE=DURATION:PT1H
X-Robots-Tag:noindex
X-PUBLISHED-TTL:PT1H
BEGIN:VTIMEZONE
TZID:UTC
BEGIN:STANDARD
TZOFFSETFROM:+0000
TZOFFSETTO:+0000
TZNAME:UTC
DTSTART:20240101T000000
END:STANDARD
END:VTIMEZONE
BEGIN:VEVENT
DTSTART;TZID=UTC:20240919T183000
DTEND;TZID=UTC:20240919T203000
DTSTAMP:20260423T173907
CREATED:20230929T121722Z
LAST-MODIFIED:20231108T150244Z
UID:6321-1726770600-1726777800@asnl.ca
SUMMARY:ST. JOHN'S - Connections - In-Person (70 Clinch Cres)
DESCRIPTION:Connections: \nVirtual – 2nd and 4th Monday of each month 630-830 \nAt ASNL St. John’s – every 3rd Thursday of the month \nIn person in community outing St. John’s – 1st Monday of each month
URL:https://asnl.ca/asnl-calendars/st-johns-connections-in-person-70-clinch-cres/2024-09-19/
END:VEVENT
BEGIN:VEVENT
DTSTART;TZID=UTC:20240915T100000
DTEND;TZID=UTC:20240915T233000
DTSTAMP:20260423T173907
CREATED:20240909T135305Z
LAST-MODIFIED:20240909T135305Z
UID:7400-1726394400-1726443000@asnl.ca
SUMMARY:CLARENVILLE - Teens and Adults Sip and Social
DESCRIPTION:Calling all Teens and Adults in Eastern Region/Clarenville area. \n  \nLet’s get together Sunday mornings and enjoy a beverage of choice\, just chill and hang out or chat\, share interests\, activities\, discuss future events and programs etc. \n  \nWhere: ASNL Eastern Office\, 383 Memorial Dr\, Clarenville. \nWhen: 10am-11:30am Sundays for 6 weeks. Sept. 15\,22\,29 and Oct.06\,20\,27! \nContact: Afillier@asnl.ca for further information \n  \nRegistration Required: https://forms.office.com/r/aZmAfnMHL2
URL:https://asnl.ca/asnl-calendars/clarenville-teens-and-adults-sip-and-social/
END:VEVENT
BEGIN:VEVENT
DTSTART;TZID=UTC:20240829T180000
DTEND;TZID=UTC:20240829T193000
DTSTAMP:20260423T173907
CREATED:20240826T180604Z
LAST-MODIFIED:20240826T180604Z
UID:7386-1724954400-1724959800@asnl.ca
SUMMARY:SHESHATSHIU - Parent and Peer Support Group
DESCRIPTION:Join us this Thursday for our September Sheshatshiu event! 🍂 We’ll have rock painting\, finger painting\, colouring pages\, fidget toys and more. 🍂 \n  \n🖌️🎨 This is meant to be a safe space for parents and neurodiverse people to gather and share support\, tips and their advice! 🖌️🎨 \n  \n☀️ Join us at the Sheshatshiu Youth Centre from 6 to 7:30 p.m. AT ☀️ \n  \n*Please note\, this event is earlier than the usual first weekend due to the holiday weekend\, at the request of our families.*
URL:https://asnl.ca/asnl-calendars/sheshatshiu-parent-and-peer-support-group/
END:VEVENT
BEGIN:VEVENT
DTSTART;TZID=UTC:20240825T110000
DTEND;TZID=UTC:20240825T130000
DTSTAMP:20260423T173907
CREATED:20240823T114944Z
LAST-MODIFIED:20240823T115050Z
UID:7384-1724583600-1724590800@asnl.ca
SUMMARY:PASADENA - Beach Day
DESCRIPTION:Please join us on Sunday August 25th for a family beach day at Pasadena beach\, Ryans road\, Pasadena. Contact Jessica at jwyatt@asnl.ca for any questions or concerns
URL:https://asnl.ca/asnl-calendars/pasadena-beach-day/
END:VEVENT
BEGIN:VEVENT
DTSTART;TZID=UTC:20240823T180000
DTEND;TZID=UTC:20240823T210000
DTSTAMP:20260423T173907
CREATED:20240821T131229Z
LAST-MODIFIED:20240821T131229Z
UID:7365-1724436000-1724446800@asnl.ca
SUMMARY:ST. JOHN'S - Bonfire night!!!
DESCRIPTION:Join us for an evening of music\, laughter\, and fireside fun while making memories with old friends and new at our upcoming Bonfire Social! All ages and identities are welcome! \nWhere: Easter Seals\, 206 Mt. Scio Rd.\, St. John’s NL\nWhen: 6 – 9 pm\, Friday August 23 2024\nWhat to expect:\n• Sing alongs and jam sessions around a crackling bonfire led by musician Robert Hicks of the band Thru Kaos (we’ll have some extra acoustic guitars\, ukuleles\, and percussion instruments available to share too!)\n• Indulge in classic campfire snacks provided by ASNL\, or bring your own to enjoy\n• Unwind and mingle in the cozy lobby\, play in the gymnasium indoors\, or enjoy the playground and park space outside\n• There might event be some hula hooping\, juggling or other circus fun featuring members of our Physical Art Troupe and the St. John’s Juggling Club! \nLet us know you’re coming by RSVP’ing here: https://forms.office.com/r/FyD502k0B4
URL:https://asnl.ca/asnl-calendars/st-johns-bonfire-night/
END:VEVENT
BEGIN:VEVENT
DTSTART;TZID=UTC:20240823T170000
DTEND;TZID=UTC:20240823T190000
DTSTAMP:20260423T173907
CREATED:20240821T164202Z
LAST-MODIFIED:20240821T164202Z
UID:7374-1724432400-1724439600@asnl.ca
SUMMARY:HAPPY VALLEY - GOOSE BAY - Community BBQ!
DESCRIPTION:Calling all neurodivergent people and families in Happy Valley-Goose Bay: Join us Friday\, August 23rd for a neurodivergent community BBQ! \nWe welcome anyone who has autism\, ADHD\, ADD\, Dyslexia\, Dyspraxia\, or any other type of neurodivergence to our events. \nJoin us at Kinsmen Park in Happy Valley-Goose Bay from 5 to 7 on Friday\, August 23. Enjoy the splash park\, make nature bracelets\, try rock painting\, and enjoy the accessible community playground!\nCanadian Tire Jumpstart Charities
URL:https://asnl.ca/asnl-calendars/happy-valley-goose-bay-community-bbq/
END:VEVENT
BEGIN:VEVENT
DTSTART;TZID=UTC:20240822T193000
DTEND;TZID=UTC:20240822T203000
DTSTAMP:20260423T173907
CREATED:20240821T131457Z
LAST-MODIFIED:20240821T131457Z
UID:7369-1724355000-1724358600@asnl.ca
SUMMARY:VIRTUAL - Show and Tell!
DESCRIPTION:ASNLs Virtual Show and Tell is BACK for the summer!!! \nThis group is intended for individuals 18+. We will schedule weekly presenters from those who sign up. Each presenter will have time to share details of their interests with the group. \nTo receive the Zoom link please complete the form https://forms.office.com/pages/responsepage.aspx?id=t_74vYLkLESzUiOSnycP1M1t8jsxwQ9JhbssfVGDSIVURUFBWFkyNk9TSFdIN0RKUjJOWlA4TEJURy4u \nTime: 730pm-830pm\nPlace: Virtual via Zoom (link sent to those who complete the sign up form) \nThe group will run weekly on Thursdays until August 22nd \nIf you have any questions or concerns please contact Will at wfeltham@asnl.ca\n\n1d
URL:https://asnl.ca/asnl-calendars/virtual-show-and-tell/2024-08-22/
END:VEVENT
BEGIN:VEVENT
DTSTART;TZID=UTC:20240820T100000
DTEND;TZID=UTC:20240820T120000
DTSTAMP:20260423T173907
CREATED:20240703T144139Z
LAST-MODIFIED:20240703T144139Z
UID:7279-1724148000-1724155200@asnl.ca
SUMMARY:CLARENVILLE - Sensory Art & Sensory Science - registration required
DESCRIPTION:Sensory Art & Sensory Science\nat our Clarenville Resource Center 383 Memorial Drive\, Clarenville\nTuesdays from 10am-12pm\, July 2nd\, 9th\, 16th and August 6th\,13th\, 20th\nRegistration Required: https://forms.office.com/r/76bfSURYZw \nContact cdedde@asnl.ca for more info
URL:https://asnl.ca/asnl-calendars/clarenville-sensory-art-sensory-science-registration-required/2024-08-20/
END:VEVENT
BEGIN:VEVENT
DTSTART;TZID=UTC:20240815T193000
DTEND;TZID=UTC:20240815T203000
DTSTAMP:20260423T173907
CREATED:20240821T131457Z
LAST-MODIFIED:20240821T131457Z
UID:7368-1723750200-1723753800@asnl.ca
SUMMARY:VIRTUAL - Show and Tell!
DESCRIPTION:ASNLs Virtual Show and Tell is BACK for the summer!!! \nThis group is intended for individuals 18+. We will schedule weekly presenters from those who sign up. Each presenter will have time to share details of their interests with the group. \nTo receive the Zoom link please complete the form https://forms.office.com/pages/responsepage.aspx?id=t_74vYLkLESzUiOSnycP1M1t8jsxwQ9JhbssfVGDSIVURUFBWFkyNk9TSFdIN0RKUjJOWlA4TEJURy4u \nTime: 730pm-830pm\nPlace: Virtual via Zoom (link sent to those who complete the sign up form) \nThe group will run weekly on Thursdays until August 22nd \nIf you have any questions or concerns please contact Will at wfeltham@asnl.ca\n\n1d
URL:https://asnl.ca/asnl-calendars/virtual-show-and-tell/2024-08-15/
END:VEVENT
BEGIN:VEVENT
DTSTART;TZID=UTC:20240815T183000
DTEND;TZID=UTC:20240815T203000
DTSTAMP:20260423T173907
CREATED:20230929T121722Z
LAST-MODIFIED:20231108T150242Z
UID:6320-1723746600-1723753800@asnl.ca
SUMMARY:ST. JOHN'S - Connections - In-Person (70 Clinch Cres)
DESCRIPTION:Connections: \nVirtual – 2nd and 4th Monday of each month 630-830 \nAt ASNL St. John’s – every 3rd Thursday of the month \nIn person in community outing St. John’s – 1st Monday of each month
URL:https://asnl.ca/asnl-calendars/st-johns-connections-in-person-70-clinch-cres/2024-08-15/
END:VEVENT
BEGIN:VEVENT
DTSTART;TZID=UTC:20240814T153000
DTEND;TZID=UTC:20240814T163000
DTSTAMP:20260423T173907
CREATED:20240703T142142Z
LAST-MODIFIED:20240703T142142Z
UID:7265-1723649400-1723653000@asnl.ca
SUMMARY:ST. JOHN'S - Summer Play Group - RSVP needed
DESCRIPTION:Save the Date!\nBeginning Wednesday July 10th\, ASNL Staff will be hosting a weekly playgroup at The Janeway St. John’s\, Maple Leaf Play Garden for all our friends aged 11 and under and their care givers!\nWant to join in the fun? RSVP here to let us know you’re coming: https://forms.office.com/r/szWTKauSbU\nOn Mondays we’ll share the link to RSVP to the follow’s Wednesday’s Play Group. Please use the RSVP link provided to share your intentions to attend\, as this is how we’ll connect to communicate any important updates including cancellations due to weather or playground maintenance. \nSchedule to share every Monday beginning July 8th\, ending August 19th with the attached graphic : \nOur friends aged 11 and under (and their care givers) are invited to join us for a Summer Play Group at The Janeway St. John’s\, Maple Leaf Play Garden this Wednesday from 3:30 – 4:30 pm!\nWant to join in the fun? RSVP here to let us know you’re coming: https://forms.office.com/r/szWTKauSbU\nPlease use the RSVP link provided to share your intentions to attend\, as this is how we’ll connect to communicate any important updates including cancellations due to weather or playground maintenance.
URL:https://asnl.ca/asnl-calendars/st-johns-summer-play-group-rsvp-needed/2024-08-14/
END:VEVENT
BEGIN:VEVENT
DTSTART;TZID=UTC:20240813T100000
DTEND;TZID=UTC:20240813T120000
DTSTAMP:20260423T173907
CREATED:20240703T144139Z
LAST-MODIFIED:20240703T144139Z
UID:7278-1723543200-1723550400@asnl.ca
SUMMARY:CLARENVILLE - Sensory Art & Sensory Science - registration required
DESCRIPTION:Sensory Art & Sensory Science\nat our Clarenville Resource Center 383 Memorial Drive\, Clarenville\nTuesdays from 10am-12pm\, July 2nd\, 9th\, 16th and August 6th\,13th\, 20th\nRegistration Required: https://forms.office.com/r/76bfSURYZw \nContact cdedde@asnl.ca for more info
URL:https://asnl.ca/asnl-calendars/clarenville-sensory-art-sensory-science-registration-required/2024-08-13/
END:VEVENT
BEGIN:VEVENT
DTSTART;TZID=UTC:20240812T130000
DTEND;TZID=UTC:20240812T150000
DTSTAMP:20260423T173907
CREATED:20240719T125851Z
LAST-MODIFIED:20240719T125852Z
UID:7308-1723467600-1723474800@asnl.ca
SUMMARY:EASTPORT - Crooked Tree park - registration required
DESCRIPTION:Join us Monday\, August 12\, 1:00pm to 3:00pm at Crooked Tree Park *Sandy Cove\, on the Eastport Peninsula! \nFor some Fun in the Sun\, Swimming in the Pond and Play at the Playground. Or Walk the beautiful trail around the pond! \nThis is one of Eastport’s famous swimming places! If you haven’t been\, it’s worth checking out! \n  \nFollowed by a meet up at Beach Way Cafe and Dairy Bar\, located at 138 Main Street Sandringham\, on the main road to Eastport (Road to the Beaches) \n  \n         **Swim at your own risk.  There will be no lifeguard present​​** \n*Registration is required: https://forms.office.com/r/Eu1A1S9kHB
URL:https://asnl.ca/asnl-calendars/eastport-crooked-tree-park-registration-required/
END:VEVENT
BEGIN:VEVENT
DTSTART;TZID=UTC:20240808T193000
DTEND;TZID=UTC:20240808T203000
DTSTAMP:20260423T173907
CREATED:20240821T131457Z
LAST-MODIFIED:20240821T131457Z
UID:7367-1723145400-1723149000@asnl.ca
SUMMARY:VIRTUAL - Show and Tell!
DESCRIPTION:ASNLs Virtual Show and Tell is BACK for the summer!!! \nThis group is intended for individuals 18+. We will schedule weekly presenters from those who sign up. Each presenter will have time to share details of their interests with the group. \nTo receive the Zoom link please complete the form https://forms.office.com/pages/responsepage.aspx?id=t_74vYLkLESzUiOSnycP1M1t8jsxwQ9JhbssfVGDSIVURUFBWFkyNk9TSFdIN0RKUjJOWlA4TEJURy4u \nTime: 730pm-830pm\nPlace: Virtual via Zoom (link sent to those who complete the sign up form) \nThe group will run weekly on Thursdays until August 22nd \nIf you have any questions or concerns please contact Will at wfeltham@asnl.ca\n\n1d
URL:https://asnl.ca/asnl-calendars/virtual-show-and-tell/
END:VEVENT
BEGIN:VEVENT
DTSTART;TZID=UTC:20240808T130000
DTEND;TZID=UTC:20240808T160000
DTSTAMP:20260423T173907
CREATED:20240719T135110Z
LAST-MODIFIED:20240719T135110Z
UID:7312-1723122000-1723132800@asnl.ca
SUMMARY:LAKESIDE AT THORBURN - registration required
DESCRIPTION:Explore At Home ~ Lakeside at Thorburn \n  \nJoin us at Lakeside at Thorburn for a family fun day with lots of opportunity for bouncy castle time\, mini golf\, swimming\, and having fun outdoors with our ASNL Eastern Community \n  \nWhen: Thursday\, August 8th from 1 to 4 PM \nIncluded: Private Pool Time\, One Train Ride\, Unlimited Mini Golf\, Beach\, Playground and Bouncy Castles. \n*Admission and above activities included in your admission​ with ASNL* \n**Food from Lakeside is available – at your expense​​** \n  \nREGISTRATION REQUIRED:  https://forms.office.com/r/h4E9yp3W3g \n 
URL:https://asnl.ca/asnl-calendars/lakeside-at-thorburn-registration-required/
END:VEVENT
BEGIN:VEVENT
DTSTART;TZID=UTC:20240807T153000
DTEND;TZID=UTC:20240807T163000
DTSTAMP:20260423T173907
CREATED:20240703T142142Z
LAST-MODIFIED:20240703T142142Z
UID:7264-1723044600-1723048200@asnl.ca
SUMMARY:ST. JOHN'S - Summer Play Group - RSVP needed
DESCRIPTION:Save the Date!\nBeginning Wednesday July 10th\, ASNL Staff will be hosting a weekly playgroup at The Janeway St. John’s\, Maple Leaf Play Garden for all our friends aged 11 and under and their care givers!\nWant to join in the fun? RSVP here to let us know you’re coming: https://forms.office.com/r/szWTKauSbU\nOn Mondays we’ll share the link to RSVP to the follow’s Wednesday’s Play Group. Please use the RSVP link provided to share your intentions to attend\, as this is how we’ll connect to communicate any important updates including cancellations due to weather or playground maintenance. \nSchedule to share every Monday beginning July 8th\, ending August 19th with the attached graphic : \nOur friends aged 11 and under (and their care givers) are invited to join us for a Summer Play Group at The Janeway St. John’s\, Maple Leaf Play Garden this Wednesday from 3:30 – 4:30 pm!\nWant to join in the fun? RSVP here to let us know you’re coming: https://forms.office.com/r/szWTKauSbU\nPlease use the RSVP link provided to share your intentions to attend\, as this is how we’ll connect to communicate any important updates including cancellations due to weather or playground maintenance.
URL:https://asnl.ca/asnl-calendars/st-johns-summer-play-group-rsvp-needed/2024-08-07/
END:VEVENT
BEGIN:VEVENT
DTSTART;TZID=UTC:20240807T130000
DTEND;TZID=UTC:20240807T150000
DTSTAMP:20260423T173907
CREATED:20240719T134226Z
LAST-MODIFIED:20240719T134226Z
UID:7310-1723035600-1723042800@asnl.ca
SUMMARY:FORTUNE - Geology Centre
DESCRIPTION:Explore At Home – Fortune Head Geology Centre \n  \nLet’s take a trip back in time\, The Fortune Head Geology Centre is a great stop to make!  \n  \nCome take a walk-through geologic time as you explore our exhibits! Learn all about the 1929 Burin Peninsula Tsunami and check out our tsunami simulator! We even have an interactive sandbox that is always a hit with the kids\, big and little! — you may even find some dinosaurs lurking around the exhibit! – There will be plenty to explore\, learn and play with. \n  \nWhen: Wednesday\, August 7th at 1:00 pm \n  \nLocation: 49-51 Bunker Hill Rd. in Fortune\, NL \n  \nFor our families with autistic children (of all ages). \nREGISTRATION REQUIRED: https://forms.office.com/r/h2aaqUW32E
URL:https://asnl.ca/asnl-calendars/fortune-geology-centre/
END:VEVENT
BEGIN:VEVENT
DTSTART;TZID=UTC:20240806T100000
DTEND;TZID=UTC:20240806T120000
DTSTAMP:20260423T173907
CREATED:20240703T144139Z
LAST-MODIFIED:20240703T144139Z
UID:7276-1722938400-1722945600@asnl.ca
SUMMARY:CLARENVILLE - Sensory Art & Sensory Science - registration required
DESCRIPTION:Sensory Art & Sensory Science\nat our Clarenville Resource Center 383 Memorial Drive\, Clarenville\nTuesdays from 10am-12pm\, July 2nd\, 9th\, 16th and August 6th\,13th\, 20th\nRegistration Required: https://forms.office.com/r/76bfSURYZw \nContact cdedde@asnl.ca for more info
URL:https://asnl.ca/asnl-calendars/clarenville-sensory-art-sensory-science-registration-required/2024-08-06/
END:VEVENT
BEGIN:VEVENT
DTSTART;VALUE=DATE:20240802
DTEND;VALUE=DATE:20240805
DTSTAMP:20260423T173907
CREATED:20240320T151653Z
LAST-MODIFIED:20240320T151653Z
UID:7016-1722556800-1722815999@asnl.ca
SUMMARY:CENTRAL - Fantasy Camp (details to come)
DESCRIPTION:
URL:https://asnl.ca/asnl-calendars/central-fantasy-camp-details-to-come/
END:VEVENT
BEGIN:VEVENT
DTSTART;TZID=UTC:20240731T153000
DTEND;TZID=UTC:20240731T163000
DTSTAMP:20260423T173907
CREATED:20240703T142142Z
LAST-MODIFIED:20240703T142142Z
UID:7263-1722439800-1722443400@asnl.ca
SUMMARY:ST. JOHN'S - Summer Play Group - RSVP needed
DESCRIPTION:Save the Date!\nBeginning Wednesday July 10th\, ASNL Staff will be hosting a weekly playgroup at The Janeway St. John’s\, Maple Leaf Play Garden for all our friends aged 11 and under and their care givers!\nWant to join in the fun? RSVP here to let us know you’re coming: https://forms.office.com/r/szWTKauSbU\nOn Mondays we’ll share the link to RSVP to the follow’s Wednesday’s Play Group. Please use the RSVP link provided to share your intentions to attend\, as this is how we’ll connect to communicate any important updates including cancellations due to weather or playground maintenance. \nSchedule to share every Monday beginning July 8th\, ending August 19th with the attached graphic : \nOur friends aged 11 and under (and their care givers) are invited to join us for a Summer Play Group at The Janeway St. John’s\, Maple Leaf Play Garden this Wednesday from 3:30 – 4:30 pm!\nWant to join in the fun? RSVP here to let us know you’re coming: https://forms.office.com/r/szWTKauSbU\nPlease use the RSVP link provided to share your intentions to attend\, as this is how we’ll connect to communicate any important updates including cancellations due to weather or playground maintenance.
URL:https://asnl.ca/asnl-calendars/st-johns-summer-play-group-rsvp-needed/2024-07-31/
END:VEVENT
BEGIN:VEVENT
DTSTART;TZID=UTC:20240728T100000
DTEND;TZID=UTC:20240728T120000
DTSTAMP:20260423T173907
CREATED:20240718T142054Z
LAST-MODIFIED:20240718T142652Z
UID:7299-1722160800-1722168000@asnl.ca
SUMMARY:ST. JOHN'S - Scavenger Hunt! Registration required
DESCRIPTION:All ages\, all identities are invited to join us for a scavenger hunt in St. John’s!\nTeams will depart the Fluvarium at 10:00 am.\nSign up as a team of 3 – 5 individuals. Each team is required to nominate a responsible adult over the age of 18 as their team leader.\nASNL staff will be at various check points\, however each team will be responsible for their own supervision.\nClues will be hidden throughout Pippy Park and along the Long Pond Grand Concourse walkway. The goal will be to follow the clues to find a hidden treasure.\n\n\nA BBQ will be hosted at the Elaine Dobbin Centre for Autism for those participating in the scavenger hunt beginning at 11:30 and ending at 1:00. The scavenger hunt will cover various terrain including uneven trailways around Long Pond and Pippy Park\, busy roads (avoiding the Allandale Rd construction as best we can)\, and shared public spaces where pets and or wildlife may be present.\nWe encourage care givers and family members to sign up with any loved ones who may require additional support!\n\n\nREGISTER YOUR TEAM HERE: https://forms.office.com/r/L3vrC6B2M6
URL:https://asnl.ca/asnl-calendars/st-johns-scavenger-hunt-registration-required/
END:VEVENT
BEGIN:VEVENT
DTSTART;VALUE=DATE:20240726
DTEND;VALUE=DATE:20240729
DTSTAMP:20260423T173907
CREATED:20240320T151604Z
LAST-MODIFIED:20240320T151604Z
UID:7014-1721952000-1722211199@asnl.ca
SUMMARY:EASTERN - Fantasy Camp (details to come)
DESCRIPTION:
URL:https://asnl.ca/asnl-calendars/eastern-fantasy-camp-details-to-come/
END:VEVENT
BEGIN:VEVENT
DTSTART;TZID=UTC:20240724T153000
DTEND;TZID=UTC:20240724T163000
DTSTAMP:20260423T173907
CREATED:20240703T142142Z
LAST-MODIFIED:20240703T142142Z
UID:7262-1721835000-1721838600@asnl.ca
SUMMARY:ST. JOHN'S - Summer Play Group - RSVP needed
DESCRIPTION:Save the Date!\nBeginning Wednesday July 10th\, ASNL Staff will be hosting a weekly playgroup at The Janeway St. John’s\, Maple Leaf Play Garden for all our friends aged 11 and under and their care givers!\nWant to join in the fun? RSVP here to let us know you’re coming: https://forms.office.com/r/szWTKauSbU\nOn Mondays we’ll share the link to RSVP to the follow’s Wednesday’s Play Group. Please use the RSVP link provided to share your intentions to attend\, as this is how we’ll connect to communicate any important updates including cancellations due to weather or playground maintenance. \nSchedule to share every Monday beginning July 8th\, ending August 19th with the attached graphic : \nOur friends aged 11 and under (and their care givers) are invited to join us for a Summer Play Group at The Janeway St. John’s\, Maple Leaf Play Garden this Wednesday from 3:30 – 4:30 pm!\nWant to join in the fun? RSVP here to let us know you’re coming: https://forms.office.com/r/szWTKauSbU\nPlease use the RSVP link provided to share your intentions to attend\, as this is how we’ll connect to communicate any important updates including cancellations due to weather or playground maintenance.
URL:https://asnl.ca/asnl-calendars/st-johns-summer-play-group-rsvp-needed/2024-07-24/
END:VEVENT
BEGIN:VEVENT
DTSTART;VALUE=DATE:20240721
DTEND;VALUE=DATE:20240722
DTSTAMP:20260423T173907
CREATED:20240718T142923Z
LAST-MODIFIED:20240718T142923Z
UID:7303-1721520000-1721606399@asnl.ca
SUMMARY:ST. JOHN'S - Pride Parade
DESCRIPTION:ASNL will be participating in the St. John’s Pride Parade this Sunday\, July 21st!! We would love for community members to participate with us! If you would like to join us\, please connect with Sarah Hardiman – shardiman@asnl.ca
URL:https://asnl.ca/asnl-calendars/st-johns-pride-parade/
END:VEVENT
BEGIN:VEVENT
DTSTART;TZID=UTC:20240719T140000
DTEND;TZID=UTC:20240719T153000
DTSTAMP:20260423T173907
CREATED:20240718T142807Z
LAST-MODIFIED:20240718T142807Z
UID:7301-1721397600-1721403000@asnl.ca
SUMMARY:HAPPY VALLEY-GOOSE BAY - Gaming Meet Up
DESCRIPTION:Happy Valley-Goose Bay – Neurodivergent Gamer Meet!\nAll are welcome to come enjoy a safe space to meet other gamers in the area\, and make new friends!\nEmail Jessica at jkeefe@asnl.ca
URL:https://asnl.ca/asnl-calendars/happy-valley-goose-bay-gaming-meet-up/
END:VEVENT
BEGIN:VEVENT
DTSTART;TZID=UTC:20240719T100000
DTEND;TZID=UTC:20240719T130000
DTSTAMP:20260423T173907
CREATED:20240718T143107Z
LAST-MODIFIED:20240718T143107Z
UID:7305-1721383200-1721394000@asnl.ca
SUMMARY:HAPPY VALLEY-GOOSE BAY - Nature Walk
DESCRIPTION:‘Calling all evacuees from Labrador City \n  \nEvacuees and locals alike\, join us tomorrow morning for some sensory games and join Labrador-Grenfell Health for a boardwalk walk at 10! \n  \nASNL will be at the boardwalk entrance from 10-1. All neurodiverse people and their families welcome
URL:https://asnl.ca/asnl-calendars/happy-valley-goose-bay-nature-walk/
END:VEVENT
BEGIN:VEVENT
DTSTART;VALUE=DATE:20240719
DTEND;VALUE=DATE:20240722
DTSTAMP:20260423T173907
CREATED:20240320T151452Z
LAST-MODIFIED:20240320T151802Z
UID:7012-1721347200-1721606399@asnl.ca
SUMMARY:WESTERN - Fantasy Camp (details to come)
DESCRIPTION:
URL:https://asnl.ca/asnl-calendars/western-fantasy-camp/
END:VEVENT
BEGIN:VEVENT
DTSTART;TZID=UTC:20240718T183000
DTEND;TZID=UTC:20240718T203000
DTSTAMP:20260423T173907
CREATED:20230929T121722Z
LAST-MODIFIED:20231108T150242Z
UID:6319-1721327400-1721334600@asnl.ca
SUMMARY:ST. JOHN'S - Connections - In-Person (70 Clinch Cres)
DESCRIPTION:Connections: \nVirtual – 2nd and 4th Monday of each month 630-830 \nAt ASNL St. John’s – every 3rd Thursday of the month \nIn person in community outing St. John’s – 1st Monday of each month
URL:https://asnl.ca/asnl-calendars/st-johns-connections-in-person-70-clinch-cres/2024-07-18/
END:VEVENT
BEGIN:VEVENT
DTSTART;TZID=UTC:20240718T130000
DTEND;TZID=UTC:20240718T150000
DTSTAMP:20260423T173907
CREATED:20240703T142256Z
LAST-MODIFIED:20240703T142509Z
UID:7266-1721307600-1721314800@asnl.ca
SUMMARY:SANDY POND Terra Nova National Park - Beach\, Swim and Hike
DESCRIPTION:Sandy Pond TNNP Beach\, Swim\, Hike!\nDate: July 18th\nTime: 1pm-3pm\nLocated just off TCH between the communities of Charlottetown and Terra Nova\, on Route 1.\nCome for a Swim\, play or relax on the beach\, and/or a Hike around the pond on Sandy Pond Trail.\nA Parks Canada Day Pass would be required – ASNL will provide the day pass if you don’t have one. Please let us know if you will be attending.\nRegistration Required: https://forms.office.com/r/izsh1ZrEGg\nContact: Cdedde@asnl.ca or afillier@asnl.ca for more info.
URL:https://asnl.ca/asnl-calendars/sandy-pond-tnnp-beach-swim-and-hike/
END:VEVENT
BEGIN:VEVENT
DTSTART;TZID=UTC:20240717T153000
DTEND;TZID=UTC:20240717T163000
DTSTAMP:20260423T173907
CREATED:20240703T142142Z
LAST-MODIFIED:20240703T142142Z
UID:7261-1721230200-1721233800@asnl.ca
SUMMARY:ST. JOHN'S - Summer Play Group - RSVP needed
DESCRIPTION:Save the Date!\nBeginning Wednesday July 10th\, ASNL Staff will be hosting a weekly playgroup at The Janeway St. John’s\, Maple Leaf Play Garden for all our friends aged 11 and under and their care givers!\nWant to join in the fun? RSVP here to let us know you’re coming: https://forms.office.com/r/szWTKauSbU\nOn Mondays we’ll share the link to RSVP to the follow’s Wednesday’s Play Group. Please use the RSVP link provided to share your intentions to attend\, as this is how we’ll connect to communicate any important updates including cancellations due to weather or playground maintenance. \nSchedule to share every Monday beginning July 8th\, ending August 19th with the attached graphic : \nOur friends aged 11 and under (and their care givers) are invited to join us for a Summer Play Group at The Janeway St. John’s\, Maple Leaf Play Garden this Wednesday from 3:30 – 4:30 pm!\nWant to join in the fun? RSVP here to let us know you’re coming: https://forms.office.com/r/szWTKauSbU\nPlease use the RSVP link provided to share your intentions to attend\, as this is how we’ll connect to communicate any important updates including cancellations due to weather or playground maintenance.
URL:https://asnl.ca/asnl-calendars/st-johns-summer-play-group-rsvp-needed/2024-07-17/
END:VEVENT
END:VCALENDAR