BEGIN:VCALENDAR
VERSION:2.0
PRODID:-//asnl - ECPv5.16.4//NONSGML v1.0//EN
CALSCALE:GREGORIAN
METHOD:PUBLISH
X-WR-CALNAME:asnl
X-ORIGINAL-URL:https://asnl.ca
X-WR-CALDESC:Events for asnl
REFRESH-INTERVAL;VALUE=DURATION:PT1H
X-Robots-Tag:noindex
X-PUBLISHED-TTL:PT1H
BEGIN:VTIMEZONE
TZID:UTC
BEGIN:STANDARD
TZOFFSETFROM:+0000
TZOFFSETTO:+0000
TZNAME:UTC
DTSTART:20240101T000000
END:STANDARD
END:VTIMEZONE
BEGIN:VEVENT
DTSTART;TZID=UTC:20241103T100000
DTEND;TZID=UTC:20241103T110000
DTSTAMP:20260423T103926
CREATED:20241104T155050Z
LAST-MODIFIED:20241104T155050Z
UID:7612-1730628000-1730631600@asnl.ca
SUMMARY:CLARENVILLE - Recreation Exploration
DESCRIPTION:Join us for Recreation Exploration at the Clarenville Office 383 memorial dr for all ages! \nSundays from 10am-11am. November 3\,10\,24 and December 1\,8\,15 \nWe will have games\, activities\, play and movement! \nRegistration required: https://forms.office.com/r/EFwPd9VTus \nHope to see you there!
URL:https://asnl.ca/asnl-calendars/clarenville-recreation-exploration-3/
END:VEVENT
BEGIN:VEVENT
DTSTART;TZID=UTC:20241030T190000
DTEND;TZID=UTC:20241030T200000
DTSTAMP:20260423T103926
CREATED:20241009T141141Z
LAST-MODIFIED:20241009T141141Z
UID:7573-1730314800-1730318400@asnl.ca
SUMMARY:ST\, JOHN'S GAMING GROUP B (AGES 13+) - registration required
DESCRIPTION:What: ASNL Staff will be hosting 2 gaming groups for ages 9-12 and 13 +\nParticipants are invited to bring your own personal gaming devices (specifically Nintendo Switch)! There will be tablets and a Switch to share\, as well as a space for boardgames. Play together or in parallel with others. Registration is required to ensure a fun\, safe\, neuro-affirming space for all. \nWhen: Wednesdays\, beginning October 9th 2024\nGROUP A: 5:30-6:30pm ages 9-12\nGROUP B: 7:00-8:00pm ages 13+ \nWhere: Autism Society (Located at 70 Clinch crescent St. John’s) \nhttps://forms.office.com/r/uC5PnmnmDD
URL:https://asnl.ca/asnl-calendars/st-johns-gaming-group-b-ages-13-registration-required/2024-10-30/
END:VEVENT
BEGIN:VEVENT
DTSTART;TZID=UTC:20241030T173000
DTEND;TZID=UTC:20241030T183000
DTSTAMP:20260423T103926
CREATED:20241009T140957Z
LAST-MODIFIED:20241009T140957Z
UID:7567-1730309400-1730313000@asnl.ca
SUMMARY:ST. JOHN'S GAMING GROUP A (ages 9-12) - Registration required
DESCRIPTION:What: ASNL Staff will be hosting 2 gaming groups for ages 9-12 and 13 +\nParticipants are invited to bring your own personal gaming devices (specifically Nintendo Switch)! There will be tablets and a Switch to share\, as well as a space for boardgames. Play together or in parallel with others. Registration is required to ensure a fun\, safe\, neuro-affirming space for all. \nWhen: Wednesdays\, beginning October 9th 2024\nGROUP A: 5:30-6:30pm ages 9-12\nGROUP B: 7:00-8:00pm ages 13+ \nWhere: Autism Society (Located at 70 Clinch crescent St. John’s) \nhttps://forms.office.com/r/uC5PnmnmDD
URL:https://asnl.ca/asnl-calendars/st-johns-gaming-group-a-ages-9-12-registration-required/2024-10-30/
END:VEVENT
BEGIN:VEVENT
DTSTART;TZID=UTC:20241029T160000
DTEND;TZID=UTC:20241029T180000
DTSTAMP:20260423T103926
CREATED:20240919T121343Z
LAST-MODIFIED:20240919T121343Z
UID:7416-1730217600-1730224800@asnl.ca
SUMMARY:CLARENVILLE - Trunk Or Treat - Registration required
DESCRIPTION:Eastern ASNL with our Partners Clarenville Lions Club and The Loft\, will be putting off a Trunk or Treat in the Clarenville area. We are looking for other organizations\, businesses and individuals that would like to enter a trunk.  \n  \nPlease Email: afillier@asnl.ca to register your trunk and get more info. \n  \nRegistration for Trunk or Treaters at the link below will open Wednesday September 25th and Close Monday September 30th. This will help us prepare our trunk providers with a number they can expect and allow us to make sure the venue will be sufficient size for attendees. Costumes will be optional. Event is for all Ages and Abilities. \n  \nRegistration Required Here for Trunk or Treaters: https://forms.office.com/r/aenRWeWWZh. This Registration will be open from Sept. 25th to Sept. 30th
URL:https://asnl.ca/asnl-calendars/clarenville-trunk-or-treat-registration-required/
END:VEVENT
BEGIN:VEVENT
DTSTART;TZID=UTC:20241028T183000
DTEND;TZID=UTC:20241028T203000
DTSTAMP:20260423T103926
CREATED:20241001T161812Z
LAST-MODIFIED:20241001T161812Z
UID:7463-1730140200-1730147400@asnl.ca
SUMMARY:CONNECTIONS - HYBRID - IN-PERSON AND VIRTUAL
DESCRIPTION:IN-PERSON – 70 CLINCH CRES
URL:https://asnl.ca/asnl-calendars/connections-hybrid-in-person-and-virtual/2024-10-28/
END:VEVENT
BEGIN:VEVENT
DTSTART;TZID=UTC:20241027T170000
DTEND;TZID=UTC:20241027T183000
DTSTAMP:20260423T103926
CREATED:20240919T121601Z
LAST-MODIFIED:20240919T121601Z
UID:7418-1730048400-1730053800@asnl.ca
SUMMARY:CORNER BROOK - Trunk or Treat - registration required
DESCRIPTION:CORNER BROOK\nSAVE THE DATE for Corner Brook regional office Trunk-or-Treat happening Sunday\, October 27th at 5:00pm-6:30pm. Spaces will be limited; registration will be open on October 2nd at 10:00am.\nEmail jwyatt@asnl.ca for all the info!!
URL:https://asnl.ca/asnl-calendars/corner-brook-trunk-or-treat-registration-required/
END:VEVENT
BEGIN:VEVENT
DTSTART;TZID=UTC:20241027T100000
DTEND;TZID=UTC:20241027T233000
DTSTAMP:20260423T103926
CREATED:20240909T135305Z
LAST-MODIFIED:20240909T135305Z
UID:7405-1730023200-1730071800@asnl.ca
SUMMARY:CLARENVILLE - Teens and Adults Sip and Social
DESCRIPTION:Calling all Teens and Adults in Eastern Region/Clarenville area. \n  \nLet’s get together Sunday mornings and enjoy a beverage of choice\, just chill and hang out or chat\, share interests\, activities\, discuss future events and programs etc. \n  \nWhere: ASNL Eastern Office\, 383 Memorial Dr\, Clarenville. \nWhen: 10am-11:30am Sundays for 6 weeks. Sept. 15\,22\,29 and Oct.06\,20\,27! \nContact: Afillier@asnl.ca for further information \n  \nRegistration Required: https://forms.office.com/r/aZmAfnMHL2
URL:https://asnl.ca/asnl-calendars/clarenville-teens-and-adults-sip-and-social/2024-10-27/
END:VEVENT
BEGIN:VEVENT
DTSTART;TZID=UTC:20241023T190000
DTEND;TZID=UTC:20241023T200000
DTSTAMP:20260423T103926
CREATED:20241009T141141Z
LAST-MODIFIED:20241009T141141Z
UID:7572-1729710000-1729713600@asnl.ca
SUMMARY:ST\, JOHN'S GAMING GROUP B (AGES 13+) - registration required
DESCRIPTION:What: ASNL Staff will be hosting 2 gaming groups for ages 9-12 and 13 +\nParticipants are invited to bring your own personal gaming devices (specifically Nintendo Switch)! There will be tablets and a Switch to share\, as well as a space for boardgames. Play together or in parallel with others. Registration is required to ensure a fun\, safe\, neuro-affirming space for all. \nWhen: Wednesdays\, beginning October 9th 2024\nGROUP A: 5:30-6:30pm ages 9-12\nGROUP B: 7:00-8:00pm ages 13+ \nWhere: Autism Society (Located at 70 Clinch crescent St. John’s) \nhttps://forms.office.com/r/uC5PnmnmDD
URL:https://asnl.ca/asnl-calendars/st-johns-gaming-group-b-ages-13-registration-required/2024-10-23/
END:VEVENT
BEGIN:VEVENT
DTSTART;TZID=UTC:20241023T173000
DTEND;TZID=UTC:20241023T183000
DTSTAMP:20260423T103926
CREATED:20241009T140957Z
LAST-MODIFIED:20241009T140957Z
UID:7566-1729704600-1729708200@asnl.ca
SUMMARY:ST. JOHN'S GAMING GROUP A (ages 9-12) - Registration required
DESCRIPTION:What: ASNL Staff will be hosting 2 gaming groups for ages 9-12 and 13 +\nParticipants are invited to bring your own personal gaming devices (specifically Nintendo Switch)! There will be tablets and a Switch to share\, as well as a space for boardgames. Play together or in parallel with others. Registration is required to ensure a fun\, safe\, neuro-affirming space for all. \nWhen: Wednesdays\, beginning October 9th 2024\nGROUP A: 5:30-6:30pm ages 9-12\nGROUP B: 7:00-8:00pm ages 13+ \nWhere: Autism Society (Located at 70 Clinch crescent St. John’s) \nhttps://forms.office.com/r/uC5PnmnmDD
URL:https://asnl.ca/asnl-calendars/st-johns-gaming-group-a-ages-9-12-registration-required/2024-10-23/
END:VEVENT
BEGIN:VEVENT
DTSTART;TZID=UTC:20241023T151500
DTEND;TZID=UTC:20241023T164500
DTSTAMP:20260423T103926
CREATED:20240919T133915Z
LAST-MODIFIED:20240919T133915Z
UID:7422-1729696500-1729701900@asnl.ca
SUMMARY:ST. JOHN'S - Cooking Class with Chef Brenda - registration required
DESCRIPTION:Registration Opens Friday\, September 20th 10am for our upcoming cooking classes at The Pantry Cafe in the Elaine Dobbin Centre for Autism. \nℹ️ Classes:\n🗓️ Dates: October 9th\, 16th\, and 23rd\n🕒 Time: 3:15 pm – 4:45 pm\n📍 Location: 70 Clinch Cres\, The Pantry Cafe \nhttps://forms.office.com/Pages/ResponsePage.aspx?id=t_74vYLkLESzUiOSnycP1KTMoQwF_XtPpTfwHQ_fWmFURFZJWVBKRU8wRERENkpaVFpJVDVKT1dNTS4u \n📝 Enrolment is on a first-come\, first-serve basis. Please note\, only 4 participants per registration. Aged 16 and up. No waitlist available. \n  \n👩‍🍳 Objective:\nOur program aims to equip participants with essential kitchen skills including safety\, food preparation\, ingredient costing\, and nutrition. We’ll guide you through preparing snacks\, breakfast\, lunch\, and supper over three enriching classes. \n🥦 Each class will focus on one or two recipes\, delving into costs\, required utensils\, and smart shopping choices. We’ll emphasize the importance of nutritious meals and how they impact daily performance. \n🛒 Join us as we explore the world of cooking together\, learning valuable life skills in a supportive environment. Don’t miss out on this fantastic opportunity to enhance your culinary expertise! \n📚 Curriculum Overview:\nWeek 1: Safety\, kitchen vocabulary\, snack\, and breakfast recipes\nWeek 2: Recipe review\, nutrition guide\, lunch recipe\nWeek 3: Recipe review\, ingredient shelf life\, supper recipe \nSecure your spot and embark on this culinary journey with us! \n 
URL:https://asnl.ca/asnl-calendars/st-johns-cooking-class-with-chef-brenda-registration-required/2024-10-23/
END:VEVENT
BEGIN:VEVENT
DTSTART;TZID=UTC:20241021T183000
DTEND;TZID=UTC:20241021T203000
DTSTAMP:20260423T103926
CREATED:20241001T161812Z
LAST-MODIFIED:20241001T161812Z
UID:7462-1729535400-1729542600@asnl.ca
SUMMARY:CONNECTIONS - HYBRID - IN-PERSON AND VIRTUAL
DESCRIPTION:IN-PERSON – 70 CLINCH CRES
URL:https://asnl.ca/asnl-calendars/connections-hybrid-in-person-and-virtual/
END:VEVENT
BEGIN:VEVENT
DTSTART;TZID=UTC:20241020T100000
DTEND;TZID=UTC:20241020T233000
DTSTAMP:20260423T103926
CREATED:20240909T135305Z
LAST-MODIFIED:20240909T135305Z
UID:7404-1729418400-1729467000@asnl.ca
SUMMARY:CLARENVILLE - Teens and Adults Sip and Social
DESCRIPTION:Calling all Teens and Adults in Eastern Region/Clarenville area. \n  \nLet’s get together Sunday mornings and enjoy a beverage of choice\, just chill and hang out or chat\, share interests\, activities\, discuss future events and programs etc. \n  \nWhere: ASNL Eastern Office\, 383 Memorial Dr\, Clarenville. \nWhen: 10am-11:30am Sundays for 6 weeks. Sept. 15\,22\,29 and Oct.06\,20\,27! \nContact: Afillier@asnl.ca for further information \n  \nRegistration Required: https://forms.office.com/r/aZmAfnMHL2
URL:https://asnl.ca/asnl-calendars/clarenville-teens-and-adults-sip-and-social/2024-10-20/
END:VEVENT
BEGIN:VEVENT
DTSTART;VALUE=DATE:20241020
DTEND;VALUE=DATE:20241021
DTSTAMP:20260423T103926
CREATED:20241009T141511Z
LAST-MODIFIED:20241009T141616Z
UID:7577-1729382400-1729468799@asnl.ca
SUMMARY:ACTIVE FOR AUTISM!!
DESCRIPTION:Check out all the details at https://asnl.ca/active-for-autism/
URL:https://asnl.ca/asnl-calendars/active-for-autism-2/
END:VEVENT
BEGIN:VEVENT
DTSTART;TZID=UTC:20241017T183000
DTEND;TZID=UTC:20241017T203000
DTSTAMP:20260423T103926
CREATED:20230929T121722Z
LAST-MODIFIED:20231108T150245Z
UID:6322-1729189800-1729197000@asnl.ca
SUMMARY:ST. JOHN'S - Connections - In-Person (70 Clinch Cres)
DESCRIPTION:Connections: \nVirtual – 2nd and 4th Monday of each month 630-830 \nAt ASNL St. John’s – every 3rd Thursday of the month \nIn person in community outing St. John’s – 1st Monday of each month
URL:https://asnl.ca/asnl-calendars/st-johns-connections-in-person-70-clinch-cres/2024-10-17/
END:VEVENT
BEGIN:VEVENT
DTSTART;TZID=UTC:20241016T190000
DTEND;TZID=UTC:20241016T200000
DTSTAMP:20260423T103926
CREATED:20241009T141141Z
LAST-MODIFIED:20241009T141141Z
UID:7571-1729105200-1729108800@asnl.ca
SUMMARY:ST\, JOHN'S GAMING GROUP B (AGES 13+) - registration required
DESCRIPTION:What: ASNL Staff will be hosting 2 gaming groups for ages 9-12 and 13 +\nParticipants are invited to bring your own personal gaming devices (specifically Nintendo Switch)! There will be tablets and a Switch to share\, as well as a space for boardgames. Play together or in parallel with others. Registration is required to ensure a fun\, safe\, neuro-affirming space for all. \nWhen: Wednesdays\, beginning October 9th 2024\nGROUP A: 5:30-6:30pm ages 9-12\nGROUP B: 7:00-8:00pm ages 13+ \nWhere: Autism Society (Located at 70 Clinch crescent St. John’s) \nhttps://forms.office.com/r/uC5PnmnmDD
URL:https://asnl.ca/asnl-calendars/st-johns-gaming-group-b-ages-13-registration-required/2024-10-16/
END:VEVENT
BEGIN:VEVENT
DTSTART;TZID=UTC:20241016T173000
DTEND;TZID=UTC:20241016T183000
DTSTAMP:20260423T103926
CREATED:20241009T140957Z
LAST-MODIFIED:20241009T140957Z
UID:7565-1729099800-1729103400@asnl.ca
SUMMARY:ST. JOHN'S GAMING GROUP A (ages 9-12) - Registration required
DESCRIPTION:What: ASNL Staff will be hosting 2 gaming groups for ages 9-12 and 13 +\nParticipants are invited to bring your own personal gaming devices (specifically Nintendo Switch)! There will be tablets and a Switch to share\, as well as a space for boardgames. Play together or in parallel with others. Registration is required to ensure a fun\, safe\, neuro-affirming space for all. \nWhen: Wednesdays\, beginning October 9th 2024\nGROUP A: 5:30-6:30pm ages 9-12\nGROUP B: 7:00-8:00pm ages 13+ \nWhere: Autism Society (Located at 70 Clinch crescent St. John’s) \nhttps://forms.office.com/r/uC5PnmnmDD
URL:https://asnl.ca/asnl-calendars/st-johns-gaming-group-a-ages-9-12-registration-required/2024-10-16/
END:VEVENT
BEGIN:VEVENT
DTSTART;TZID=UTC:20241016T151500
DTEND;TZID=UTC:20241016T164500
DTSTAMP:20260423T103926
CREATED:20240919T133915Z
LAST-MODIFIED:20240919T133915Z
UID:7421-1729091700-1729097100@asnl.ca
SUMMARY:ST. JOHN'S - Cooking Class with Chef Brenda - registration required
DESCRIPTION:Registration Opens Friday\, September 20th 10am for our upcoming cooking classes at The Pantry Cafe in the Elaine Dobbin Centre for Autism. \nℹ️ Classes:\n🗓️ Dates: October 9th\, 16th\, and 23rd\n🕒 Time: 3:15 pm – 4:45 pm\n📍 Location: 70 Clinch Cres\, The Pantry Cafe \nhttps://forms.office.com/Pages/ResponsePage.aspx?id=t_74vYLkLESzUiOSnycP1KTMoQwF_XtPpTfwHQ_fWmFURFZJWVBKRU8wRERENkpaVFpJVDVKT1dNTS4u \n📝 Enrolment is on a first-come\, first-serve basis. Please note\, only 4 participants per registration. Aged 16 and up. No waitlist available. \n  \n👩‍🍳 Objective:\nOur program aims to equip participants with essential kitchen skills including safety\, food preparation\, ingredient costing\, and nutrition. We’ll guide you through preparing snacks\, breakfast\, lunch\, and supper over three enriching classes. \n🥦 Each class will focus on one or two recipes\, delving into costs\, required utensils\, and smart shopping choices. We’ll emphasize the importance of nutritious meals and how they impact daily performance. \n🛒 Join us as we explore the world of cooking together\, learning valuable life skills in a supportive environment. Don’t miss out on this fantastic opportunity to enhance your culinary expertise! \n📚 Curriculum Overview:\nWeek 1: Safety\, kitchen vocabulary\, snack\, and breakfast recipes\nWeek 2: Recipe review\, nutrition guide\, lunch recipe\nWeek 3: Recipe review\, ingredient shelf life\, supper recipe \nSecure your spot and embark on this culinary journey with us! \n 
URL:https://asnl.ca/asnl-calendars/st-johns-cooking-class-with-chef-brenda-registration-required/2024-10-16/
END:VEVENT
BEGIN:VEVENT
DTSTART;TZID=UTC:20241009T190000
DTEND;TZID=UTC:20241009T200000
DTSTAMP:20260423T103926
CREATED:20241009T141141Z
LAST-MODIFIED:20241009T141141Z
UID:7570-1728500400-1728504000@asnl.ca
SUMMARY:ST\, JOHN'S GAMING GROUP B (AGES 13+) - registration required
DESCRIPTION:What: ASNL Staff will be hosting 2 gaming groups for ages 9-12 and 13 +\nParticipants are invited to bring your own personal gaming devices (specifically Nintendo Switch)! There will be tablets and a Switch to share\, as well as a space for boardgames. Play together or in parallel with others. Registration is required to ensure a fun\, safe\, neuro-affirming space for all. \nWhen: Wednesdays\, beginning October 9th 2024\nGROUP A: 5:30-6:30pm ages 9-12\nGROUP B: 7:00-8:00pm ages 13+ \nWhere: Autism Society (Located at 70 Clinch crescent St. John’s) \nhttps://forms.office.com/r/uC5PnmnmDD
URL:https://asnl.ca/asnl-calendars/st-johns-gaming-group-b-ages-13-registration-required/
END:VEVENT
BEGIN:VEVENT
DTSTART;TZID=UTC:20241009T173000
DTEND;TZID=UTC:20241009T183000
DTSTAMP:20260423T103926
CREATED:20241009T140957Z
LAST-MODIFIED:20241009T141024Z
UID:7563-1728495000-1728498600@asnl.ca
SUMMARY:ST. JOHN'S GAMING GROUP A (ages 9-12) - Registration required
DESCRIPTION:What: ASNL Staff will be hosting 2 gaming groups for ages 9-12 and 13 +\nParticipants are invited to bring your own personal gaming devices (specifically Nintendo Switch)! There will be tablets and a Switch to share\, as well as a space for boardgames. Play together or in parallel with others. Registration is required to ensure a fun\, safe\, neuro-affirming space for all. \nWhen: Wednesdays\, beginning October 9th 2024\nGROUP A: 5:30-6:30pm ages 9-12\nGROUP B: 7:00-8:00pm ages 13+ \nWhere: Autism Society (Located at 70 Clinch crescent St. John’s) \nhttps://forms.office.com/r/uC5PnmnmDD
URL:https://asnl.ca/asnl-calendars/st-johns-gaming-group-a-ages-9-12-registration-required/2024-10-09/
END:VEVENT
BEGIN:VEVENT
DTSTART;TZID=UTC:20241009T151500
DTEND;TZID=UTC:20241009T164500
DTSTAMP:20260423T103926
CREATED:20240919T133915Z
LAST-MODIFIED:20240919T133915Z
UID:7420-1728486900-1728492300@asnl.ca
SUMMARY:ST. JOHN'S - Cooking Class with Chef Brenda - registration required
DESCRIPTION:Registration Opens Friday\, September 20th 10am for our upcoming cooking classes at The Pantry Cafe in the Elaine Dobbin Centre for Autism. \nℹ️ Classes:\n🗓️ Dates: October 9th\, 16th\, and 23rd\n🕒 Time: 3:15 pm – 4:45 pm\n📍 Location: 70 Clinch Cres\, The Pantry Cafe \nhttps://forms.office.com/Pages/ResponsePage.aspx?id=t_74vYLkLESzUiOSnycP1KTMoQwF_XtPpTfwHQ_fWmFURFZJWVBKRU8wRERENkpaVFpJVDVKT1dNTS4u \n📝 Enrolment is on a first-come\, first-serve basis. Please note\, only 4 participants per registration. Aged 16 and up. No waitlist available. \n  \n👩‍🍳 Objective:\nOur program aims to equip participants with essential kitchen skills including safety\, food preparation\, ingredient costing\, and nutrition. We’ll guide you through preparing snacks\, breakfast\, lunch\, and supper over three enriching classes. \n🥦 Each class will focus on one or two recipes\, delving into costs\, required utensils\, and smart shopping choices. We’ll emphasize the importance of nutritious meals and how they impact daily performance. \n🛒 Join us as we explore the world of cooking together\, learning valuable life skills in a supportive environment. Don’t miss out on this fantastic opportunity to enhance your culinary expertise! \n📚 Curriculum Overview:\nWeek 1: Safety\, kitchen vocabulary\, snack\, and breakfast recipes\nWeek 2: Recipe review\, nutrition guide\, lunch recipe\nWeek 3: Recipe review\, ingredient shelf life\, supper recipe \nSecure your spot and embark on this culinary journey with us! \n 
URL:https://asnl.ca/asnl-calendars/st-johns-cooking-class-with-chef-brenda-registration-required/
END:VEVENT
BEGIN:VEVENT
DTSTART;TZID=UTC:20241007T183000
DTEND;TZID=UTC:20241007T203000
DTSTAMP:20260423T103926
CREATED:20241001T161504Z
LAST-MODIFIED:20241001T161504Z
UID:7460-1728325800-1728333000@asnl.ca
SUMMARY:CONNECTIONS IN-PERSON - Wendy's/Tim's Mt Pearl
DESCRIPTION:
URL:https://asnl.ca/asnl-calendars/connections-in-person-wendys-tims-mt-pearl/
END:VEVENT
BEGIN:VEVENT
DTSTART;TZID=UTC:20241006T100000
DTEND;TZID=UTC:20241006T233000
DTSTAMP:20260423T103926
CREATED:20240909T135305Z
LAST-MODIFIED:20240909T135305Z
UID:7403-1728208800-1728257400@asnl.ca
SUMMARY:CLARENVILLE - Teens and Adults Sip and Social
DESCRIPTION:Calling all Teens and Adults in Eastern Region/Clarenville area. \n  \nLet’s get together Sunday mornings and enjoy a beverage of choice\, just chill and hang out or chat\, share interests\, activities\, discuss future events and programs etc. \n  \nWhere: ASNL Eastern Office\, 383 Memorial Dr\, Clarenville. \nWhen: 10am-11:30am Sundays for 6 weeks. Sept. 15\,22\,29 and Oct.06\,20\,27! \nContact: Afillier@asnl.ca for further information \n  \nRegistration Required: https://forms.office.com/r/aZmAfnMHL2
URL:https://asnl.ca/asnl-calendars/clarenville-teens-and-adults-sip-and-social/2024-10-06/
END:VEVENT
BEGIN:VEVENT
DTSTART;TZID=UTC:20240929T130000
DTEND;TZID=UTC:20240929T135500
DTSTAMP:20260423T103926
CREATED:20240912T182144Z
LAST-MODIFIED:20240912T182144Z
UID:7410-1727614800-1727618100@asnl.ca
SUMMARY:STEPHENVILLE - Family Swim (registration needed)
DESCRIPTION:Join us for our family swim event in Stephenville\, 20 Tennessee Dr\, Sunday September 29th from 1:00pm-1:55pm. This event is free of charge and we hope to see you there. For any questions please contact Jessica at jwyatt@asnl.ca \nPlease use the link below to register. \nhttps://forms.office.com/r/wX5HzuJGDz
URL:https://asnl.ca/asnl-calendars/stephenville-family-swim-registration-needed/
END:VEVENT
BEGIN:VEVENT
DTSTART;TZID=UTC:20240929T100000
DTEND;TZID=UTC:20240929T233000
DTSTAMP:20260423T103926
CREATED:20240909T135305Z
LAST-MODIFIED:20240909T135305Z
UID:7402-1727604000-1727652600@asnl.ca
SUMMARY:CLARENVILLE - Teens and Adults Sip and Social
DESCRIPTION:Calling all Teens and Adults in Eastern Region/Clarenville area. \n  \nLet’s get together Sunday mornings and enjoy a beverage of choice\, just chill and hang out or chat\, share interests\, activities\, discuss future events and programs etc. \n  \nWhere: ASNL Eastern Office\, 383 Memorial Dr\, Clarenville. \nWhen: 10am-11:30am Sundays for 6 weeks. Sept. 15\,22\,29 and Oct.06\,20\,27! \nContact: Afillier@asnl.ca for further information \n  \nRegistration Required: https://forms.office.com/r/aZmAfnMHL2
URL:https://asnl.ca/asnl-calendars/clarenville-teens-and-adults-sip-and-social/2024-09-29/
END:VEVENT
BEGIN:VEVENT
DTSTART;TZID=UTC:20240922T100000
DTEND;TZID=UTC:20240922T233000
DTSTAMP:20260423T103926
CREATED:20240909T135305Z
LAST-MODIFIED:20240909T135305Z
UID:7401-1726999200-1727047800@asnl.ca
SUMMARY:CLARENVILLE - Teens and Adults Sip and Social
DESCRIPTION:Calling all Teens and Adults in Eastern Region/Clarenville area. \n  \nLet’s get together Sunday mornings and enjoy a beverage of choice\, just chill and hang out or chat\, share interests\, activities\, discuss future events and programs etc. \n  \nWhere: ASNL Eastern Office\, 383 Memorial Dr\, Clarenville. \nWhen: 10am-11:30am Sundays for 6 weeks. Sept. 15\,22\,29 and Oct.06\,20\,27! \nContact: Afillier@asnl.ca for further information \n  \nRegistration Required: https://forms.office.com/r/aZmAfnMHL2
URL:https://asnl.ca/asnl-calendars/clarenville-teens-and-adults-sip-and-social/2024-09-22/
END:VEVENT
BEGIN:VEVENT
DTSTART;TZID=UTC:20240921T100000
DTEND;TZID=UTC:20240921T120000
DTSTAMP:20260423T103926
CREATED:20240821T163951Z
LAST-MODIFIED:20240821T163951Z
UID:7371-1726912800-1726920000@asnl.ca
SUMMARY:Annual General Meeting
DESCRIPTION:The 2024 Annual General Meeting of the Autism Society of Newfoundland & Labrador (ASNL) will be held on Saturday\, September 21st\, 2024 at the ASNL Greenhouse\, 70 Clinch Crescent\, St. John’s\, NL beginning at 10:00 am. The meeting will be live streamed. If you are interested in attending please (either virtually or in person) please register by e-mailing info@asnl.ca or calling 709-722-2803
URL:https://asnl.ca/asnl-calendars/annual-general-meeting/
END:VEVENT
BEGIN:VEVENT
DTSTART;TZID=UTC:20240919T183000
DTEND;TZID=UTC:20240919T203000
DTSTAMP:20260423T103926
CREATED:20230929T121722Z
LAST-MODIFIED:20231108T150244Z
UID:6321-1726770600-1726777800@asnl.ca
SUMMARY:ST. JOHN'S - Connections - In-Person (70 Clinch Cres)
DESCRIPTION:Connections: \nVirtual – 2nd and 4th Monday of each month 630-830 \nAt ASNL St. John’s – every 3rd Thursday of the month \nIn person in community outing St. John’s – 1st Monday of each month
URL:https://asnl.ca/asnl-calendars/st-johns-connections-in-person-70-clinch-cres/2024-09-19/
END:VEVENT
BEGIN:VEVENT
DTSTART;TZID=UTC:20240915T100000
DTEND;TZID=UTC:20240915T233000
DTSTAMP:20260423T103926
CREATED:20240909T135305Z
LAST-MODIFIED:20240909T135305Z
UID:7400-1726394400-1726443000@asnl.ca
SUMMARY:CLARENVILLE - Teens and Adults Sip and Social
DESCRIPTION:Calling all Teens and Adults in Eastern Region/Clarenville area. \n  \nLet’s get together Sunday mornings and enjoy a beverage of choice\, just chill and hang out or chat\, share interests\, activities\, discuss future events and programs etc. \n  \nWhere: ASNL Eastern Office\, 383 Memorial Dr\, Clarenville. \nWhen: 10am-11:30am Sundays for 6 weeks. Sept. 15\,22\,29 and Oct.06\,20\,27! \nContact: Afillier@asnl.ca for further information \n  \nRegistration Required: https://forms.office.com/r/aZmAfnMHL2
URL:https://asnl.ca/asnl-calendars/clarenville-teens-and-adults-sip-and-social/
END:VEVENT
BEGIN:VEVENT
DTSTART;TZID=UTC:20240829T180000
DTEND;TZID=UTC:20240829T193000
DTSTAMP:20260423T103926
CREATED:20240826T180604Z
LAST-MODIFIED:20240826T180604Z
UID:7386-1724954400-1724959800@asnl.ca
SUMMARY:SHESHATSHIU - Parent and Peer Support Group
DESCRIPTION:Join us this Thursday for our September Sheshatshiu event! 🍂 We’ll have rock painting\, finger painting\, colouring pages\, fidget toys and more. 🍂 \n  \n🖌️🎨 This is meant to be a safe space for parents and neurodiverse people to gather and share support\, tips and their advice! 🖌️🎨 \n  \n☀️ Join us at the Sheshatshiu Youth Centre from 6 to 7:30 p.m. AT ☀️ \n  \n*Please note\, this event is earlier than the usual first weekend due to the holiday weekend\, at the request of our families.*
URL:https://asnl.ca/asnl-calendars/sheshatshiu-parent-and-peer-support-group/
END:VEVENT
BEGIN:VEVENT
DTSTART;TZID=UTC:20240825T110000
DTEND;TZID=UTC:20240825T130000
DTSTAMP:20260423T103926
CREATED:20240823T114944Z
LAST-MODIFIED:20240823T115050Z
UID:7384-1724583600-1724590800@asnl.ca
SUMMARY:PASADENA - Beach Day
DESCRIPTION:Please join us on Sunday August 25th for a family beach day at Pasadena beach\, Ryans road\, Pasadena. Contact Jessica at jwyatt@asnl.ca for any questions or concerns
URL:https://asnl.ca/asnl-calendars/pasadena-beach-day/
END:VEVENT
END:VCALENDAR