BEGIN:VCALENDAR
VERSION:2.0
PRODID:-//asnl - ECPv5.16.4//NONSGML v1.0//EN
CALSCALE:GREGORIAN
METHOD:PUBLISH
X-WR-CALNAME:asnl
X-ORIGINAL-URL:https://asnl.ca
X-WR-CALDESC:Events for asnl
REFRESH-INTERVAL;VALUE=DURATION:PT1H
X-Robots-Tag:noindex
X-PUBLISHED-TTL:PT1H
BEGIN:VTIMEZONE
TZID:UTC
BEGIN:STANDARD
TZOFFSETFROM:+0000
TZOFFSETTO:+0000
TZNAME:UTC
DTSTART:20240101T000000
END:STANDARD
END:VTIMEZONE
BEGIN:VEVENT
DTSTART;TZID=UTC:20250205T130000
DTEND;TZID=UTC:20250205T140000
DTSTAMP:20260423T112536
CREATED:20250107T165920Z
LAST-MODIFIED:20250107T165920Z
UID:7709-1738760400-1738764000@asnl.ca
SUMMARY:CORNER BROOK - Drop-in Playtime
DESCRIPTION:The Corner Brook Regional Office is hosting a drop-in playtime every Wednesday\, beginning January 15th\, from 1:00 PM to 2:00 PM at 50 Main Street\, Suite 105. It’s a great chance to come by\, have fun\, and enjoy our laid-back atmosphere\, including our sensory room.\n\nPlease note that guardians must be present the entire time.\n\nIf you’re thinking of joining us on Wednesdays\, Please email Jessica at jwyatt@asnl.ca or Paul at plockyer@asnl.ca in advance.
URL:https://asnl.ca/asnl-calendars/corner-brook-drop-in-playtime/2025-02-05/
END:VEVENT
BEGIN:VEVENT
DTSTART;TZID=UTC:20250204T130000
DTEND;TZID=UTC:20250204T135000
DTSTAMP:20260423T112536
CREATED:20241219T183449Z
LAST-MODIFIED:20241219T183449Z
UID:7690-1738674000-1738677000@asnl.ca
SUMMARY:TORBAY - Sensory Skate Jack Byrne Arena
DESCRIPTION:Check out the Sensory Skate at Jack Byrne Regional Sport & Entertainment Centre!! \nTuesdays\, 1-1:50pm – Admission $3 \nStarting Jan 7th
URL:https://asnl.ca/asnl-calendars/torbay-sensory-skate-jack-byrne-arena/2025-02-04/
END:VEVENT
BEGIN:VEVENT
DTSTART;TZID=UTC:20250129T180000
DTEND;TZID=UTC:20250129T190000
DTSTAMP:20260423T112536
CREATED:20250116T143538Z
LAST-MODIFIED:20250116T143538Z
UID:7715-1738173600-1738177200@asnl.ca
SUMMARY:CORNER BROOK - Lego Club *registration needed*
DESCRIPTION:LEGO CLUB PROGRAM\n\n  This program is open to all ages and offers an enjoyable experience in a relaxed setting. It will be held at the Corner Brook YMCA\, located at 2 Herald Avenue (Millbrook Mall\, lower entrance). \nThe Lego club meets bi-weekly starting Wednesday\, January 29th through April 2nd \, from 6:00 to 7:00pm.\n\nRunning dates: January 29th\, February 12th & 26th March 12th and 26th and April 2nd \n\nPLEASE NOTE: Filling out this application form does not guarantee the applicant a spot in Lego Club Program. Applications will be considered on a first-come first-served basis.\nPlease use the link below to register:\nhttps://forms.office.com/r/ubCqMA7sqV\n\nPlease contact Jessica at jwyatt@asnl.ca with any questions or concerns.
URL:https://asnl.ca/asnl-calendars/corner-brook-lego-club-registration-needed/
END:VEVENT
BEGIN:VEVENT
DTSTART;TZID=UTC:20250129T130000
DTEND;TZID=UTC:20250129T140000
DTSTAMP:20260423T112536
CREATED:20250107T165920Z
LAST-MODIFIED:20250107T165920Z
UID:7708-1738155600-1738159200@asnl.ca
SUMMARY:CORNER BROOK - Drop-in Playtime
DESCRIPTION:The Corner Brook Regional Office is hosting a drop-in playtime every Wednesday\, beginning January 15th\, from 1:00 PM to 2:00 PM at 50 Main Street\, Suite 105. It’s a great chance to come by\, have fun\, and enjoy our laid-back atmosphere\, including our sensory room.\n\nPlease note that guardians must be present the entire time.\n\nIf you’re thinking of joining us on Wednesdays\, Please email Jessica at jwyatt@asnl.ca or Paul at plockyer@asnl.ca in advance.
URL:https://asnl.ca/asnl-calendars/corner-brook-drop-in-playtime/2025-01-29/
END:VEVENT
BEGIN:VEVENT
DTSTART;TZID=UTC:20250128T130000
DTEND;TZID=UTC:20250128T135000
DTSTAMP:20260423T112536
CREATED:20241219T183449Z
LAST-MODIFIED:20241219T183449Z
UID:7689-1738069200-1738072200@asnl.ca
SUMMARY:TORBAY - Sensory Skate Jack Byrne Arena
DESCRIPTION:Check out the Sensory Skate at Jack Byrne Regional Sport & Entertainment Centre!! \nTuesdays\, 1-1:50pm – Admission $3 \nStarting Jan 7th
URL:https://asnl.ca/asnl-calendars/torbay-sensory-skate-jack-byrne-arena/2025-01-28/
END:VEVENT
BEGIN:VEVENT
DTSTART;TZID=UTC:20250122T130000
DTEND;TZID=UTC:20250122T140000
DTSTAMP:20260423T112536
CREATED:20250107T165920Z
LAST-MODIFIED:20250107T165920Z
UID:7707-1737550800-1737554400@asnl.ca
SUMMARY:CORNER BROOK - Drop-in Playtime
DESCRIPTION:The Corner Brook Regional Office is hosting a drop-in playtime every Wednesday\, beginning January 15th\, from 1:00 PM to 2:00 PM at 50 Main Street\, Suite 105. It’s a great chance to come by\, have fun\, and enjoy our laid-back atmosphere\, including our sensory room.\n\nPlease note that guardians must be present the entire time.\n\nIf you’re thinking of joining us on Wednesdays\, Please email Jessica at jwyatt@asnl.ca or Paul at plockyer@asnl.ca in advance.
URL:https://asnl.ca/asnl-calendars/corner-brook-drop-in-playtime/2025-01-22/
END:VEVENT
BEGIN:VEVENT
DTSTART;TZID=UTC:20250121T130000
DTEND;TZID=UTC:20250121T135000
DTSTAMP:20260423T112536
CREATED:20241219T183449Z
LAST-MODIFIED:20241219T183449Z
UID:7688-1737464400-1737467400@asnl.ca
SUMMARY:TORBAY - Sensory Skate Jack Byrne Arena
DESCRIPTION:Check out the Sensory Skate at Jack Byrne Regional Sport & Entertainment Centre!! \nTuesdays\, 1-1:50pm – Admission $3 \nStarting Jan 7th
URL:https://asnl.ca/asnl-calendars/torbay-sensory-skate-jack-byrne-arena/2025-01-21/
END:VEVENT
BEGIN:VEVENT
DTSTART;TZID=UTC:20250119T180000
DTEND;TZID=UTC:20250119T210000
DTSTAMP:20260423T112536
CREATED:20250107T165230Z
LAST-MODIFIED:20250107T165810Z
UID:7704-1737309600-1737320400@asnl.ca
SUMMARY:St. John's - Physical Art Troupe Performance
DESCRIPTION:You’re invited to join the students of ASNL’s Physical Art Troupe for their upcoming student showcase on Sunday\, January 19th at Magic Storm Events!\nAudience members can expect to see magnificent musicians\, dazzling dancers\, sensational skits\, clowns clowning\, and jugglers having a ball in solo and group performances that have been developed by the participants especially for you\, their audience! The performers have created each of these acts themselves\, and the audience will see the magic of social circus through the collaboration and imagination of our performing artists. We’ll also be joined by special guests\, Jing Xia and Thru Kaos!\n\n\nWe’d like to thank Magic Storm Events\, Soundbone Traditional Arts Foundation\, and Cirkaskina for their partnership in this spectacular production!\n\n\nTickets are available now: https://www.eventbrite.ca/…/the-spectacular-phart…
URL:https://asnl.ca/asnl-calendars/st-johns-physical-art-troupe-performance/
END:VEVENT
BEGIN:VEVENT
DTSTART;TZID=UTC:20250116T183000
DTEND;TZID=UTC:20250116T203000
DTSTAMP:20260423T112536
CREATED:20230929T121722Z
LAST-MODIFIED:20231108T150245Z
UID:6325-1737052200-1737059400@asnl.ca
SUMMARY:ST. JOHN'S - Connections - In-Person (70 Clinch Cres)
DESCRIPTION:Connections: \nVirtual – 2nd and 4th Monday of each month 630-830 \nAt ASNL St. John’s – every 3rd Thursday of the month \nIn person in community outing St. John’s – 1st Monday of each month
URL:https://asnl.ca/asnl-calendars/st-johns-connections-in-person-70-clinch-cres/2025-01-16/
END:VEVENT
BEGIN:VEVENT
DTSTART;TZID=UTC:20250115T130000
DTEND;TZID=UTC:20250115T140000
DTSTAMP:20260423T112536
CREATED:20250107T165920Z
LAST-MODIFIED:20250107T165920Z
UID:7706-1736946000-1736949600@asnl.ca
SUMMARY:CORNER BROOK - Drop-in Playtime
DESCRIPTION:The Corner Brook Regional Office is hosting a drop-in playtime every Wednesday\, beginning January 15th\, from 1:00 PM to 2:00 PM at 50 Main Street\, Suite 105. It’s a great chance to come by\, have fun\, and enjoy our laid-back atmosphere\, including our sensory room.\n\nPlease note that guardians must be present the entire time.\n\nIf you’re thinking of joining us on Wednesdays\, Please email Jessica at jwyatt@asnl.ca or Paul at plockyer@asnl.ca in advance.
URL:https://asnl.ca/asnl-calendars/corner-brook-drop-in-playtime/
END:VEVENT
BEGIN:VEVENT
DTSTART;TZID=UTC:20250114T183000
DTEND;TZID=UTC:20250114T193000
DTSTAMP:20260423T112536
CREATED:20241120T140241Z
LAST-MODIFIED:20241120T140241Z
UID:7647-1736879400-1736883000@asnl.ca
SUMMARY:HAPPY VALLEY - GOOSE BAY - Drop-In Nights
DESCRIPTION:Happy Valley-Goose Bay!! We would love to see you!\n\n\nStarting next week\, join us for Drop-In nights that will include crafts\, games\, Legos and swimming!\n\n\nEmail Rec Coordinator\, Joshua with any questions! jwhite@asnl.ca\n\nK-6 – Tuesdays\, 7-12 Thursdays
URL:https://asnl.ca/asnl-calendars/happy-valley-goose-bay-drop-in-nights/2025-01-14/
END:VEVENT
BEGIN:VEVENT
DTSTART;TZID=UTC:20250114T130000
DTEND;TZID=UTC:20250114T135000
DTSTAMP:20260423T112536
CREATED:20241219T183449Z
LAST-MODIFIED:20241219T183449Z
UID:7687-1736859600-1736862600@asnl.ca
SUMMARY:TORBAY - Sensory Skate Jack Byrne Arena
DESCRIPTION:Check out the Sensory Skate at Jack Byrne Regional Sport & Entertainment Centre!! \nTuesdays\, 1-1:50pm – Admission $3 \nStarting Jan 7th
URL:https://asnl.ca/asnl-calendars/torbay-sensory-skate-jack-byrne-arena/2025-01-14/
END:VEVENT
BEGIN:VEVENT
DTSTART;TZID=UTC:20250112T130000
DTEND;TZID=UTC:20250112T160000
DTSTAMP:20260423T112536
CREATED:20241203T171251Z
LAST-MODIFIED:20241203T171251Z
UID:7672-1736686800-1736697600@asnl.ca
SUMMARY:ST. JOHN'S - Paint Party *registration required*
DESCRIPTION:Join us on Sunday\, January 12th 2025 for a Paint Party hosted by ASNL’s resident artist\, Terra Wadman (@The.artinmylife) at the Elaine Dobbin Centre in St. John’s! Unleash your own creativity with the canvases\, paint\, and brushes provided\, or follow along with Terra to paint a winter wonderland scene. Friends of all ages and abilities are welcome\, however this particular event will likely be better suited to those aged 10 – 110. Spaces are limited\, and therefore registration is required. Registration will open at 9:00 am on Monday December 30th. For more details and to register\, see the Eventbrite link here: https://www.eventbrite.ca/e/january-paint-party-tickets-1101634952799?aff=oddtdtcreator
URL:https://asnl.ca/asnl-calendars/st-johns-paint-party-registration-required/
END:VEVENT
BEGIN:VEVENT
DTSTART;TZID=UTC:20250109T183000
DTEND;TZID=UTC:20250109T193000
DTSTAMP:20260423T112536
CREATED:20241120T140241Z
LAST-MODIFIED:20241120T140241Z
UID:7646-1736447400-1736451000@asnl.ca
SUMMARY:HAPPY VALLEY - GOOSE BAY - Drop-In Nights
DESCRIPTION:Happy Valley-Goose Bay!! We would love to see you!\n\n\nStarting next week\, join us for Drop-In nights that will include crafts\, games\, Legos and swimming!\n\n\nEmail Rec Coordinator\, Joshua with any questions! jwhite@asnl.ca\n\nK-6 – Tuesdays\, 7-12 Thursdays
URL:https://asnl.ca/asnl-calendars/happy-valley-goose-bay-drop-in-nights/2025-01-09/
END:VEVENT
BEGIN:VEVENT
DTSTART;TZID=UTC:20250107T183000
DTEND;TZID=UTC:20250107T193000
DTSTAMP:20260423T112536
CREATED:20241120T140241Z
LAST-MODIFIED:20241120T140241Z
UID:7645-1736274600-1736278200@asnl.ca
SUMMARY:HAPPY VALLEY - GOOSE BAY - Drop-In Nights
DESCRIPTION:Happy Valley-Goose Bay!! We would love to see you!\n\n\nStarting next week\, join us for Drop-In nights that will include crafts\, games\, Legos and swimming!\n\n\nEmail Rec Coordinator\, Joshua with any questions! jwhite@asnl.ca\n\nK-6 – Tuesdays\, 7-12 Thursdays
URL:https://asnl.ca/asnl-calendars/happy-valley-goose-bay-drop-in-nights/2025-01-07/
END:VEVENT
BEGIN:VEVENT
DTSTART;TZID=UTC:20250107T130000
DTEND;TZID=UTC:20250107T135000
DTSTAMP:20260423T112536
CREATED:20241219T183449Z
LAST-MODIFIED:20241219T183449Z
UID:7686-1736254800-1736257800@asnl.ca
SUMMARY:TORBAY - Sensory Skate Jack Byrne Arena
DESCRIPTION:Check out the Sensory Skate at Jack Byrne Regional Sport & Entertainment Centre!! \nTuesdays\, 1-1:50pm – Admission $3 \nStarting Jan 7th
URL:https://asnl.ca/asnl-calendars/torbay-sensory-skate-jack-byrne-arena/
END:VEVENT
BEGIN:VEVENT
DTSTART;TZID=UTC:20241223T183000
DTEND;TZID=UTC:20241223T203000
DTSTAMP:20260423T112536
CREATED:20241001T162036Z
LAST-MODIFIED:20241001T162036Z
UID:7473-1734978600-1734985800@asnl.ca
SUMMARY:CONNECTIONS - VIRTUAL C'MAS PARTY
DESCRIPTION:
URL:https://asnl.ca/asnl-calendars/connections-virtual-cmas-party/
END:VEVENT
BEGIN:VEVENT
DTSTART;TZID=UTC:20241219T183000
DTEND;TZID=UTC:20241219T203000
DTSTAMP:20260423T112536
CREATED:20230929T121722Z
LAST-MODIFIED:20231108T150245Z
UID:6324-1734633000-1734640200@asnl.ca
SUMMARY:ST. JOHN'S - Connections - In-Person (70 Clinch Cres)
DESCRIPTION:Connections: \nVirtual – 2nd and 4th Monday of each month 630-830 \nAt ASNL St. John’s – every 3rd Thursday of the month \nIn person in community outing St. John’s – 1st Monday of each month
URL:https://asnl.ca/asnl-calendars/st-johns-connections-in-person-70-clinch-cres/2024-12-19/
END:VEVENT
BEGIN:VEVENT
DTSTART;TZID=UTC:20241219T183000
DTEND;TZID=UTC:20241219T193000
DTSTAMP:20260423T112536
CREATED:20241120T140241Z
LAST-MODIFIED:20241120T140241Z
UID:7644-1734633000-1734636600@asnl.ca
SUMMARY:HAPPY VALLEY - GOOSE BAY - Drop-In Nights
DESCRIPTION:Happy Valley-Goose Bay!! We would love to see you!\n\n\nStarting next week\, join us for Drop-In nights that will include crafts\, games\, Legos and swimming!\n\n\nEmail Rec Coordinator\, Joshua with any questions! jwhite@asnl.ca\n\nK-6 – Tuesdays\, 7-12 Thursdays
URL:https://asnl.ca/asnl-calendars/happy-valley-goose-bay-drop-in-nights/2024-12-19/
END:VEVENT
BEGIN:VEVENT
DTSTART;TZID=UTC:20241217T183000
DTEND;TZID=UTC:20241217T193000
DTSTAMP:20260423T112536
CREATED:20241120T140241Z
LAST-MODIFIED:20241120T140241Z
UID:7643-1734460200-1734463800@asnl.ca
SUMMARY:HAPPY VALLEY - GOOSE BAY - Drop-In Nights
DESCRIPTION:Happy Valley-Goose Bay!! We would love to see you!\n\n\nStarting next week\, join us for Drop-In nights that will include crafts\, games\, Legos and swimming!\n\n\nEmail Rec Coordinator\, Joshua with any questions! jwhite@asnl.ca\n\nK-6 – Tuesdays\, 7-12 Thursdays
URL:https://asnl.ca/asnl-calendars/happy-valley-goose-bay-drop-in-nights/2024-12-17/
END:VEVENT
BEGIN:VEVENT
DTSTART;TZID=UTC:20241217T180000
DTEND;TZID=UTC:20241217T190000
DTSTAMP:20260423T112536
CREATED:20241113T191057Z
LAST-MODIFIED:20241113T191057Z
UID:7633-1734458400-1734462000@asnl.ca
SUMMARY:CORNER BROOK - Sensory Play Program - registration required
DESCRIPTION:Come and be a part of our weekly sensory play program every Tuesday from 6:00 to 7:00 PM\, running from November 26th to December 17th. This program welcomes participants of all ages to dive into a variety of sensory activities\, including play-doh\, slime\, and so much more. Join us at the Corner Brook Regional Office located at 50 Main Street\, Suite 105.\n\nPlease use the link below to register:\nhttps://forms.office.com/r/9r7ijCMMNb\n\nPlease note that spaces are limited\, and participants will be accepted on a first-come\, first-served basis. If you have any questions or need further information\, feel free to reach to Jessica at jwyatt@asnl.ca.
URL:https://asnl.ca/asnl-calendars/corner-brook-sensory-play-program-registration-required/2024-12-17/
END:VEVENT
BEGIN:VEVENT
DTSTART;TZID=UTC:20241216T183000
DTEND;TZID=UTC:20241216T203000
DTSTAMP:20260423T112536
CREATED:20241001T161812Z
LAST-MODIFIED:20241001T161812Z
UID:7467-1734373800-1734381000@asnl.ca
SUMMARY:CONNECTIONS - HYBRID - IN-PERSON AND VIRTUAL
DESCRIPTION:IN-PERSON – 70 CLINCH CRES
URL:https://asnl.ca/asnl-calendars/connections-hybrid-in-person-and-virtual/2024-12-16/
END:VEVENT
BEGIN:VEVENT
DTSTART;TZID=UTC:20241215T160000
DTEND;TZID=UTC:20241215T180000
DTSTAMP:20260423T112536
CREATED:20241202T154124Z
LAST-MODIFIED:20241202T154124Z
UID:7668-1734278400-1734285600@asnl.ca
SUMMARY:CORNER BROOK - C'mas Party
DESCRIPTION:We are throwing our annual Christmas Party at Club 64\, located at 55 Broadway in Corner Brook. Mark your calendars for Sunday\, December15th\, from 4:00 to 6:00pm. Santa will be stopping by at 5:00pm to say hello and snap some photos with anyone who wants to join in.\n\nFeel free to bring your family along to enjoy the fun activities and a delicious pizza party!\n\nPlease remember to fill out the form linked below with exact number of attendees\, including guardians. If your plans change and your family can no longer attend after submitting the form\, please let me know.\nhttps://forms.office.com/r/5Y12q4M90Y\n\nIf you have any questions or concerns\, please contact Jessica at jwyatt@asnl.ca
URL:https://asnl.ca/asnl-calendars/corner-brook-cmas-party/
END:VEVENT
BEGIN:VEVENT
DTSTART;TZID=UTC:20241215T100000
DTEND;TZID=UTC:20241215T110000
DTSTAMP:20260423T112536
CREATED:20241104T155050Z
LAST-MODIFIED:20241104T155050Z
UID:7620-1734256800-1734260400@asnl.ca
SUMMARY:CLARENVILLE - Recreation Exploration
DESCRIPTION:Join us for Recreation Exploration at the Clarenville Office 383 memorial dr for all ages! \nSundays from 10am-11am. November 3\,10\,24 and December 1\,8\,15 \nWe will have games\, activities\, play and movement! \nRegistration required: https://forms.office.com/r/EFwPd9VTus \nHope to see you there!
URL:https://asnl.ca/asnl-calendars/clarenville-recreation-exploration-3/2024-12-15/
END:VEVENT
BEGIN:VEVENT
DTSTART;TZID=UTC:20241212T183000
DTEND;TZID=UTC:20241212T193000
DTSTAMP:20260423T112536
CREATED:20241120T140241Z
LAST-MODIFIED:20241120T140241Z
UID:7642-1734028200-1734031800@asnl.ca
SUMMARY:HAPPY VALLEY - GOOSE BAY - Drop-In Nights
DESCRIPTION:Happy Valley-Goose Bay!! We would love to see you!\n\n\nStarting next week\, join us for Drop-In nights that will include crafts\, games\, Legos and swimming!\n\n\nEmail Rec Coordinator\, Joshua with any questions! jwhite@asnl.ca\n\nK-6 – Tuesdays\, 7-12 Thursdays
URL:https://asnl.ca/asnl-calendars/happy-valley-goose-bay-drop-in-nights/2024-12-12/
END:VEVENT
BEGIN:VEVENT
DTSTART;TZID=UTC:20241210T183000
DTEND;TZID=UTC:20241210T193000
DTSTAMP:20260423T112536
CREATED:20241120T140241Z
LAST-MODIFIED:20241120T140241Z
UID:7641-1733855400-1733859000@asnl.ca
SUMMARY:HAPPY VALLEY - GOOSE BAY - Drop-In Nights
DESCRIPTION:Happy Valley-Goose Bay!! We would love to see you!\n\n\nStarting next week\, join us for Drop-In nights that will include crafts\, games\, Legos and swimming!\n\n\nEmail Rec Coordinator\, Joshua with any questions! jwhite@asnl.ca\n\nK-6 – Tuesdays\, 7-12 Thursdays
URL:https://asnl.ca/asnl-calendars/happy-valley-goose-bay-drop-in-nights/2024-12-10/
END:VEVENT
BEGIN:VEVENT
DTSTART;TZID=UTC:20241210T180000
DTEND;TZID=UTC:20241210T190000
DTSTAMP:20260423T112536
CREATED:20241113T191057Z
LAST-MODIFIED:20241113T191057Z
UID:7632-1733853600-1733857200@asnl.ca
SUMMARY:CORNER BROOK - Sensory Play Program - registration required
DESCRIPTION:Come and be a part of our weekly sensory play program every Tuesday from 6:00 to 7:00 PM\, running from November 26th to December 17th. This program welcomes participants of all ages to dive into a variety of sensory activities\, including play-doh\, slime\, and so much more. Join us at the Corner Brook Regional Office located at 50 Main Street\, Suite 105.\n\nPlease use the link below to register:\nhttps://forms.office.com/r/9r7ijCMMNb\n\nPlease note that spaces are limited\, and participants will be accepted on a first-come\, first-served basis. If you have any questions or need further information\, feel free to reach to Jessica at jwyatt@asnl.ca.
URL:https://asnl.ca/asnl-calendars/corner-brook-sensory-play-program-registration-required/2024-12-10/
END:VEVENT
BEGIN:VEVENT
DTSTART;TZID=UTC:20241209T183000
DTEND;TZID=UTC:20241209T203000
DTSTAMP:20260423T112536
CREATED:20241001T161812Z
LAST-MODIFIED:20241001T161812Z
UID:7466-1733769000-1733776200@asnl.ca
SUMMARY:CONNECTIONS - HYBRID - IN-PERSON AND VIRTUAL
DESCRIPTION:IN-PERSON – 70 CLINCH CRES
URL:https://asnl.ca/asnl-calendars/connections-hybrid-in-person-and-virtual/2024-12-09/
END:VEVENT
BEGIN:VEVENT
DTSTART;TZID=UTC:20241208T100000
DTEND;TZID=UTC:20241208T110000
DTSTAMP:20260423T112536
CREATED:20241104T155050Z
LAST-MODIFIED:20241104T155050Z
UID:7619-1733652000-1733655600@asnl.ca
SUMMARY:CLARENVILLE - Recreation Exploration
DESCRIPTION:Join us for Recreation Exploration at the Clarenville Office 383 memorial dr for all ages! \nSundays from 10am-11am. November 3\,10\,24 and December 1\,8\,15 \nWe will have games\, activities\, play and movement! \nRegistration required: https://forms.office.com/r/EFwPd9VTus \nHope to see you there!
URL:https://asnl.ca/asnl-calendars/clarenville-recreation-exploration-3/2024-12-08/
END:VEVENT
BEGIN:VEVENT
DTSTART;TZID=UTC:20241207T100000
DTEND;TZID=UTC:20241207T130000
DTSTAMP:20260423T112536
CREATED:20241202T145017Z
LAST-MODIFIED:20241202T145042Z
UID:7665-1733565600-1733576400@asnl.ca
SUMMARY:CLARENVILLE - Parade Viewing Party *registration required
DESCRIPTION:Clarenville Lion’s Christmas Parade is reversing direction! This year it will start at Riverside and end at Elizabeth Swan Park! \n\nWe invite you to join us in office for Activities and Parade viewing\nDate: December 07th 2024\nTime: Doors open at 10am\n(expecting the parade between 11am-noon)\nChristmas crafts\, active play\, and warm viewing room\nContact: afillier@asnl.ca for more information\nRegistration Required: https://forms.office.com/r/1G38C9mAeZ
URL:https://asnl.ca/asnl-calendars/clarenville-parade-viewing-party/
END:VEVENT
END:VCALENDAR