BEGIN:VCALENDAR
VERSION:2.0
PRODID:-//asnl - ECPv5.16.4//NONSGML v1.0//EN
CALSCALE:GREGORIAN
METHOD:PUBLISH
X-WR-CALNAME:asnl
X-ORIGINAL-URL:https://asnl.ca
X-WR-CALDESC:Events for asnl
REFRESH-INTERVAL;VALUE=DURATION:PT1H
X-Robots-Tag:noindex
X-PUBLISHED-TTL:PT1H
BEGIN:VTIMEZONE
TZID:UTC
BEGIN:STANDARD
TZOFFSETFROM:+0000
TZOFFSETTO:+0000
TZNAME:UTC
DTSTART:20250101T000000
END:STANDARD
END:VTIMEZONE
BEGIN:VEVENT
DTSTART;TZID=UTC:20250430T190000
DTEND;TZID=UTC:20250430T203000
DTSTAMP:20260422T214701
CREATED:20250408T174726Z
LAST-MODIFIED:20250505T121606Z
UID:7963-1746039600-1746045000@asnl.ca
SUMMARY:VIRTUAL - New Diagnosis 5-wk Workshop *registration needed*
DESCRIPTION:  \n\nJoin us for 5 week virtual workshop for adults with a new diagnosis and caregivers of children with a new diagnosis.\nStarts May 1st\n\n\nRegistration needed: https://forms.office.com/r/4SmxepaT6G
URL:https://asnl.ca/asnl-calendars/virtual-new-diagnosis-5-wk-workshop-registration-needed/2025-04-30/
END:VEVENT
BEGIN:VEVENT
DTSTART;TZID=UTC:20250430T190000
DTEND;TZID=UTC:20250430T200000
DTSTAMP:20260422T214701
CREATED:20250423T171145Z
LAST-MODIFIED:20250423T171145Z
UID:8006-1746039600-1746043200@asnl.ca
SUMMARY:HAPPY VALLEY - GOOSE BAY - Parent/Caregiver Support Night drop in
DESCRIPTION:2-4 Hillcrest
URL:https://asnl.ca/asnl-calendars/happy-valley-goose-bay-parent-caregiver-support-night-drop-in/
END:VEVENT
BEGIN:VEVENT
DTSTART;TZID=UTC:20250429T190000
DTEND;TZID=UTC:20250429T210000
DTSTAMP:20260422T214701
CREATED:20250407T182549Z
LAST-MODIFIED:20250407T182549Z
UID:7887-1745953200-1745960400@asnl.ca
SUMMARY:ST. JOHN'S - Parent Support Group
DESCRIPTION:Parent Support Group: Avalon AreaParents who provide support to other parents/caregivers of autistic children and youth. No diagnosis required.Where: Elaine Dobbin Centre for Autism St. John’s 70 Clinch CresWhen: Fourth Tuesday of each month\, 7pm-9pmContact: pieces@asnl.caNO REGISTRATION REQUIRED TO ATTEND
URL:https://asnl.ca/asnl-calendars/st-johns-parent-support-group/
END:VEVENT
BEGIN:VEVENT
DTSTART;TZID=UTC:20250429T183000
DTEND;TZID=UTC:20250429T193000
DTSTAMP:20260422T214701
CREATED:20250423T170754Z
LAST-MODIFIED:20250423T170754Z
UID:8000-1745951400-1745955000@asnl.ca
SUMMARY:HAPPY VALLEY - GOOSE BAY - Drop in nights
DESCRIPTION:email Kandyss with any questions: kpollard@asnl.ca \nk-6 – Tuesday nights \ngrades 7-12 Thursday nights \n6:30-7:30pm
URL:https://asnl.ca/asnl-calendars/happy-valley-goose-bay-drop-in-nights-3/
END:VEVENT
BEGIN:VEVENT
DTSTART;TZID=UTC:20250429T180000
DTEND;TZID=UTC:20250429T200000
DTSTAMP:20260422T214701
CREATED:20250408T131727Z
LAST-MODIFIED:20250408T131727Z
UID:7945-1745949600-1745956800@asnl.ca
SUMMARY:GRAND FALLS-WINDSOR - Drop-in Night!
DESCRIPTION:Hello everyone\,\n\nDrop in night happening from 6:30 to 8:30 TUESDAY evenings.\n\nIf you have not already registered and would like to join us please register at the link provided below\,\n\nREGISTRATION LINK: https://forms.office.com/r/5SDMzdT5Ms\n\nWe hope to see everyone there!
URL:https://asnl.ca/asnl-calendars/grand-falls-windsor-drop-in-night/2025-04-29/
END:VEVENT
BEGIN:VEVENT
DTSTART;TZID=UTC:20250427T140000
DTEND;TZID=UTC:20250427T150000
DTSTAMP:20260422T214701
CREATED:20250407T152714Z
LAST-MODIFIED:20250407T152715Z
UID:7885-1745762400-1745766000@asnl.ca
SUMMARY:ST. JOHN'S - Birthday Party - registration required
DESCRIPTION:Hello to all my friends\, and to all the friends who I have yet to meet! \nDanielle here\, ASNL’s Recreation Coordinator located in St. Johns’! My birthday is coming up\, and I’ve had so much fun spending time with you at all the events we’ve had over the last year\, and I wanted to invite you to my BIRTHDAY PARTY!!! \nDate: Sunday\, April 27th 2025\nTime: 2: 00 – 3:00 pm\nLocation: Southlands Community Centre \n \nWhat to expect: \nEVERYONE IS INVITED – Yes\, that means you (and your supportive people too!)!!!! This is an event for all ages\, and this party is not just for me – I want to celebrate with our ASNL Community! Parental accompaniment is required for my friends age 10 and under.  \nWe’ll have access to all the amazing play equipment and the multipurpose lobby space at Southlands Community Centre between 2:00 and 3:00 pm on Sunday\, April 27th.  \nLoot bags will be available for the first 40 friends to RSVP to the party\, so be sure to fill out the form linked here: https://forms.office.com/r/ukNPmwx3KS to let her know that you’ll be there so she can reserve a loot bag for you! We can accept more than 40 guests\, however after the first 40 RSVP’s\, no more loot bags will be available.  \nWe will not have balloons\, or any decorations\, but cake will be provided (and if you’d like to bring your own allergy safe snacks\, that is ok too)!! \nPresents are not expected\, only your presence! \nI can’t wait to celebrate with you all! 
URL:https://asnl.ca/asnl-calendars/st-johns-birthday-party-registration-required/
END:VEVENT
BEGIN:VEVENT
DTSTART;TZID=UTC:20250424T193000
DTEND;TZID=UTC:20250424T203000
DTSTAMP:20260422T214701
CREATED:20230929T123058Z
LAST-MODIFIED:20250408T162931Z
UID:6383-1745523000-1745526600@asnl.ca
SUMMARY:CORNER BROOK - Adult Autistic Support Group (50 Main Street)
DESCRIPTION:Adult Autistic Support Group – Corner Brook \nBiweekly – Thursdays 730-830
URL:https://asnl.ca/asnl-calendars/corner-brook-adult-autistic-support-group-50-main-street/2025-04-24/
END:VEVENT
BEGIN:VEVENT
DTSTART;TZID=UTC:20250422T180000
DTEND;TZID=UTC:20250422T200000
DTSTAMP:20260422T214701
CREATED:20250408T131727Z
LAST-MODIFIED:20250408T131727Z
UID:7944-1745344800-1745352000@asnl.ca
SUMMARY:GRAND FALLS-WINDSOR - Drop-in Night!
DESCRIPTION:Hello everyone\,\n\nDrop in night happening from 6:30 to 8:30 TUESDAY evenings.\n\nIf you have not already registered and would like to join us please register at the link provided below\,\n\nREGISTRATION LINK: https://forms.office.com/r/5SDMzdT5Ms\n\nWe hope to see everyone there!
URL:https://asnl.ca/asnl-calendars/grand-falls-windsor-drop-in-night/2025-04-22/
END:VEVENT
BEGIN:VEVENT
DTSTART;TZID=UTC:20250419T080000
DTEND;TZID=UTC:20250419T100000
DTSTAMP:20260422T214701
CREATED:20250407T140005Z
LAST-MODIFIED:20250407T140005Z
UID:7875-1745049600-1745056800@asnl.ca
SUMMARY:ST. JOHN'S - Get Air - Autism Acceptance Month Event
DESCRIPTION:World Autism Month AVALON region event!\nGET AIR St. John’s!\n\n\nJoin ASNL for a Free Jump at GET AIR St. John’s on Saturday\, April 19th from 8-10am .\n\n\nLiability waivers can be completed in advance through this link GetAir Waiver.\nJump socks are required and will be available for purchase on site.\n*No registration necessary*
URL:https://asnl.ca/asnl-calendars/st-johns-get-air-autism-acceptance-month-event/
END:VEVENT
BEGIN:VEVENT
DTSTART;TZID=UTC:20250417T183000
DTEND;TZID=UTC:20250417T203000
DTSTAMP:20260422T214701
CREATED:20230929T121722Z
LAST-MODIFIED:20231108T150245Z
UID:6328-1744914600-1744921800@asnl.ca
SUMMARY:ST. JOHN'S - Connections - In-Person (70 Clinch Cres)
DESCRIPTION:Connections: \nVirtual – 2nd and 4th Monday of each month 630-830 \nAt ASNL St. John’s – every 3rd Thursday of the month \nIn person in community outing St. John’s – 1st Monday of each month
URL:https://asnl.ca/asnl-calendars/st-johns-connections-in-person-70-clinch-cres/2025-04-17/
END:VEVENT
BEGIN:VEVENT
DTSTART;TZID=UTC:20250417T180000
DTEND;TZID=UTC:20250417T200000
DTSTAMP:20260422T214701
CREATED:20250407T135835Z
LAST-MODIFIED:20250407T135835Z
UID:7873-1744912800-1744920000@asnl.ca
SUMMARY:CLARENVILLE - Kid's Kingdom - Autism Acceptance Month Event
DESCRIPTION:World Autism Month Eastern Region Kids Kingdom Event!\n\n\n Kids Kingdom Event – Autism Acceptance Month \nJoin us for a fun-filled evening at Kids Kingdom in honor of Autism Acceptance Month! This private event is open to all ages and offers a welcoming space for play\, socializing\, and connection.\n For Kids: Explore\, play\, and enjoy the exciting indoor playground!\n For Teens & Adults: Activities\, board games\, and social time in the party room.\n Refreshments provided for all!\n Date: April 17\n Time: 6:00 PM – 8:00 PM\n Location: Kids Kingdom\, 4 Blackmore Ave\, Clarenville\n Cost: $12 per participant (discounted for Autism Acceptance Month\, payable at the event).\n Grippy socks required – bring your own or purchase at Kids Kingdom for $4.\n No fee for parents or support workers. Bring a friend or sibling!\nRegistration Required: https://forms.office.com/r/sSTx5sZrdK\n\n\nWe can’t wait to see you there!
URL:https://asnl.ca/asnl-calendars/clarenville-kids-kingdom-autism-acceptance-month-event/
END:VEVENT
BEGIN:VEVENT
DTSTART;TZID=UTC:20250415T180000
DTEND;TZID=UTC:20250415T200000
DTSTAMP:20260422T214701
CREATED:20250408T131727Z
LAST-MODIFIED:20250408T131727Z
UID:7943-1744740000-1744747200@asnl.ca
SUMMARY:GRAND FALLS-WINDSOR - Drop-in Night!
DESCRIPTION:Hello everyone\,\n\nDrop in night happening from 6:30 to 8:30 TUESDAY evenings.\n\nIf you have not already registered and would like to join us please register at the link provided below\,\n\nREGISTRATION LINK: https://forms.office.com/r/5SDMzdT5Ms\n\nWe hope to see everyone there!
URL:https://asnl.ca/asnl-calendars/grand-falls-windsor-drop-in-night/2025-04-15/
END:VEVENT
BEGIN:VEVENT
DTSTART;TZID=UTC:20250413T160000
DTEND;TZID=UTC:20250413T170000
DTSTAMP:20260422T214701
CREATED:20250407T135606Z
LAST-MODIFIED:20250407T135606Z
UID:7869-1744560000-1744563600@asnl.ca
SUMMARY:CORNER BROOK - Bowling - Autism Acceptance Month Event
DESCRIPTION:World Autism Acceptance Month Western Region Event!\n\n\nPlease join us Sunday April 13th from 4:00pm-5:00pm at the Corner Brook Centre Bowl (24 Reid St) for an afternoon of bowling\n\n\nPlease use the link below to register:\n\n\nhttps://forms.office.com/r/sebNqidByN\n\n\nPlease contact Jessica at jwyatt@asnl.ca with any questions or concerns.
URL:https://asnl.ca/asnl-calendars/corner-brook-bowling-autism-acceptance-month-event/
END:VEVENT
BEGIN:VEVENT
DTSTART;TZID=UTC:20250413T140000
DTEND;TZID=UTC:20250413T150000
DTSTAMP:20260422T214701
CREATED:20250407T140128Z
LAST-MODIFIED:20250407T140128Z
UID:7877-1744552800-1744556400@asnl.ca
SUMMARY:CLARENVILLE - Bowling - Autism Acceptance Month Event
DESCRIPTION:World Autism Month EASTERN Region Bowling Event – Join the Fun!\n\n\nStrike up some fun with ASNL at Caribou Lanes in Clarenville! Whether you’re coming as a family or flying solo\, this event is a great way to connect\, have fun\, and enjoy an afternoon of bowling.\n\n\n Date: Sunday\, April 13\n\n\n Time: 2:00 – 3:00 PM\n\n\n Location: Caribou Lanes\, Clarenville\n\n\nRegistration Required: https://forms.office.com/r/KJaWpMc4NR\n\n\nContact afillier@asnl.ca. See you at the lanes!
URL:https://asnl.ca/asnl-calendars/clarenville-bowling-autism-acceptance-month-event/
END:VEVENT
BEGIN:VEVENT
DTSTART;TZID=UTC:20250412T130000
DTEND;TZID=UTC:20250412T134500
DTSTAMP:20260422T214701
CREATED:20250407T141456Z
LAST-MODIFIED:20250407T141456Z
UID:7881-1744462800-1744465500@asnl.ca
SUMMARY:ST. JOHN'S - Gymnastics - Autism Acceptance Month Event *registration needed
DESCRIPTION:World Autism Month – Partnership Event at Cygnus Gymnastics (St. John’s)\n\nFREE Gymnastics Drop-in for ages 5 – 12 on Saturday April 12th. \nSpaces are limited\, registration required\, first-come first-served; Registration closes at noon on April 10th.\n \nFollow this link to register.\n2024-25 School & Community Groups | Register | Cygnus Gymnastics Training Centre Store
URL:https://asnl.ca/asnl-calendars/st-johns-gymnastics-autism-acceptance-month-event-registration-needed/
END:VEVENT
BEGIN:VEVENT
DTSTART;TZID=UTC:20250410T180000
DTEND;TZID=UTC:20250410T200000
DTSTAMP:20260422T214701
CREATED:20250407T135458Z
LAST-MODIFIED:20250407T135458Z
UID:7867-1744308000-1744315200@asnl.ca
SUMMARY:GRAND FALLS-WINDSOR - Bowling - Autism Acceptance Month Event
DESCRIPTION:World Autism Acceptance Month Central Region Event!\n\n\nGrand Falls-Windsor!!\nJoin us this World Autism Month for a fun bowling event! It’s all about community\, inclusion\, and having a great time together.\nThere is an option of only bowling for the first hour. Each hour is 8$ per person\, cash only!\n When: April 10th\n Time: 6:00-8:00pm\n Where: Exploits lanes Grand Falls-Windsor\nLet’s strike up some fun! \nRegistration required: https://forms.office.com/r/siMfqcyFtq\n#WorldAutismMonth “
URL:https://asnl.ca/asnl-calendars/grand-falls-windsor-bowling-autism-acceptance-month-event/
END:VEVENT
BEGIN:VEVENT
DTSTART;TZID=UTC:20250408T180000
DTEND;TZID=UTC:20250408T200000
DTSTAMP:20260422T214701
CREATED:20250408T131727Z
LAST-MODIFIED:20250408T173932Z
UID:7891-1744135200-1744142400@asnl.ca
SUMMARY:GRAND FALLS-WINDSOR - Drop-in Night!
DESCRIPTION:Hello everyone\,\n\nDrop in night happening from 6:30 to 8:30 TUESDAY evenings.\n\nIf you have not already registered and would like to join us please register at the link provided below\,\n\nREGISTRATION LINK: https://forms.office.com/r/5SDMzdT5Ms\n\nWe hope to see everyone there!
URL:https://asnl.ca/asnl-calendars/grand-falls-windsor-drop-in-night/2025-04-08/
END:VEVENT
BEGIN:VEVENT
DTSTART;VALUE=DATE:20250407
DTEND;VALUE=DATE:20250412
DTSTAMP:20260422T214701
CREATED:20250407T135713Z
LAST-MODIFIED:20250407T135713Z
UID:7871-1743984000-1744415999@asnl.ca
SUMMARY:ST. JOHN'S  - Plant Sale!
DESCRIPTION:ASNL’s Transitions program participants will be hosting a mini house plant sale April 7th – 11th at ASNL’s 365 greenhouse!!\n\n\nThe Transitions team has been working hard to nurture a variety of houseplants throughout their time in the program\, and are now ready to find them some new homes!\n\n\nPurchases will be by donation. Please contact Sarah at shardiman@asnl.ca if you have any questions\, or are looking for something specific
URL:https://asnl.ca/asnl-calendars/st-johns-plant-sale/
END:VEVENT
BEGIN:VEVENT
DTSTART;VALUE=DATE:20250402
DTEND;VALUE=DATE:20250403
DTSTAMP:20260422T214701
CREATED:20250407T150757Z
LAST-MODIFIED:20250407T150757Z
UID:7883-1743552000-1743638399@asnl.ca
SUMMARY:WORLD AUTISM DAY!
DESCRIPTION:
URL:https://asnl.ca/asnl-calendars/world-autism-day/
END:VEVENT
BEGIN:VEVENT
DTSTART;TZID=UTC:20250326T180000
DTEND;TZID=UTC:20250326T190000
DTSTAMP:20260422T214701
CREATED:20250116T143538Z
LAST-MODIFIED:20250116T143538Z
UID:7719-1743012000-1743015600@asnl.ca
SUMMARY:CORNER BROOK - Lego Club *registration needed*
DESCRIPTION:LEGO CLUB PROGRAM\n\n  This program is open to all ages and offers an enjoyable experience in a relaxed setting. It will be held at the Corner Brook YMCA\, located at 2 Herald Avenue (Millbrook Mall\, lower entrance). \nThe Lego club meets bi-weekly starting Wednesday\, January 29th through April 2nd \, from 6:00 to 7:00pm.\n\nRunning dates: January 29th\, February 12th & 26th March 12th and 26th and April 2nd \n\nPLEASE NOTE: Filling out this application form does not guarantee the applicant a spot in Lego Club Program. Applications will be considered on a first-come first-served basis.\nPlease use the link below to register:\nhttps://forms.office.com/r/ubCqMA7sqV\n\nPlease contact Jessica at jwyatt@asnl.ca with any questions or concerns.
URL:https://asnl.ca/asnl-calendars/corner-brook-lego-club-registration-needed/2025-03-26/
END:VEVENT
BEGIN:VEVENT
DTSTART;TZID=UTC:20250325T183000
DTEND;TZID=UTC:20250325T193000
DTSTAMP:20260422T214701
CREATED:20250408T203604Z
LAST-MODIFIED:20250408T203604Z
UID:7998-1742927400-1742931000@asnl.ca
SUMMARY:HAPPY VALLEY-GOOSE BAY - Drop in nights
DESCRIPTION:k-6 – tuesdays \n7-12 – thursdays \nemail Josh at jwhite@asnl.ca
URL:https://asnl.ca/asnl-calendars/happy-valley-goose-bay-drop-in-nights-2/2025-03-25/
END:VEVENT
BEGIN:VEVENT
DTSTART;TZID=UTC:20250320T183000
DTEND;TZID=UTC:20250320T203000
DTSTAMP:20260422T214701
CREATED:20230929T121722Z
LAST-MODIFIED:20231108T150245Z
UID:6327-1742495400-1742502600@asnl.ca
SUMMARY:ST. JOHN'S - Connections - In-Person (70 Clinch Cres)
DESCRIPTION:Connections: \nVirtual – 2nd and 4th Monday of each month 630-830 \nAt ASNL St. John’s – every 3rd Thursday of the month \nIn person in community outing St. John’s – 1st Monday of each month
URL:https://asnl.ca/asnl-calendars/st-johns-connections-in-person-70-clinch-cres/2025-03-20/
END:VEVENT
BEGIN:VEVENT
DTSTART;TZID=UTC:20250318T183000
DTEND;TZID=UTC:20250318T193000
DTSTAMP:20260422T214701
CREATED:20250408T203604Z
LAST-MODIFIED:20250408T203604Z
UID:7997-1742322600-1742326200@asnl.ca
SUMMARY:HAPPY VALLEY-GOOSE BAY - Drop in nights
DESCRIPTION:k-6 – tuesdays \n7-12 – thursdays \nemail Josh at jwhite@asnl.ca
URL:https://asnl.ca/asnl-calendars/happy-valley-goose-bay-drop-in-nights-2/2025-03-18/
END:VEVENT
BEGIN:VEVENT
DTSTART;TZID=UTC:20250318T130000
DTEND;TZID=UTC:20250318T135000
DTSTAMP:20260422T214701
CREATED:20241219T183449Z
LAST-MODIFIED:20241219T183449Z
UID:7696-1742302800-1742305800@asnl.ca
SUMMARY:TORBAY - Sensory Skate Jack Byrne Arena
DESCRIPTION:Check out the Sensory Skate at Jack Byrne Regional Sport & Entertainment Centre!! \nTuesdays\, 1-1:50pm – Admission $3 \nStarting Jan 7th
URL:https://asnl.ca/asnl-calendars/torbay-sensory-skate-jack-byrne-arena/2025-03-18/
END:VEVENT
BEGIN:VEVENT
DTSTART;TZID=UTC:20250312T180000
DTEND;TZID=UTC:20250312T190000
DTSTAMP:20260422T214701
CREATED:20250116T143538Z
LAST-MODIFIED:20250116T143538Z
UID:7718-1741802400-1741806000@asnl.ca
SUMMARY:CORNER BROOK - Lego Club *registration needed*
DESCRIPTION:LEGO CLUB PROGRAM\n\n  This program is open to all ages and offers an enjoyable experience in a relaxed setting. It will be held at the Corner Brook YMCA\, located at 2 Herald Avenue (Millbrook Mall\, lower entrance). \nThe Lego club meets bi-weekly starting Wednesday\, January 29th through April 2nd \, from 6:00 to 7:00pm.\n\nRunning dates: January 29th\, February 12th & 26th March 12th and 26th and April 2nd \n\nPLEASE NOTE: Filling out this application form does not guarantee the applicant a spot in Lego Club Program. Applications will be considered on a first-come first-served basis.\nPlease use the link below to register:\nhttps://forms.office.com/r/ubCqMA7sqV\n\nPlease contact Jessica at jwyatt@asnl.ca with any questions or concerns.
URL:https://asnl.ca/asnl-calendars/corner-brook-lego-club-registration-needed/2025-03-12/
END:VEVENT
BEGIN:VEVENT
DTSTART;TZID=UTC:20250311T183000
DTEND;TZID=UTC:20250311T193000
DTSTAMP:20260422T214701
CREATED:20250408T203604Z
LAST-MODIFIED:20250408T203604Z
UID:7996-1741717800-1741721400@asnl.ca
SUMMARY:HAPPY VALLEY-GOOSE BAY - Drop in nights
DESCRIPTION:k-6 – tuesdays \n7-12 – thursdays \nemail Josh at jwhite@asnl.ca
URL:https://asnl.ca/asnl-calendars/happy-valley-goose-bay-drop-in-nights-2/2025-03-11/
END:VEVENT
BEGIN:VEVENT
DTSTART;TZID=UTC:20250311T130000
DTEND;TZID=UTC:20250311T135000
DTSTAMP:20260422T214701
CREATED:20241219T183449Z
LAST-MODIFIED:20241219T183449Z
UID:7695-1741698000-1741701000@asnl.ca
SUMMARY:TORBAY - Sensory Skate Jack Byrne Arena
DESCRIPTION:Check out the Sensory Skate at Jack Byrne Regional Sport & Entertainment Centre!! \nTuesdays\, 1-1:50pm – Admission $3 \nStarting Jan 7th
URL:https://asnl.ca/asnl-calendars/torbay-sensory-skate-jack-byrne-arena/2025-03-11/
END:VEVENT
BEGIN:VEVENT
DTSTART;TZID=UTC:20250304T183000
DTEND;TZID=UTC:20250304T193000
DTSTAMP:20260422T214701
CREATED:20250408T203604Z
LAST-MODIFIED:20250408T203604Z
UID:7995-1741113000-1741116600@asnl.ca
SUMMARY:HAPPY VALLEY-GOOSE BAY - Drop in nights
DESCRIPTION:k-6 – tuesdays \n7-12 – thursdays \nemail Josh at jwhite@asnl.ca
URL:https://asnl.ca/asnl-calendars/happy-valley-goose-bay-drop-in-nights-2/2025-03-04/
END:VEVENT
BEGIN:VEVENT
DTSTART;TZID=UTC:20250304T130000
DTEND;TZID=UTC:20250304T135000
DTSTAMP:20260422T214701
CREATED:20241219T183449Z
LAST-MODIFIED:20241219T183449Z
UID:7694-1741093200-1741096200@asnl.ca
SUMMARY:TORBAY - Sensory Skate Jack Byrne Arena
DESCRIPTION:Check out the Sensory Skate at Jack Byrne Regional Sport & Entertainment Centre!! \nTuesdays\, 1-1:50pm – Admission $3 \nStarting Jan 7th
URL:https://asnl.ca/asnl-calendars/torbay-sensory-skate-jack-byrne-arena/2025-03-04/
END:VEVENT
BEGIN:VEVENT
DTSTART;TZID=UTC:20250226T180000
DTEND;TZID=UTC:20250226T190000
DTSTAMP:20260422T214701
CREATED:20250116T143538Z
LAST-MODIFIED:20250116T143538Z
UID:7717-1740592800-1740596400@asnl.ca
SUMMARY:CORNER BROOK - Lego Club *registration needed*
DESCRIPTION:LEGO CLUB PROGRAM\n\n  This program is open to all ages and offers an enjoyable experience in a relaxed setting. It will be held at the Corner Brook YMCA\, located at 2 Herald Avenue (Millbrook Mall\, lower entrance). \nThe Lego club meets bi-weekly starting Wednesday\, January 29th through April 2nd \, from 6:00 to 7:00pm.\n\nRunning dates: January 29th\, February 12th & 26th March 12th and 26th and April 2nd \n\nPLEASE NOTE: Filling out this application form does not guarantee the applicant a spot in Lego Club Program. Applications will be considered on a first-come first-served basis.\nPlease use the link below to register:\nhttps://forms.office.com/r/ubCqMA7sqV\n\nPlease contact Jessica at jwyatt@asnl.ca with any questions or concerns.
URL:https://asnl.ca/asnl-calendars/corner-brook-lego-club-registration-needed/2025-02-26/
END:VEVENT
END:VCALENDAR