BEGIN:VCALENDAR
VERSION:2.0
PRODID:-//asnl - ECPv5.16.4//NONSGML v1.0//EN
CALSCALE:GREGORIAN
METHOD:PUBLISH
X-WR-CALNAME:asnl
X-ORIGINAL-URL:https://asnl.ca
X-WR-CALDESC:Events for asnl
REFRESH-INTERVAL;VALUE=DURATION:PT1H
X-Robots-Tag:noindex
X-PUBLISHED-TTL:PT1H
BEGIN:VTIMEZONE
TZID:UTC
BEGIN:STANDARD
TZOFFSETFROM:+0000
TZOFFSETTO:+0000
TZNAME:UTC
DTSTART:20250101T000000
END:STANDARD
END:VTIMEZONE
BEGIN:VEVENT
DTSTART;TZID=UTC:20250528T180000
DTEND;TZID=UTC:20250528T190000
DTSTAMP:20260422T220833
CREATED:20250526T150854Z
LAST-MODIFIED:20250526T150854Z
UID:8035-1748455200-1748458800@asnl.ca
SUMMARY:CORNER BROOK - Teen Art Group *registration required*
DESCRIPTION:Corner Brook teens — come get creative with us!\n\nKick off our Teen Art Group with a creative\, hands-on evening just for teens aged 13–17 on Wednesday\, May 28\, from 6:00–7:00 PM at the Corner Brook Autism Society (50 Main Street)!\nThe program will last 8 weeks\, and each week will feature a different craft — no experience needed\, just bring your imagination!\n\nUse the link below to register:\nhttps://forms.office.com/r/WQ677zWeHe\n\nThere is no cost for this event! If you have any questions or concerns\, please contact Jess at jsimmons@asnl.ca.
URL:https://asnl.ca/asnl-calendars/corner-brook-teen-art-group-registration-required/
END:VEVENT
BEGIN:VEVENT
DTSTART;TZID=UTC:20250527T180000
DTEND;TZID=UTC:20250527T200000
DTSTAMP:20260422T220833
CREATED:20250408T131727Z
LAST-MODIFIED:20250408T131727Z
UID:7949-1748368800-1748376000@asnl.ca
SUMMARY:GRAND FALLS-WINDSOR - Drop-in Night!
DESCRIPTION:Hello everyone\,\n\nDrop in night happening from 6:30 to 8:30 TUESDAY evenings.\n\nIf you have not already registered and would like to join us please register at the link provided below\,\n\nREGISTRATION LINK: https://forms.office.com/r/5SDMzdT5Ms\n\nWe hope to see everyone there!
URL:https://asnl.ca/asnl-calendars/grand-falls-windsor-drop-in-night/2025-05-27/
END:VEVENT
BEGIN:VEVENT
DTSTART;TZID=UTC:20250522T193000
DTEND;TZID=UTC:20250522T203000
DTSTAMP:20260422T220833
CREATED:20230929T123058Z
LAST-MODIFIED:20230929T123058Z
UID:7894-1747942200-1747945800@asnl.ca
SUMMARY:CORNER BROOK - Adult Autistic Support Group (50 Main Street)
DESCRIPTION:Adult Autistic Support Group – Corner Brook \nBiweekly – Thursdays 730-830
URL:https://asnl.ca/asnl-calendars/corner-brook-adult-autistic-support-group-50-main-street/2025-05-22/
END:VEVENT
BEGIN:VEVENT
DTSTART;TZID=UTC:20250521T080000
DTEND;TZID=UTC:20250521T170000
DTSTAMP:20260422T220833
CREATED:20250408T175022Z
LAST-MODIFIED:20250408T175022Z
UID:7969-1747814400-1747846800@asnl.ca
SUMMARY:ST. JOHN'S - Embracing Neurodiversity Conference
DESCRIPTION:ASNL Conference Embracing Neurodiversity – Supported by Chip In For Charity Tickets\, Wed\, 21 May 2025 at 8:30 AM | Eventbrite
URL:https://asnl.ca/asnl-calendars/st-johns-embracing-neurodiversity-conference/
END:VEVENT
BEGIN:VEVENT
DTSTART;TZID=UTC:20250520T180000
DTEND;TZID=UTC:20250520T200000
DTSTAMP:20260422T220833
CREATED:20250408T131727Z
LAST-MODIFIED:20250408T131727Z
UID:7948-1747764000-1747771200@asnl.ca
SUMMARY:GRAND FALLS-WINDSOR - Drop-in Night!
DESCRIPTION:Hello everyone\,\n\nDrop in night happening from 6:30 to 8:30 TUESDAY evenings.\n\nIf you have not already registered and would like to join us please register at the link provided below\,\n\nREGISTRATION LINK: https://forms.office.com/r/5SDMzdT5Ms\n\nWe hope to see everyone there!
URL:https://asnl.ca/asnl-calendars/grand-falls-windsor-drop-in-night/2025-05-20/
END:VEVENT
BEGIN:VEVENT
DTSTART;TZID=UTC:20250515T183000
DTEND;TZID=UTC:20250515T203000
DTSTAMP:20260422T220833
CREATED:20230929T121722Z
LAST-MODIFIED:20231108T150245Z
UID:6329-1747333800-1747341000@asnl.ca
SUMMARY:ST. JOHN'S - Connections - In-Person (70 Clinch Cres)
DESCRIPTION:Connections: \nVirtual – 2nd and 4th Monday of each month 630-830 \nAt ASNL St. John’s – every 3rd Thursday of the month \nIn person in community outing St. John’s – 1st Monday of each month
URL:https://asnl.ca/asnl-calendars/st-johns-connections-in-person-70-clinch-cres/2025-05-15/
END:VEVENT
BEGIN:VEVENT
DTSTART;TZID=UTC:20250514T190000
DTEND;TZID=UTC:20250514T203000
DTSTAMP:20260422T220833
CREATED:20250408T174726Z
LAST-MODIFIED:20250408T174726Z
UID:8018-1747249200-1747254600@asnl.ca
SUMMARY:VIRTUAL - New Diagnosis 5-wk Workshop *registration needed*
DESCRIPTION:  \n\nJoin us for 5 week virtual workshop for adults with a new diagnosis and caregivers of children with a new diagnosis.\nStarts May 1st\n\n\nRegistration needed: https://forms.office.com/r/4SmxepaT6G
URL:https://asnl.ca/asnl-calendars/virtual-new-diagnosis-5-wk-workshop-registration-needed/2025-05-14/
END:VEVENT
BEGIN:VEVENT
DTSTART;TZID=UTC:20250513T183000
DTEND;TZID=UTC:20250513T193000
DTSTAMP:20260422T220833
CREATED:20250423T170754Z
LAST-MODIFIED:20250423T170754Z
UID:8004-1747161000-1747164600@asnl.ca
SUMMARY:HAPPY VALLEY - GOOSE BAY - Drop in nights
DESCRIPTION:email Kandyss with any questions: kpollard@asnl.ca \nk-6 – Tuesday nights \ngrades 7-12 Thursday nights \n6:30-7:30pm
URL:https://asnl.ca/asnl-calendars/happy-valley-goose-bay-drop-in-nights-3/2025-05-13/
END:VEVENT
BEGIN:VEVENT
DTSTART;TZID=UTC:20250513T180000
DTEND;TZID=UTC:20250513T200000
DTSTAMP:20260422T220833
CREATED:20250408T131727Z
LAST-MODIFIED:20250408T131727Z
UID:7947-1747159200-1747166400@asnl.ca
SUMMARY:GRAND FALLS-WINDSOR - Drop-in Night!
DESCRIPTION:Hello everyone\,\n\nDrop in night happening from 6:30 to 8:30 TUESDAY evenings.\n\nIf you have not already registered and would like to join us please register at the link provided below\,\n\nREGISTRATION LINK: https://forms.office.com/r/5SDMzdT5Ms\n\nWe hope to see everyone there!
URL:https://asnl.ca/asnl-calendars/grand-falls-windsor-drop-in-night/2025-05-13/
END:VEVENT
BEGIN:VEVENT
DTSTART;TZID=UTC:20250508T193000
DTEND;TZID=UTC:20250508T203000
DTSTAMP:20260422T220833
CREATED:20230929T123058Z
LAST-MODIFIED:20230929T123058Z
UID:7893-1746732600-1746736200@asnl.ca
SUMMARY:CORNER BROOK - Adult Autistic Support Group (50 Main Street)
DESCRIPTION:Adult Autistic Support Group – Corner Brook \nBiweekly – Thursdays 730-830
URL:https://asnl.ca/asnl-calendars/corner-brook-adult-autistic-support-group-50-main-street/2025-05-08/
END:VEVENT
BEGIN:VEVENT
DTSTART;TZID=UTC:20250508T183000
DTEND;TZID=UTC:20250508T193000
DTSTAMP:20260422T220833
CREATED:20250423T170754Z
LAST-MODIFIED:20250423T170754Z
UID:8003-1746729000-1746732600@asnl.ca
SUMMARY:HAPPY VALLEY - GOOSE BAY - Drop in nights
DESCRIPTION:email Kandyss with any questions: kpollard@asnl.ca \nk-6 – Tuesday nights \ngrades 7-12 Thursday nights \n6:30-7:30pm
URL:https://asnl.ca/asnl-calendars/happy-valley-goose-bay-drop-in-nights-3/2025-05-08/
END:VEVENT
BEGIN:VEVENT
DTSTART;TZID=UTC:20250507T190000
DTEND;TZID=UTC:20250507T203000
DTSTAMP:20260422T220833
CREATED:20250408T174726Z
LAST-MODIFIED:20250408T174726Z
UID:8017-1746644400-1746649800@asnl.ca
SUMMARY:VIRTUAL - New Diagnosis 5-wk Workshop *registration needed*
DESCRIPTION:  \n\nJoin us for 5 week virtual workshop for adults with a new diagnosis and caregivers of children with a new diagnosis.\nStarts May 1st\n\n\nRegistration needed: https://forms.office.com/r/4SmxepaT6G
URL:https://asnl.ca/asnl-calendars/virtual-new-diagnosis-5-wk-workshop-registration-needed/2025-05-07/
END:VEVENT
BEGIN:VEVENT
DTSTART;TZID=UTC:20250507T190000
DTEND;TZID=UTC:20250507T200000
DTSTAMP:20260422T220833
CREATED:20250423T171145Z
LAST-MODIFIED:20250423T171145Z
UID:8007-1746644400-1746648000@asnl.ca
SUMMARY:HAPPY VALLEY - GOOSE BAY - Parent/Caregiver Support Night drop in
DESCRIPTION:2-4 Hillcrest
URL:https://asnl.ca/asnl-calendars/happy-valley-goose-bay-parent-caregiver-support-night-drop-in/2025-05-07/
END:VEVENT
BEGIN:VEVENT
DTSTART;TZID=UTC:20250506T183000
DTEND;TZID=UTC:20250506T193000
DTSTAMP:20260422T220833
CREATED:20250423T170754Z
LAST-MODIFIED:20250423T170754Z
UID:8002-1746556200-1746559800@asnl.ca
SUMMARY:HAPPY VALLEY - GOOSE BAY - Drop in nights
DESCRIPTION:email Kandyss with any questions: kpollard@asnl.ca \nk-6 – Tuesday nights \ngrades 7-12 Thursday nights \n6:30-7:30pm
URL:https://asnl.ca/asnl-calendars/happy-valley-goose-bay-drop-in-nights-3/2025-05-06/
END:VEVENT
BEGIN:VEVENT
DTSTART;TZID=UTC:20250506T180000
DTEND;TZID=UTC:20250506T200000
DTSTAMP:20260422T220833
CREATED:20250408T131727Z
LAST-MODIFIED:20250408T131727Z
UID:7946-1746554400-1746561600@asnl.ca
SUMMARY:GRAND FALLS-WINDSOR - Drop-in Night!
DESCRIPTION:Hello everyone\,\n\nDrop in night happening from 6:30 to 8:30 TUESDAY evenings.\n\nIf you have not already registered and would like to join us please register at the link provided below\,\n\nREGISTRATION LINK: https://forms.office.com/r/5SDMzdT5Ms\n\nWe hope to see everyone there!
URL:https://asnl.ca/asnl-calendars/grand-falls-windsor-drop-in-night/2025-05-06/
END:VEVENT
BEGIN:VEVENT
DTSTART;TZID=UTC:20250504T140000
DTEND;TZID=UTC:20250504T160000
DTSTAMP:20260422T220833
CREATED:20250425T142334Z
LAST-MODIFIED:20250425T142334Z
UID:8012-1746367200-1746374400@asnl.ca
SUMMARY:ST. JOHN'S - Star Wars Day event - registration needed
DESCRIPTION:ST. JOHN’S! \n\n\nJoin us\, you must! For an afternoon of movies\, crafts\, light sabre battles and more at the Elaine Dobbin Centre for Autism!\n\n\nTerra Nova School of Swords will be joining us to host light saber battles in the multipurpose room\, and we’ll be showing the movie Star Wars: A New Hope (Episode IV) (1977) in the STEP room next door! \n\n\nIf you’d like to wear your comfiest cozy clothing or costumes\, you are welcomed and encouraged to!\n\n\nThere is no cost to attend this event. \n\n\nRegistration opens Monday\, April 28th at 12:00 noon\, and will be available here when it opens: https://www.eventbrite.ca/e/may-the-4th-star-wars-party-tickets-1338308991219?aff=oddtdtcreator
URL:https://asnl.ca/asnl-calendars/st-johns-star-wars-day-event-registration-needed/
END:VEVENT
BEGIN:VEVENT
DTSTART;TZID=UTC:20250504T090000
DTEND;TZID=UTC:20250504T170000
DTSTAMP:20260422T220833
CREATED:20250425T142127Z
LAST-MODIFIED:20250425T142127Z
UID:8010-1746349200-1746378000@asnl.ca
SUMMARY:CLARENVILLE and GRAND FALLS - Gander Geekfest Community Meet Up
DESCRIPTION:Gander Geek Fest Meetup\n\n\nASNL Central & Eastern Regions join forces!\n\n\nSunday\, May 4th\, 9:00 AM\n\n\nSteele Community Centre\, Gander\n\n\n \n\n\nWould you love to attend Gander Geek Fest\, but don’t want to go alone—or would like a bit of support to feel more comfortable?\n\n\n \n\n\nCome join ASNL’s Central and Eastern Regions for a casual meetup at the event!\n\n\nWe’ll be there to hang out\, enjoy the fun\, and connect with others who share your interests.\n\n\nDress up in Cosplay or not—whatever works for you!
URL:https://asnl.ca/asnl-calendars/clarenville-and-grand-falls-gander-geekfest-community-meet-up/
END:VEVENT
BEGIN:VEVENT
DTSTART;TZID=UTC:20250501T183000
DTEND;TZID=UTC:20250501T193000
DTSTAMP:20260422T220833
CREATED:20250423T170754Z
LAST-MODIFIED:20250423T170754Z
UID:8001-1746124200-1746127800@asnl.ca
SUMMARY:HAPPY VALLEY - GOOSE BAY - Drop in nights
DESCRIPTION:email Kandyss with any questions: kpollard@asnl.ca \nk-6 – Tuesday nights \ngrades 7-12 Thursday nights \n6:30-7:30pm
URL:https://asnl.ca/asnl-calendars/happy-valley-goose-bay-drop-in-nights-3/2025-05-01/
END:VEVENT
BEGIN:VEVENT
DTSTART;TZID=UTC:20250430T190000
DTEND;TZID=UTC:20250430T203000
DTSTAMP:20260422T220833
CREATED:20250408T174726Z
LAST-MODIFIED:20250505T121606Z
UID:7963-1746039600-1746045000@asnl.ca
SUMMARY:VIRTUAL - New Diagnosis 5-wk Workshop *registration needed*
DESCRIPTION:  \n\nJoin us for 5 week virtual workshop for adults with a new diagnosis and caregivers of children with a new diagnosis.\nStarts May 1st\n\n\nRegistration needed: https://forms.office.com/r/4SmxepaT6G
URL:https://asnl.ca/asnl-calendars/virtual-new-diagnosis-5-wk-workshop-registration-needed/2025-04-30/
END:VEVENT
BEGIN:VEVENT
DTSTART;TZID=UTC:20250430T190000
DTEND;TZID=UTC:20250430T200000
DTSTAMP:20260422T220833
CREATED:20250423T171145Z
LAST-MODIFIED:20250423T171145Z
UID:8006-1746039600-1746043200@asnl.ca
SUMMARY:HAPPY VALLEY - GOOSE BAY - Parent/Caregiver Support Night drop in
DESCRIPTION:2-4 Hillcrest
URL:https://asnl.ca/asnl-calendars/happy-valley-goose-bay-parent-caregiver-support-night-drop-in/
END:VEVENT
BEGIN:VEVENT
DTSTART;TZID=UTC:20250429T190000
DTEND;TZID=UTC:20250429T210000
DTSTAMP:20260422T220833
CREATED:20250407T182549Z
LAST-MODIFIED:20250407T182549Z
UID:7887-1745953200-1745960400@asnl.ca
SUMMARY:ST. JOHN'S - Parent Support Group
DESCRIPTION:Parent Support Group: Avalon AreaParents who provide support to other parents/caregivers of autistic children and youth. No diagnosis required.Where: Elaine Dobbin Centre for Autism St. John’s 70 Clinch CresWhen: Fourth Tuesday of each month\, 7pm-9pmContact: pieces@asnl.caNO REGISTRATION REQUIRED TO ATTEND
URL:https://asnl.ca/asnl-calendars/st-johns-parent-support-group/
END:VEVENT
BEGIN:VEVENT
DTSTART;TZID=UTC:20250429T183000
DTEND;TZID=UTC:20250429T193000
DTSTAMP:20260422T220833
CREATED:20250423T170754Z
LAST-MODIFIED:20250423T170754Z
UID:8000-1745951400-1745955000@asnl.ca
SUMMARY:HAPPY VALLEY - GOOSE BAY - Drop in nights
DESCRIPTION:email Kandyss with any questions: kpollard@asnl.ca \nk-6 – Tuesday nights \ngrades 7-12 Thursday nights \n6:30-7:30pm
URL:https://asnl.ca/asnl-calendars/happy-valley-goose-bay-drop-in-nights-3/
END:VEVENT
BEGIN:VEVENT
DTSTART;TZID=UTC:20250429T180000
DTEND;TZID=UTC:20250429T200000
DTSTAMP:20260422T220833
CREATED:20250408T131727Z
LAST-MODIFIED:20250408T131727Z
UID:7945-1745949600-1745956800@asnl.ca
SUMMARY:GRAND FALLS-WINDSOR - Drop-in Night!
DESCRIPTION:Hello everyone\,\n\nDrop in night happening from 6:30 to 8:30 TUESDAY evenings.\n\nIf you have not already registered and would like to join us please register at the link provided below\,\n\nREGISTRATION LINK: https://forms.office.com/r/5SDMzdT5Ms\n\nWe hope to see everyone there!
URL:https://asnl.ca/asnl-calendars/grand-falls-windsor-drop-in-night/2025-04-29/
END:VEVENT
BEGIN:VEVENT
DTSTART;TZID=UTC:20250427T140000
DTEND;TZID=UTC:20250427T150000
DTSTAMP:20260422T220833
CREATED:20250407T152714Z
LAST-MODIFIED:20250407T152715Z
UID:7885-1745762400-1745766000@asnl.ca
SUMMARY:ST. JOHN'S - Birthday Party - registration required
DESCRIPTION:Hello to all my friends\, and to all the friends who I have yet to meet! \nDanielle here\, ASNL’s Recreation Coordinator located in St. Johns’! My birthday is coming up\, and I’ve had so much fun spending time with you at all the events we’ve had over the last year\, and I wanted to invite you to my BIRTHDAY PARTY!!! \nDate: Sunday\, April 27th 2025\nTime: 2: 00 – 3:00 pm\nLocation: Southlands Community Centre \n \nWhat to expect: \nEVERYONE IS INVITED – Yes\, that means you (and your supportive people too!)!!!! This is an event for all ages\, and this party is not just for me – I want to celebrate with our ASNL Community! Parental accompaniment is required for my friends age 10 and under.  \nWe’ll have access to all the amazing play equipment and the multipurpose lobby space at Southlands Community Centre between 2:00 and 3:00 pm on Sunday\, April 27th.  \nLoot bags will be available for the first 40 friends to RSVP to the party\, so be sure to fill out the form linked here: https://forms.office.com/r/ukNPmwx3KS to let her know that you’ll be there so she can reserve a loot bag for you! We can accept more than 40 guests\, however after the first 40 RSVP’s\, no more loot bags will be available.  \nWe will not have balloons\, or any decorations\, but cake will be provided (and if you’d like to bring your own allergy safe snacks\, that is ok too)!! \nPresents are not expected\, only your presence! \nI can’t wait to celebrate with you all! 
URL:https://asnl.ca/asnl-calendars/st-johns-birthday-party-registration-required/
END:VEVENT
BEGIN:VEVENT
DTSTART;TZID=UTC:20250424T193000
DTEND;TZID=UTC:20250424T203000
DTSTAMP:20260422T220833
CREATED:20230929T123058Z
LAST-MODIFIED:20250408T162931Z
UID:6383-1745523000-1745526600@asnl.ca
SUMMARY:CORNER BROOK - Adult Autistic Support Group (50 Main Street)
DESCRIPTION:Adult Autistic Support Group – Corner Brook \nBiweekly – Thursdays 730-830
URL:https://asnl.ca/asnl-calendars/corner-brook-adult-autistic-support-group-50-main-street/2025-04-24/
END:VEVENT
BEGIN:VEVENT
DTSTART;TZID=UTC:20250422T180000
DTEND;TZID=UTC:20250422T200000
DTSTAMP:20260422T220833
CREATED:20250408T131727Z
LAST-MODIFIED:20250408T131727Z
UID:7944-1745344800-1745352000@asnl.ca
SUMMARY:GRAND FALLS-WINDSOR - Drop-in Night!
DESCRIPTION:Hello everyone\,\n\nDrop in night happening from 6:30 to 8:30 TUESDAY evenings.\n\nIf you have not already registered and would like to join us please register at the link provided below\,\n\nREGISTRATION LINK: https://forms.office.com/r/5SDMzdT5Ms\n\nWe hope to see everyone there!
URL:https://asnl.ca/asnl-calendars/grand-falls-windsor-drop-in-night/2025-04-22/
END:VEVENT
BEGIN:VEVENT
DTSTART;TZID=UTC:20250419T080000
DTEND;TZID=UTC:20250419T100000
DTSTAMP:20260422T220833
CREATED:20250407T140005Z
LAST-MODIFIED:20250407T140005Z
UID:7875-1745049600-1745056800@asnl.ca
SUMMARY:ST. JOHN'S - Get Air - Autism Acceptance Month Event
DESCRIPTION:World Autism Month AVALON region event!\nGET AIR St. John’s!\n\n\nJoin ASNL for a Free Jump at GET AIR St. John’s on Saturday\, April 19th from 8-10am .\n\n\nLiability waivers can be completed in advance through this link GetAir Waiver.\nJump socks are required and will be available for purchase on site.\n*No registration necessary*
URL:https://asnl.ca/asnl-calendars/st-johns-get-air-autism-acceptance-month-event/
END:VEVENT
BEGIN:VEVENT
DTSTART;TZID=UTC:20250417T183000
DTEND;TZID=UTC:20250417T203000
DTSTAMP:20260422T220833
CREATED:20230929T121722Z
LAST-MODIFIED:20231108T150245Z
UID:6328-1744914600-1744921800@asnl.ca
SUMMARY:ST. JOHN'S - Connections - In-Person (70 Clinch Cres)
DESCRIPTION:Connections: \nVirtual – 2nd and 4th Monday of each month 630-830 \nAt ASNL St. John’s – every 3rd Thursday of the month \nIn person in community outing St. John’s – 1st Monday of each month
URL:https://asnl.ca/asnl-calendars/st-johns-connections-in-person-70-clinch-cres/2025-04-17/
END:VEVENT
BEGIN:VEVENT
DTSTART;TZID=UTC:20250417T180000
DTEND;TZID=UTC:20250417T200000
DTSTAMP:20260422T220833
CREATED:20250407T135835Z
LAST-MODIFIED:20250407T135835Z
UID:7873-1744912800-1744920000@asnl.ca
SUMMARY:CLARENVILLE - Kid's Kingdom - Autism Acceptance Month Event
DESCRIPTION:World Autism Month Eastern Region Kids Kingdom Event!\n\n\n Kids Kingdom Event – Autism Acceptance Month \nJoin us for a fun-filled evening at Kids Kingdom in honor of Autism Acceptance Month! This private event is open to all ages and offers a welcoming space for play\, socializing\, and connection.\n For Kids: Explore\, play\, and enjoy the exciting indoor playground!\n For Teens & Adults: Activities\, board games\, and social time in the party room.\n Refreshments provided for all!\n Date: April 17\n Time: 6:00 PM – 8:00 PM\n Location: Kids Kingdom\, 4 Blackmore Ave\, Clarenville\n Cost: $12 per participant (discounted for Autism Acceptance Month\, payable at the event).\n Grippy socks required – bring your own or purchase at Kids Kingdom for $4.\n No fee for parents or support workers. Bring a friend or sibling!\nRegistration Required: https://forms.office.com/r/sSTx5sZrdK\n\n\nWe can’t wait to see you there!
URL:https://asnl.ca/asnl-calendars/clarenville-kids-kingdom-autism-acceptance-month-event/
END:VEVENT
BEGIN:VEVENT
DTSTART;TZID=UTC:20250415T180000
DTEND;TZID=UTC:20250415T200000
DTSTAMP:20260422T220833
CREATED:20250408T131727Z
LAST-MODIFIED:20250408T131727Z
UID:7943-1744740000-1744747200@asnl.ca
SUMMARY:GRAND FALLS-WINDSOR - Drop-in Night!
DESCRIPTION:Hello everyone\,\n\nDrop in night happening from 6:30 to 8:30 TUESDAY evenings.\n\nIf you have not already registered and would like to join us please register at the link provided below\,\n\nREGISTRATION LINK: https://forms.office.com/r/5SDMzdT5Ms\n\nWe hope to see everyone there!
URL:https://asnl.ca/asnl-calendars/grand-falls-windsor-drop-in-night/2025-04-15/
END:VEVENT
END:VCALENDAR