BEGIN:VCALENDAR
VERSION:2.0
PRODID:-//asnl - ECPv5.16.4//NONSGML v1.0//EN
CALSCALE:GREGORIAN
METHOD:PUBLISH
X-WR-CALNAME:asnl
X-ORIGINAL-URL:https://asnl.ca
X-WR-CALDESC:Events for asnl
REFRESH-INTERVAL;VALUE=DURATION:PT1H
X-Robots-Tag:noindex
X-PUBLISHED-TTL:PT1H
BEGIN:VTIMEZONE
TZID:UTC
BEGIN:STANDARD
TZOFFSETFROM:+0000
TZOFFSETTO:+0000
TZNAME:UTC
DTSTART:20250101T000000
END:STANDARD
END:VTIMEZONE
BEGIN:VEVENT
DTSTART;TZID=UTC:20250714T133000
DTEND;TZID=UTC:20250714T153000
DTSTAMP:20260422T224946
CREATED:20250707T151459Z
LAST-MODIFIED:20250707T151459Z
UID:8103-1752499800-1752507000@asnl.ca
SUMMARY:GRAND FALLS - Dungeons and Dragons Program
DESCRIPTION:GRAND FALLS!ASNL Grand Falls Office will be starting up a beginner friendly Dungeons and Dragons program! All are welcome but there will be limited seats so sign up as soon as possible!What you need to know:-The campaign will be beginner friendly so no previous Dungeons and Dragons knowledge is required-Participants will need to be able to do basic math such as addition and subtraction-Events will be held on Mondays and Thursdays starting July 14th from 1:30pm to 3:30pm-Events will be held in the ASNL office on high streethttps://forms.office.com/r/QtCUeUqezb
URL:https://asnl.ca/asnl-calendars/grand-falls-dungeons-and-dragons-program/
END:VEVENT
BEGIN:VEVENT
DTSTART;TZID=UTC:20250714T130000
DTEND;TZID=UTC:20250714T150000
DTSTAMP:20260422T224946
CREATED:20250707T152715Z
LAST-MODIFIED:20250707T152715Z
UID:8120-1752498000-1752505200@asnl.ca
SUMMARY:SWIFT CURRENT - VERNON'S ANTIQUE CAR MUSEUM *registration required*
DESCRIPTION: Explore @ Home – Vernon’s Antique Car MuseumHosted by ASNL Eastern RegionJoin us for a fun and interactive tour of vintage vehicles at Vernon’s Antique Car Museum — a hidden gem for car lovers and curious minds of all ages! Date: Monday\, July 14 Time: 1:00 PM – 3:00 PM Location: Swift Current (23 km down Route 210 from Goobies\, off TCH – Burin Peninsula Hwy) Cost: FREE Family-friendly eventGet up close with classic cars\, hear stories from the past\, and explore this unique space together. Registration required:https://forms.office.com/r/CwggXwAC9cContact: cdedde@asnl.ca for more information
URL:https://asnl.ca/asnl-calendars/swift-current-vernons-antique-car-museum-registration-required/
END:VEVENT
BEGIN:VEVENT
DTSTART;TZID=UTC:20250710T150000
DTEND;TZID=UTC:20250710T170000
DTSTAMP:20260422T224946
CREATED:20250707T152919Z
LAST-MODIFIED:20250707T152919Z
UID:8124-1752159600-1752166800@asnl.ca
SUMMARY:TERRA NOVA - OUTDOOR ADVENTURE *registration required*
DESCRIPTION:Terra Nova!Recreation Exploration: Outdoor Adventures Swimming & Beach Fun – Terra Nova Swimming HoleCool off with us at the Town of Terra Nova’s Swimming Pond for an afternoon of fun\, relaxation\, and community connection! Date: Thursday\, July 10th 2025 Time: 3:00 PM – 5:00 PM Location: Town of Terra Nova – Swimming Pond Swim\, splash\, or relax by the water — swim at your own risk Family-friendly event – all ages welcome Cost: FREE Registration required:https://forms.office.com/r/0y3CdXXXLpContact: afillier@asnl.caBring your towels\, sunscreen\, and summer spirit for a chill afternoon at the pond! 
URL:https://asnl.ca/asnl-calendars/terra-nova-outdoor-adventure-registration-required/
END:VEVENT
BEGIN:VEVENT
DTSTART;TZID=UTC:20250710T133000
DTEND;TZID=UTC:20250710T153000
DTSTAMP:20260422T224946
CREATED:20250707T162832Z
LAST-MODIFIED:20250707T162832Z
UID:8154-1752154200-1752161400@asnl.ca
SUMMARY:ST. JOHN'S - ADULT WALKING GROUP
DESCRIPTION:Adult Walking Group – Movement\, Connection\, and Community The Adult Walking Group is a relaxed\, inclusive weekly gathering for autistic adults who want to connect with others while enjoying the outdoors. What to Expect: Gentle-paced\, one-hour walk or rollAlong various beautiful walking trails in St. John’sInclusive of all mobility styles — walking\, rolling\, or using mobility aidsSlow\, adaptable pace with no pressure to keep upParticipation is always flexible and judgment-free Outdoor movement as a form of connectionEncouraging gentle activity as a way to regulate\, reflect\, and rechargeNo expectations for conversation — come as you are One-hour social time after the walkEnjoy lemonade or tea together in a relaxed settingConnect\, chat\, or just hang out with others in a neurodivergent-friendly spaceOptional\, low-pressure way to build communityProgram Details: Thursdays from July 3rd to August 28th\, 2025 Each session runs for two hours1 hour of walking/rolling1 hour of relaxed social time Various walking trails around St. John’s (exact routes TBA; accessibility will be prioritized)Whether you’re looking to make new friends\, spend time in nature\, or just be around community in a low-stress space\, this group is for you.https://forms.office.com/Pages/ResponsePage.aspx…For more information\, please contact: Rachel Kenny at rkenny@asnl.ca
URL:https://asnl.ca/asnl-calendars/st-johns-adult-walking-group/2025-07-10/
END:VEVENT
BEGIN:VEVENT
DTSTART;TZID=UTC:20250710T100000
DTEND;TZID=UTC:20250710T120000
DTSTAMP:20260422T224946
CREATED:20250707T163009Z
LAST-MODIFIED:20250707T163009Z
UID:8164-1752141600-1752148800@asnl.ca
SUMMARY:ST. JOHN'S - PLAYGROUP FOR CHILDREN WITH HIGH SUPPORT NEEDS
DESCRIPTION:Littles Summer Playgroup – Drop-In Program for Children with High Support Needs (Ages 2–6)The Littles Summer Playgroup is a welcoming\, inclusive drop-in playgroup for:Autistic children ages 2 to 6 with high support needsNeurodivergent children (including ADHD\, sensory processing differences\, etc.)Children with co-occurring disabilities or diagnosesThis group offers a low child-to-staff ratio and is designed to support children who benefit from higher support and quieter\, flexible environments. Key Features: Unstructured\, child-led play — no scheduled activities or transitions Sensory-friendly environment — set up for regulation\, safety\, and comfort Caregiver-stay model — families stay and engage alongside their children Welcoming of all communication styles and abilities Supports both indoor and outdoor play opportunitiesLocation & Schedule: Elaine Dobbin Centre for Autism\, with some sessions walking to theJaneway’s fenced-in Therapeutic Rehabilitation Playground Thursdays from 10:00 AM to 12:00 PM July 3rd to August 28th\, 2025 Drop-in format — come when it works for youWhether you’re joining us for the first time or returning each week\, this playgroup offers a safe space where children can simply be themselves\, and families can feel seen\, supported\, and connected.https://forms.office.com/Pages/ResponsePage.aspx…For more information\, please contact: Rachel Kenny at rkenny@asnl.ca
URL:https://asnl.ca/asnl-calendars/st-johns-playgroup-for-children-with-high-support-needs/2025-07-10/
END:VEVENT
BEGIN:VEVENT
DTSTART;TZID=UTC:20250710T100000
DTEND;TZID=UTC:20250710T120000
DTSTAMP:20260422T224946
CREATED:20250707T160824Z
LAST-MODIFIED:20250707T160824Z
UID:8140-1752141600-1752148800@asnl.ca
SUMMARY:Clarenville! Sensory Art / Sensory Science *registration required*
DESCRIPTION:Clarenville! Sensory Art / Sensory ScienceCreative Exploration Through Art & ScienceJoin us at the ASNL Eastern office in Clarenville for a summer series filled with creativity and sensory-friendly fun! We’ll explore a variety of sensory-based activities using painting\, drawing\, and hands-on experiments designed to spark curiosity and self-expression.Whenever weather allows\, we’ll take our creativity outside—otherwise\, activities will be held in the Common Room at the ASNL office. Location: ASNL Eastern Office – 383 Memorial Dr.\, Suite 211\, Clarenville Dates: Thursdays – July 3\, 10\, 17 and August 7\, 14\, 21 Time: 10:00 AM – 12:00 PM Open to all ages Cost: FREE Registration required:https://forms.office.com/r/76bfSURYZwCONTACT: cdedde@asnl.ca for more infoCome create\, explore\, and connect in a welcoming\, sensory-supportive space all summer long!
URL:https://asnl.ca/asnl-calendars/corner-brook-open-swim-program/2025-07-10/
END:VEVENT
BEGIN:VEVENT
DTSTART;TZID=UTC:20250710T093000
DTEND;TZID=UTC:20250710T103000
DTSTAMP:20260422T224946
CREATED:20250707T164148Z
LAST-MODIFIED:20250707T164148Z
UID:8174-1752139800-1752143400@asnl.ca
SUMMARY:ST. JOHN'S - SUMMER GARDENING
DESCRIPTION:ST. JOHN’SSUMMER GARDENING PROGRAMJoin ASNL for a low pressure gardening program this summer. Engage in directed gardening activities that interest you most\, at a pace that feels right for you.When: Tuesdays & Thursdays 9:30-10:30am\, beginning July 8Where: Elaine Dobbin Centre for Autism (Located at 70 Clinch crescent St. John’s)Who: Ages 15+ (a variety of support needs welcome – Caregivers or Respite workers required for those needing 1:1 support)REGISTRATION OPENS: Wednesday\, JUNE 25th @ 9:00amhttps://forms.office.com/r/3bDJaCKwep
URL:https://asnl.ca/asnl-calendars/st-johns-summer-gardening/2025-07-10/
END:VEVENT
BEGIN:VEVENT
DTSTART;TZID=UTC:20250709T180000
DTEND;TZID=UTC:20250709T190000
DTSTAMP:20260422T224946
CREATED:20250526T150854Z
LAST-MODIFIED:20250526T150854Z
UID:8041-1752084000-1752087600@asnl.ca
SUMMARY:CORNER BROOK - Teen Art Group *registration required*
DESCRIPTION:Corner Brook teens — come get creative with us!\n\nKick off our Teen Art Group with a creative\, hands-on evening just for teens aged 13–17 on Wednesday\, May 28\, from 6:00–7:00 PM at the Corner Brook Autism Society (50 Main Street)!\nThe program will last 8 weeks\, and each week will feature a different craft — no experience needed\, just bring your imagination!\n\nUse the link below to register:\nhttps://forms.office.com/r/WQ677zWeHe\n\nThere is no cost for this event! If you have any questions or concerns\, please contact Jess at jsimmons@asnl.ca.
URL:https://asnl.ca/asnl-calendars/corner-brook-teen-art-group-registration-required/2025-07-09/
END:VEVENT
BEGIN:VEVENT
DTSTART;TZID=UTC:20250709T120000
DTEND;TZID=UTC:20250709T150000
DTSTAMP:20260422T224946
CREATED:20250707T153055Z
LAST-MODIFIED:20250707T153055Z
UID:8126-1752062400-1752073200@asnl.ca
SUMMARY:WINTERLAND - GOLDEN SANDS Beach Day! *registration required*
DESCRIPTION: Burin Adventures – Beach Day at Golden Sands ResortHosted by ASNL Eastern RegionSoak up the sun and enjoy a relaxing day with ASNL Eastern at the beautiful Golden Sands Resort in Winterland! Date: Wednesday\, July 9\, 2025 Time: 12:00 PM – 3:00 PM (stay longer if you’d like – beach access all day!) Location: Golden Sands Resort\, Winterland All ages welcome Cost: FREE Highlights:• Relaxing beach access• Fun in the sun with ASNL community• Great spot for families to unwind and play Rainy Day Plan: If the weather doesn’t cooperate\, we’ll still have a great time with indoor activities at the Autism Centre in Burin. Registration required:https://forms.office.com/r/DUcMPLWrgiCONTACT: dedde@asnl.ca for more infoPack your sunscreen and join us for a summer day to remember! 
URL:https://asnl.ca/asnl-calendars/winterland-golden-sands-beach-day-registration-required/
END:VEVENT
BEGIN:VEVENT
DTSTART;TZID=UTC:20250708T183000
DTEND;TZID=UTC:20250708T193000
DTSTAMP:20260422T224946
CREATED:20250707T152819Z
LAST-MODIFIED:20250707T152819Z
UID:8122-1751999400-1752003000@asnl.ca
SUMMARY:HAPPY VALLEY-GOOSE BAY! LEGO NIGHT!
DESCRIPTION:Happy Valley- Goose Bay!Drop-In and explore your imagination with lego’s at ASNL on July 8th from 6:30-7:30pm. There are no costs for this event! Registration is required.Contact kpollard@asnl.ca for any questions.
URL:https://asnl.ca/asnl-calendars/happy-valley-goose-bay-lego-night/
END:VEVENT
BEGIN:VEVENT
DTSTART;TZID=UTC:20250708T180000
DTEND;TZID=UTC:20250708T200000
DTSTAMP:20260422T224946
CREATED:20250408T131727Z
LAST-MODIFIED:20250408T131727Z
UID:7955-1751997600-1752004800@asnl.ca
SUMMARY:GRAND FALLS-WINDSOR - Drop-in Night!
DESCRIPTION:Hello everyone\,\n\nDrop in night happening from 6:30 to 8:30 TUESDAY evenings.\n\nIf you have not already registered and would like to join us please register at the link provided below\,\n\nREGISTRATION LINK: https://forms.office.com/r/5SDMzdT5Ms\n\nWe hope to see everyone there!
URL:https://asnl.ca/asnl-calendars/grand-falls-windsor-drop-in-night/2025-07-08/
END:VEVENT
BEGIN:VEVENT
DTSTART;TZID=UTC:20250708T150000
DTEND;TZID=UTC:20250708T155000
DTSTAMP:20260422T224946
CREATED:20250707T171222Z
LAST-MODIFIED:20250707T171222Z
UID:8216-1751986800-1751989800@asnl.ca
SUMMARY:CLARENVILLE SWIM LESSONS
DESCRIPTION:Clarenville – Swim Lessons for Children with Diverse Needs ASNL Eastern Region -Clarenville – Summer 2025ASNL Eastern is excited to partner and offer small-group swim lessons designed for children with diverse needs\, starting this July! In response to the recent incident involving a missing child in our community\, we’re prioritizing water safety. These lessons are meant to empower our families with comfort\, confidence\, and essential skills around water. Dates: Tuesdays – July 1st\, 8th\, and 15th Time: 3:00–3:50 p.m. Small Groups: 3 swimmers per instructor (max 12 participants) Cost: $40 per swimmer for all 3 sessions Support: If your child requires 1:1 support\, a parent or support person must join them in the water*Kids will need to be finished KindergartenInterested?Contact: afillier@asnl.ca for more informationPlease email by Friday\, June 20th to express interest and receive registration info!
URL:https://asnl.ca/asnl-calendars/clarenville-swim-lessons/2025-07-08/
END:VEVENT
BEGIN:VEVENT
DTSTART;TZID=UTC:20250708T093000
DTEND;TZID=UTC:20250708T103000
DTSTAMP:20260422T224946
CREATED:20250707T164148Z
LAST-MODIFIED:20250707T164148Z
UID:8173-1751967000-1751970600@asnl.ca
SUMMARY:ST. JOHN'S - SUMMER GARDENING
DESCRIPTION:ST. JOHN’SSUMMER GARDENING PROGRAMJoin ASNL for a low pressure gardening program this summer. Engage in directed gardening activities that interest you most\, at a pace that feels right for you.When: Tuesdays & Thursdays 9:30-10:30am\, beginning July 8Where: Elaine Dobbin Centre for Autism (Located at 70 Clinch crescent St. John’s)Who: Ages 15+ (a variety of support needs welcome – Caregivers or Respite workers required for those needing 1:1 support)REGISTRATION OPENS: Wednesday\, JUNE 25th @ 9:00amhttps://forms.office.com/r/3bDJaCKwep
URL:https://asnl.ca/asnl-calendars/st-johns-summer-gardening/
END:VEVENT
BEGIN:VEVENT
DTSTART;TZID=UTC:20250707T130000
DTEND;TZID=UTC:20250707T150000
DTSTAMP:20260422T224946
CREATED:20250707T153156Z
LAST-MODIFIED:20250707T153156Z
UID:8128-1751893200-1751900400@asnl.ca
SUMMARY:THORBURN LAKE! *registration required*
DESCRIPTION: Explore @ Home – Lakeside at ThorburnHosted by ASNL Eastern Region Location: Lakeside at Thorburn\, Thorburn Lake Date: Monday\, July 7 Time: 1:00 PM – 3:00 PMJoin us for an afternoon of family fun at the beautiful Lakeside at Thorburn! This event is packed with exciting activities in a relaxed\, lakeside setting. Activities Included: Private Pool Time (1:00 PM – 3:00 PM) Unlimited Mini Golf Beach Access Playground Bouncy Castles Food available on-site (at your own expense) Admission & all listed activities are covered by ASNL! Registration required:https://forms.office.com/r/h4E9yp3W3gContact: afillier@asnl.caDon’t miss this summer highlight—come splash\, play\, and connect with community!
URL:https://asnl.ca/asnl-calendars/thorburn-lake-registration-required/
END:VEVENT
BEGIN:VEVENT
DTSTART;TZID=UTC:20250703T193000
DTEND;TZID=UTC:20250703T203000
DTSTAMP:20260422T224946
CREATED:20230929T123058Z
LAST-MODIFIED:20230929T123058Z
UID:7897-1751571000-1751574600@asnl.ca
SUMMARY:CORNER BROOK - Adult Autistic Support Group (50 Main Street)
DESCRIPTION:Adult Autistic Support Group – Corner Brook \nBiweekly – Thursdays 730-830
URL:https://asnl.ca/asnl-calendars/corner-brook-adult-autistic-support-group-50-main-street/2025-07-03/
END:VEVENT
BEGIN:VEVENT
DTSTART;TZID=UTC:20250703T133000
DTEND;TZID=UTC:20250703T153000
DTSTAMP:20260422T224946
CREATED:20250707T162832Z
LAST-MODIFIED:20250707T162832Z
UID:8153-1751549400-1751556600@asnl.ca
SUMMARY:ST. JOHN'S - ADULT WALKING GROUP
DESCRIPTION:Adult Walking Group – Movement\, Connection\, and Community The Adult Walking Group is a relaxed\, inclusive weekly gathering for autistic adults who want to connect with others while enjoying the outdoors. What to Expect: Gentle-paced\, one-hour walk or rollAlong various beautiful walking trails in St. John’sInclusive of all mobility styles — walking\, rolling\, or using mobility aidsSlow\, adaptable pace with no pressure to keep upParticipation is always flexible and judgment-free Outdoor movement as a form of connectionEncouraging gentle activity as a way to regulate\, reflect\, and rechargeNo expectations for conversation — come as you are One-hour social time after the walkEnjoy lemonade or tea together in a relaxed settingConnect\, chat\, or just hang out with others in a neurodivergent-friendly spaceOptional\, low-pressure way to build communityProgram Details: Thursdays from July 3rd to August 28th\, 2025 Each session runs for two hours1 hour of walking/rolling1 hour of relaxed social time Various walking trails around St. John’s (exact routes TBA; accessibility will be prioritized)Whether you’re looking to make new friends\, spend time in nature\, or just be around community in a low-stress space\, this group is for you.https://forms.office.com/Pages/ResponsePage.aspx…For more information\, please contact: Rachel Kenny at rkenny@asnl.ca
URL:https://asnl.ca/asnl-calendars/st-johns-adult-walking-group/
END:VEVENT
BEGIN:VEVENT
DTSTART;TZID=UTC:20250703T100000
DTEND;TZID=UTC:20250703T120000
DTSTAMP:20260422T224946
CREATED:20250707T163009Z
LAST-MODIFIED:20250707T163009Z
UID:8163-1751536800-1751544000@asnl.ca
SUMMARY:ST. JOHN'S - PLAYGROUP FOR CHILDREN WITH HIGH SUPPORT NEEDS
DESCRIPTION:Littles Summer Playgroup – Drop-In Program for Children with High Support Needs (Ages 2–6)The Littles Summer Playgroup is a welcoming\, inclusive drop-in playgroup for:Autistic children ages 2 to 6 with high support needsNeurodivergent children (including ADHD\, sensory processing differences\, etc.)Children with co-occurring disabilities or diagnosesThis group offers a low child-to-staff ratio and is designed to support children who benefit from higher support and quieter\, flexible environments. Key Features: Unstructured\, child-led play — no scheduled activities or transitions Sensory-friendly environment — set up for regulation\, safety\, and comfort Caregiver-stay model — families stay and engage alongside their children Welcoming of all communication styles and abilities Supports both indoor and outdoor play opportunitiesLocation & Schedule: Elaine Dobbin Centre for Autism\, with some sessions walking to theJaneway’s fenced-in Therapeutic Rehabilitation Playground Thursdays from 10:00 AM to 12:00 PM July 3rd to August 28th\, 2025 Drop-in format — come when it works for youWhether you’re joining us for the first time or returning each week\, this playgroup offers a safe space where children can simply be themselves\, and families can feel seen\, supported\, and connected.https://forms.office.com/Pages/ResponsePage.aspx…For more information\, please contact: Rachel Kenny at rkenny@asnl.ca
URL:https://asnl.ca/asnl-calendars/st-johns-playgroup-for-children-with-high-support-needs/
END:VEVENT
BEGIN:VEVENT
DTSTART;TZID=UTC:20250703T100000
DTEND;TZID=UTC:20250703T120000
DTSTAMP:20260422T224946
CREATED:20250707T160824Z
LAST-MODIFIED:20250707T161440Z
UID:8130-1751536800-1751544000@asnl.ca
SUMMARY:Clarenville! Sensory Art / Sensory Science *registration required*
DESCRIPTION:Clarenville! Sensory Art / Sensory ScienceCreative Exploration Through Art & ScienceJoin us at the ASNL Eastern office in Clarenville for a summer series filled with creativity and sensory-friendly fun! We’ll explore a variety of sensory-based activities using painting\, drawing\, and hands-on experiments designed to spark curiosity and self-expression.Whenever weather allows\, we’ll take our creativity outside—otherwise\, activities will be held in the Common Room at the ASNL office. Location: ASNL Eastern Office – 383 Memorial Dr.\, Suite 211\, Clarenville Dates: Thursdays – July 3\, 10\, 17 and August 7\, 14\, 21 Time: 10:00 AM – 12:00 PM Open to all ages Cost: FREE Registration required:https://forms.office.com/r/76bfSURYZwCONTACT: cdedde@asnl.ca for more infoCome create\, explore\, and connect in a welcoming\, sensory-supportive space all summer long!
URL:https://asnl.ca/asnl-calendars/corner-brook-open-swim-program/
END:VEVENT
BEGIN:VEVENT
DTSTART;TZID=UTC:20250702T180000
DTEND;TZID=UTC:20250702T190000
DTSTAMP:20260422T224946
CREATED:20250526T150854Z
LAST-MODIFIED:20250526T150854Z
UID:8040-1751479200-1751482800@asnl.ca
SUMMARY:CORNER BROOK - Teen Art Group *registration required*
DESCRIPTION:Corner Brook teens — come get creative with us!\n\nKick off our Teen Art Group with a creative\, hands-on evening just for teens aged 13–17 on Wednesday\, May 28\, from 6:00–7:00 PM at the Corner Brook Autism Society (50 Main Street)!\nThe program will last 8 weeks\, and each week will feature a different craft — no experience needed\, just bring your imagination!\n\nUse the link below to register:\nhttps://forms.office.com/r/WQ677zWeHe\n\nThere is no cost for this event! If you have any questions or concerns\, please contact Jess at jsimmons@asnl.ca.
URL:https://asnl.ca/asnl-calendars/corner-brook-teen-art-group-registration-required/2025-07-02/
END:VEVENT
BEGIN:VEVENT
DTSTART;TZID=UTC:20250702T140000
DTEND;TZID=UTC:20250702T150000
DTSTAMP:20260422T224946
CREATED:20250707T162501Z
LAST-MODIFIED:20250707T162539Z
UID:8144-1751464800-1751468400@asnl.ca
SUMMARY:CORNER BROOK - ART GROUP *registration needed*
DESCRIPTION:Corner Brook — come get creative with us!Kick off our Art Group with a creative\, hands-on afternoon on Wednesday\, July 2nd\, from 2:00-3:00 pm at the Corner Brook Autism Society (50 Main Street)!The program will last 8 weeks\, and each week will feature a different craft — no experience needed\, just bring your imagination!Use the link below to register:https://forms.office.com/r/WQ677zWeHeThere is no cost for this event! If you have any questions or concerns\, please contact Jess at jwyatt@asnl.ca
URL:https://asnl.ca/asnl-calendars/corner-brook-art-group-registration-needed/
END:VEVENT
BEGIN:VEVENT
DTSTART;TZID=UTC:20250701T180000
DTEND;TZID=UTC:20250701T200000
DTSTAMP:20260422T224946
CREATED:20250408T131727Z
LAST-MODIFIED:20250408T131727Z
UID:7954-1751392800-1751400000@asnl.ca
SUMMARY:GRAND FALLS-WINDSOR - Drop-in Night!
DESCRIPTION:Hello everyone\,\n\nDrop in night happening from 6:30 to 8:30 TUESDAY evenings.\n\nIf you have not already registered and would like to join us please register at the link provided below\,\n\nREGISTRATION LINK: https://forms.office.com/r/5SDMzdT5Ms\n\nWe hope to see everyone there!
URL:https://asnl.ca/asnl-calendars/grand-falls-windsor-drop-in-night/2025-07-01/
END:VEVENT
BEGIN:VEVENT
DTSTART;TZID=UTC:20250701T150000
DTEND;TZID=UTC:20250701T155000
DTSTAMP:20260422T224946
CREATED:20250707T171222Z
LAST-MODIFIED:20250707T171222Z
UID:8215-1751382000-1751385000@asnl.ca
SUMMARY:CLARENVILLE SWIM LESSONS
DESCRIPTION:Clarenville – Swim Lessons for Children with Diverse Needs ASNL Eastern Region -Clarenville – Summer 2025ASNL Eastern is excited to partner and offer small-group swim lessons designed for children with diverse needs\, starting this July! In response to the recent incident involving a missing child in our community\, we’re prioritizing water safety. These lessons are meant to empower our families with comfort\, confidence\, and essential skills around water. Dates: Tuesdays – July 1st\, 8th\, and 15th Time: 3:00–3:50 p.m. Small Groups: 3 swimmers per instructor (max 12 participants) Cost: $40 per swimmer for all 3 sessions Support: If your child requires 1:1 support\, a parent or support person must join them in the water*Kids will need to be finished KindergartenInterested?Contact: afillier@asnl.ca for more informationPlease email by Friday\, June 20th to express interest and receive registration info!
URL:https://asnl.ca/asnl-calendars/clarenville-swim-lessons/
END:VEVENT
BEGIN:VEVENT
DTSTART;TZID=UTC:20250625T180000
DTEND;TZID=UTC:20250625T190000
DTSTAMP:20260422T224946
CREATED:20250526T150854Z
LAST-MODIFIED:20250526T150854Z
UID:8039-1750874400-1750878000@asnl.ca
SUMMARY:CORNER BROOK - Teen Art Group *registration required*
DESCRIPTION:Corner Brook teens — come get creative with us!\n\nKick off our Teen Art Group with a creative\, hands-on evening just for teens aged 13–17 on Wednesday\, May 28\, from 6:00–7:00 PM at the Corner Brook Autism Society (50 Main Street)!\nThe program will last 8 weeks\, and each week will feature a different craft — no experience needed\, just bring your imagination!\n\nUse the link below to register:\nhttps://forms.office.com/r/WQ677zWeHe\n\nThere is no cost for this event! If you have any questions or concerns\, please contact Jess at jsimmons@asnl.ca.
URL:https://asnl.ca/asnl-calendars/corner-brook-teen-art-group-registration-required/2025-06-25/
END:VEVENT
BEGIN:VEVENT
DTSTART;TZID=UTC:20250624T190000
DTEND;TZID=UTC:20250624T203000
DTSTAMP:20260422T224946
CREATED:20250707T164704Z
LAST-MODIFIED:20250707T164704Z
UID:8187-1750791600-1750797000@asnl.ca
SUMMARY:CORNER BROOK - PARENT/CAREGIVER SUPPORT GROUP
DESCRIPTION:CORNER BROOK!Are you a parent or Caregiver looking for supports from other parents? If so\, we are happy to invite you to join us on the last Tuesday of each month\, beginning June 24th for our in-person parent support group.There is no registration needed for this\, if you have any questions or concerns\, please contact Jessica at jwyatt@asnl.ca
URL:https://asnl.ca/asnl-calendars/corner-brook-parent-caregiver-support-group/
END:VEVENT
BEGIN:VEVENT
DTSTART;TZID=UTC:20250624T190000
DTEND;TZID=UTC:20250624T203000
DTSTAMP:20260422T224946
CREATED:20250606T155812Z
LAST-MODIFIED:20250606T155812Z
UID:8066-1750791600-1750797000@asnl.ca
SUMMARY:CORNER BROOK - Parent Support Group
DESCRIPTION:last Tuesday of every month starting June and the time for it is 7:00-8:30pm \nJessica – jwyatt@asnl.ca for information
URL:https://asnl.ca/asnl-calendars/corner-brook-parent-support-group/
END:VEVENT
BEGIN:VEVENT
DTSTART;TZID=UTC:20250624T180000
DTEND;TZID=UTC:20250624T200000
DTSTAMP:20260422T224946
CREATED:20250408T131727Z
LAST-MODIFIED:20250408T131727Z
UID:7953-1750788000-1750795200@asnl.ca
SUMMARY:GRAND FALLS-WINDSOR - Drop-in Night!
DESCRIPTION:Hello everyone\,\n\nDrop in night happening from 6:30 to 8:30 TUESDAY evenings.\n\nIf you have not already registered and would like to join us please register at the link provided below\,\n\nREGISTRATION LINK: https://forms.office.com/r/5SDMzdT5Ms\n\nWe hope to see everyone there!
URL:https://asnl.ca/asnl-calendars/grand-falls-windsor-drop-in-night/2025-06-24/
END:VEVENT
BEGIN:VEVENT
DTSTART;TZID=UTC:20250619T193000
DTEND;TZID=UTC:20250619T203000
DTSTAMP:20260422T224946
CREATED:20230929T123058Z
LAST-MODIFIED:20230929T123058Z
UID:7896-1750361400-1750365000@asnl.ca
SUMMARY:CORNER BROOK - Adult Autistic Support Group (50 Main Street)
DESCRIPTION:Adult Autistic Support Group – Corner Brook \nBiweekly – Thursdays 730-830
URL:https://asnl.ca/asnl-calendars/corner-brook-adult-autistic-support-group-50-main-street/2025-06-19/
END:VEVENT
BEGIN:VEVENT
DTSTART;TZID=UTC:20250619T183000
DTEND;TZID=UTC:20250619T203000
DTSTAMP:20260422T224946
CREATED:20230929T121722Z
LAST-MODIFIED:20231108T150245Z
UID:6330-1750357800-1750365000@asnl.ca
SUMMARY:ST. JOHN'S - Connections - In-Person (70 Clinch Cres)
DESCRIPTION:Connections: \nVirtual – 2nd and 4th Monday of each month 630-830 \nAt ASNL St. John’s – every 3rd Thursday of the month \nIn person in community outing St. John’s – 1st Monday of each month
URL:https://asnl.ca/asnl-calendars/st-johns-connections-in-person-70-clinch-cres/2025-06-19/
END:VEVENT
BEGIN:VEVENT
DTSTART;TZID=UTC:20250618T180000
DTEND;TZID=UTC:20250618T190000
DTSTAMP:20260422T224946
CREATED:20250526T150854Z
LAST-MODIFIED:20250526T150854Z
UID:8038-1750269600-1750273200@asnl.ca
SUMMARY:CORNER BROOK - Teen Art Group *registration required*
DESCRIPTION:Corner Brook teens — come get creative with us!\n\nKick off our Teen Art Group with a creative\, hands-on evening just for teens aged 13–17 on Wednesday\, May 28\, from 6:00–7:00 PM at the Corner Brook Autism Society (50 Main Street)!\nThe program will last 8 weeks\, and each week will feature a different craft — no experience needed\, just bring your imagination!\n\nUse the link below to register:\nhttps://forms.office.com/r/WQ677zWeHe\n\nThere is no cost for this event! If you have any questions or concerns\, please contact Jess at jsimmons@asnl.ca.
URL:https://asnl.ca/asnl-calendars/corner-brook-teen-art-group-registration-required/2025-06-18/
END:VEVENT
BEGIN:VEVENT
DTSTART;TZID=UTC:20250617T180000
DTEND;TZID=UTC:20250617T200000
DTSTAMP:20260422T224946
CREATED:20250408T131727Z
LAST-MODIFIED:20250408T131727Z
UID:7952-1750183200-1750190400@asnl.ca
SUMMARY:GRAND FALLS-WINDSOR - Drop-in Night!
DESCRIPTION:Hello everyone\,\n\nDrop in night happening from 6:30 to 8:30 TUESDAY evenings.\n\nIf you have not already registered and would like to join us please register at the link provided below\,\n\nREGISTRATION LINK: https://forms.office.com/r/5SDMzdT5Ms\n\nWe hope to see everyone there!
URL:https://asnl.ca/asnl-calendars/grand-falls-windsor-drop-in-night/2025-06-17/
END:VEVENT
END:VCALENDAR