BEGIN:VCALENDAR
VERSION:2.0
PRODID:-//asnl - ECPv5.16.4//NONSGML v1.0//EN
CALSCALE:GREGORIAN
METHOD:PUBLISH
X-WR-CALNAME:asnl
X-ORIGINAL-URL:https://asnl.ca
X-WR-CALDESC:Events for asnl
REFRESH-INTERVAL;VALUE=DURATION:PT1H
X-Robots-Tag:noindex
X-PUBLISHED-TTL:PT1H
BEGIN:VTIMEZONE
TZID:UTC
BEGIN:STANDARD
TZOFFSETFROM:+0000
TZOFFSETTO:+0000
TZNAME:UTC
DTSTART:20260101T000000
END:STANDARD
END:VTIMEZONE
BEGIN:VEVENT
DTSTART;TZID=UTC:20270225T193000
DTEND;TZID=UTC:20270225T203000
DTSTAMP:20260422T224354
CREATED:20230929T123058Z
LAST-MODIFIED:20230929T123058Z
UID:7940-1803583800-1803587400@asnl.ca
SUMMARY:CORNER BROOK - Adult Autistic Support Group (50 Main Street)
DESCRIPTION:Adult Autistic Support Group – Corner Brook \nBiweekly – Thursdays 730-830
URL:https://asnl.ca/asnl-calendars/corner-brook-adult-autistic-support-group-50-main-street/2027-02-25/
END:VEVENT
BEGIN:VEVENT
DTSTART;TZID=UTC:20270218T183000
DTEND;TZID=UTC:20270218T203000
DTSTAMP:20260422T224354
CREATED:20230929T121722Z
LAST-MODIFIED:20230929T121722Z
UID:7797-1802975400-1802982600@asnl.ca
SUMMARY:ST. JOHN'S - Connections - In-Person (70 Clinch Cres)
DESCRIPTION:Connections: \nVirtual – 2nd and 4th Monday of each month 630-830 \nAt ASNL St. John’s – every 3rd Thursday of the month \nIn person in community outing St. John’s – 1st Monday of each month
URL:https://asnl.ca/asnl-calendars/st-johns-connections-in-person-70-clinch-cres/2027-02-18/
END:VEVENT
BEGIN:VEVENT
DTSTART;TZID=UTC:20270211T193000
DTEND;TZID=UTC:20270211T203000
DTSTAMP:20260422T224354
CREATED:20230929T123058Z
LAST-MODIFIED:20230929T123058Z
UID:7939-1802374200-1802377800@asnl.ca
SUMMARY:CORNER BROOK - Adult Autistic Support Group (50 Main Street)
DESCRIPTION:Adult Autistic Support Group – Corner Brook \nBiweekly – Thursdays 730-830
URL:https://asnl.ca/asnl-calendars/corner-brook-adult-autistic-support-group-50-main-street/2027-02-11/
END:VEVENT
BEGIN:VEVENT
DTSTART;TZID=UTC:20270128T193000
DTEND;TZID=UTC:20270128T203000
DTSTAMP:20260422T224354
CREATED:20230929T123058Z
LAST-MODIFIED:20230929T123058Z
UID:7938-1801164600-1801168200@asnl.ca
SUMMARY:CORNER BROOK - Adult Autistic Support Group (50 Main Street)
DESCRIPTION:Adult Autistic Support Group – Corner Brook \nBiweekly – Thursdays 730-830
URL:https://asnl.ca/asnl-calendars/corner-brook-adult-autistic-support-group-50-main-street/2027-01-28/
END:VEVENT
BEGIN:VEVENT
DTSTART;TZID=UTC:20270121T183000
DTEND;TZID=UTC:20270121T203000
DTSTAMP:20260422T224354
CREATED:20230929T121722Z
LAST-MODIFIED:20230929T121722Z
UID:7722-1800556200-1800563400@asnl.ca
SUMMARY:ST. JOHN'S - Connections - In-Person (70 Clinch Cres)
DESCRIPTION:Connections: \nVirtual – 2nd and 4th Monday of each month 630-830 \nAt ASNL St. John’s – every 3rd Thursday of the month \nIn person in community outing St. John’s – 1st Monday of each month
URL:https://asnl.ca/asnl-calendars/st-johns-connections-in-person-70-clinch-cres/2027-01-21/
END:VEVENT
BEGIN:VEVENT
DTSTART;TZID=UTC:20270114T193000
DTEND;TZID=UTC:20270114T203000
DTSTAMP:20260422T224354
CREATED:20230929T123058Z
LAST-MODIFIED:20230929T123058Z
UID:7937-1799955000-1799958600@asnl.ca
SUMMARY:CORNER BROOK - Adult Autistic Support Group (50 Main Street)
DESCRIPTION:Adult Autistic Support Group – Corner Brook \nBiweekly – Thursdays 730-830
URL:https://asnl.ca/asnl-calendars/corner-brook-adult-autistic-support-group-50-main-street/2027-01-14/
END:VEVENT
BEGIN:VEVENT
DTSTART;TZID=UTC:20261231T193000
DTEND;TZID=UTC:20261231T203000
DTSTAMP:20260422T224354
CREATED:20230929T123058Z
LAST-MODIFIED:20230929T123058Z
UID:7936-1798745400-1798749000@asnl.ca
SUMMARY:CORNER BROOK - Adult Autistic Support Group (50 Main Street)
DESCRIPTION:Adult Autistic Support Group – Corner Brook \nBiweekly – Thursdays 730-830
URL:https://asnl.ca/asnl-calendars/corner-brook-adult-autistic-support-group-50-main-street/2026-12-31/
END:VEVENT
BEGIN:VEVENT
DTSTART;TZID=UTC:20261217T193000
DTEND;TZID=UTC:20261217T203000
DTSTAMP:20260422T224354
CREATED:20230929T123058Z
LAST-MODIFIED:20230929T123058Z
UID:7935-1797535800-1797539400@asnl.ca
SUMMARY:CORNER BROOK - Adult Autistic Support Group (50 Main Street)
DESCRIPTION:Adult Autistic Support Group – Corner Brook \nBiweekly – Thursdays 730-830
URL:https://asnl.ca/asnl-calendars/corner-brook-adult-autistic-support-group-50-main-street/2026-12-17/
END:VEVENT
BEGIN:VEVENT
DTSTART;TZID=UTC:20261217T183000
DTEND;TZID=UTC:20261217T203000
DTSTAMP:20260422T224354
CREATED:20230929T121722Z
LAST-MODIFIED:20230929T121722Z
UID:7684-1797532200-1797539400@asnl.ca
SUMMARY:ST. JOHN'S - Connections - In-Person (70 Clinch Cres)
DESCRIPTION:Connections: \nVirtual – 2nd and 4th Monday of each month 630-830 \nAt ASNL St. John’s – every 3rd Thursday of the month \nIn person in community outing St. John’s – 1st Monday of each month
URL:https://asnl.ca/asnl-calendars/st-johns-connections-in-person-70-clinch-cres/2026-12-17/
END:VEVENT
BEGIN:VEVENT
DTSTART;TZID=UTC:20261203T193000
DTEND;TZID=UTC:20261203T203000
DTSTAMP:20260422T224354
CREATED:20230929T123058Z
LAST-MODIFIED:20230929T123058Z
UID:7934-1796326200-1796329800@asnl.ca
SUMMARY:CORNER BROOK - Adult Autistic Support Group (50 Main Street)
DESCRIPTION:Adult Autistic Support Group – Corner Brook \nBiweekly – Thursdays 730-830
URL:https://asnl.ca/asnl-calendars/corner-brook-adult-autistic-support-group-50-main-street/2026-12-03/
END:VEVENT
BEGIN:VEVENT
DTSTART;TZID=UTC:20261119T193000
DTEND;TZID=UTC:20261119T203000
DTSTAMP:20260422T224354
CREATED:20230929T123058Z
LAST-MODIFIED:20230929T123058Z
UID:7933-1795116600-1795120200@asnl.ca
SUMMARY:CORNER BROOK - Adult Autistic Support Group (50 Main Street)
DESCRIPTION:Adult Autistic Support Group – Corner Brook \nBiweekly – Thursdays 730-830
URL:https://asnl.ca/asnl-calendars/corner-brook-adult-autistic-support-group-50-main-street/2026-11-19/
END:VEVENT
BEGIN:VEVENT
DTSTART;TZID=UTC:20261119T183000
DTEND;TZID=UTC:20261119T203000
DTSTAMP:20260422T224354
CREATED:20230929T121722Z
LAST-MODIFIED:20230929T121722Z
UID:7635-1795113000-1795120200@asnl.ca
SUMMARY:ST. JOHN'S - Connections - In-Person (70 Clinch Cres)
DESCRIPTION:Connections: \nVirtual – 2nd and 4th Monday of each month 630-830 \nAt ASNL St. John’s – every 3rd Thursday of the month \nIn person in community outing St. John’s – 1st Monday of each month
URL:https://asnl.ca/asnl-calendars/st-johns-connections-in-person-70-clinch-cres/2026-11-19/
END:VEVENT
BEGIN:VEVENT
DTSTART;TZID=UTC:20261105T193000
DTEND;TZID=UTC:20261105T203000
DTSTAMP:20260422T224354
CREATED:20230929T123058Z
LAST-MODIFIED:20230929T123058Z
UID:7932-1793907000-1793910600@asnl.ca
SUMMARY:CORNER BROOK - Adult Autistic Support Group (50 Main Street)
DESCRIPTION:Adult Autistic Support Group – Corner Brook \nBiweekly – Thursdays 730-830
URL:https://asnl.ca/asnl-calendars/corner-brook-adult-autistic-support-group-50-main-street/2026-11-05/
END:VEVENT
BEGIN:VEVENT
DTSTART;TZID=UTC:20261022T193000
DTEND;TZID=UTC:20261022T203000
DTSTAMP:20260422T224354
CREATED:20230929T123058Z
LAST-MODIFIED:20230929T123058Z
UID:7931-1792697400-1792701000@asnl.ca
SUMMARY:CORNER BROOK - Adult Autistic Support Group (50 Main Street)
DESCRIPTION:Adult Autistic Support Group – Corner Brook \nBiweekly – Thursdays 730-830
URL:https://asnl.ca/asnl-calendars/corner-brook-adult-autistic-support-group-50-main-street/2026-10-22/
END:VEVENT
BEGIN:VEVENT
DTSTART;TZID=UTC:20261015T183000
DTEND;TZID=UTC:20261015T203000
DTSTAMP:20260422T224354
CREATED:20230929T121722Z
LAST-MODIFIED:20230929T121722Z
UID:7584-1792089000-1792096200@asnl.ca
SUMMARY:ST. JOHN'S - Connections - In-Person (70 Clinch Cres)
DESCRIPTION:Connections: \nVirtual – 2nd and 4th Monday of each month 630-830 \nAt ASNL St. John’s – every 3rd Thursday of the month \nIn person in community outing St. John’s – 1st Monday of each month
URL:https://asnl.ca/asnl-calendars/st-johns-connections-in-person-70-clinch-cres/2026-10-15/
END:VEVENT
BEGIN:VEVENT
DTSTART;TZID=UTC:20261008T193000
DTEND;TZID=UTC:20261008T203000
DTSTAMP:20260422T224354
CREATED:20230929T123058Z
LAST-MODIFIED:20230929T123058Z
UID:7930-1791487800-1791491400@asnl.ca
SUMMARY:CORNER BROOK - Adult Autistic Support Group (50 Main Street)
DESCRIPTION:Adult Autistic Support Group – Corner Brook \nBiweekly – Thursdays 730-830
URL:https://asnl.ca/asnl-calendars/corner-brook-adult-autistic-support-group-50-main-street/2026-10-08/
END:VEVENT
BEGIN:VEVENT
DTSTART;TZID=UTC:20260924T193000
DTEND;TZID=UTC:20260924T203000
DTSTAMP:20260422T224354
CREATED:20230929T123058Z
LAST-MODIFIED:20230929T123058Z
UID:7929-1790278200-1790281800@asnl.ca
SUMMARY:CORNER BROOK - Adult Autistic Support Group (50 Main Street)
DESCRIPTION:Adult Autistic Support Group – Corner Brook \nBiweekly – Thursdays 730-830
URL:https://asnl.ca/asnl-calendars/corner-brook-adult-autistic-support-group-50-main-street/2026-09-24/
END:VEVENT
BEGIN:VEVENT
DTSTART;TZID=UTC:20260917T183000
DTEND;TZID=UTC:20260917T203000
DTSTAMP:20260422T224354
CREATED:20230929T121722Z
LAST-MODIFIED:20230929T121722Z
UID:7413-1789669800-1789677000@asnl.ca
SUMMARY:ST. JOHN'S - Connections - In-Person (70 Clinch Cres)
DESCRIPTION:Connections: \nVirtual – 2nd and 4th Monday of each month 630-830 \nAt ASNL St. John’s – every 3rd Thursday of the month \nIn person in community outing St. John’s – 1st Monday of each month
URL:https://asnl.ca/asnl-calendars/st-johns-connections-in-person-70-clinch-cres/2026-09-17/
END:VEVENT
BEGIN:VEVENT
DTSTART;TZID=UTC:20260910T193000
DTEND;TZID=UTC:20260910T203000
DTSTAMP:20260422T224354
CREATED:20230929T123058Z
LAST-MODIFIED:20230929T123058Z
UID:7928-1789068600-1789072200@asnl.ca
SUMMARY:CORNER BROOK - Adult Autistic Support Group (50 Main Street)
DESCRIPTION:Adult Autistic Support Group – Corner Brook \nBiweekly – Thursdays 730-830
URL:https://asnl.ca/asnl-calendars/corner-brook-adult-autistic-support-group-50-main-street/2026-09-10/
END:VEVENT
BEGIN:VEVENT
DTSTART;TZID=UTC:20260827T193000
DTEND;TZID=UTC:20260827T203000
DTSTAMP:20260422T224354
CREATED:20230929T123058Z
LAST-MODIFIED:20230929T123058Z
UID:7927-1787859000-1787862600@asnl.ca
SUMMARY:CORNER BROOK - Adult Autistic Support Group (50 Main Street)
DESCRIPTION:Adult Autistic Support Group – Corner Brook \nBiweekly – Thursdays 730-830
URL:https://asnl.ca/asnl-calendars/corner-brook-adult-autistic-support-group-50-main-street/2026-08-27/
END:VEVENT
BEGIN:VEVENT
DTSTART;TZID=UTC:20260820T183000
DTEND;TZID=UTC:20260820T203000
DTSTAMP:20260422T224354
CREATED:20230929T121722Z
LAST-MODIFIED:20230929T121722Z
UID:7362-1787250600-1787257800@asnl.ca
SUMMARY:ST. JOHN'S - Connections - In-Person (70 Clinch Cres)
DESCRIPTION:Connections: \nVirtual – 2nd and 4th Monday of each month 630-830 \nAt ASNL St. John’s – every 3rd Thursday of the month \nIn person in community outing St. John’s – 1st Monday of each month
URL:https://asnl.ca/asnl-calendars/st-johns-connections-in-person-70-clinch-cres/2026-08-20/
END:VEVENT
BEGIN:VEVENT
DTSTART;TZID=UTC:20260813T193000
DTEND;TZID=UTC:20260813T203000
DTSTAMP:20260422T224354
CREATED:20230929T123058Z
LAST-MODIFIED:20230929T123058Z
UID:7926-1786649400-1786653000@asnl.ca
SUMMARY:CORNER BROOK - Adult Autistic Support Group (50 Main Street)
DESCRIPTION:Adult Autistic Support Group – Corner Brook \nBiweekly – Thursdays 730-830
URL:https://asnl.ca/asnl-calendars/corner-brook-adult-autistic-support-group-50-main-street/2026-08-13/
END:VEVENT
BEGIN:VEVENT
DTSTART;TZID=UTC:20260730T193000
DTEND;TZID=UTC:20260730T203000
DTSTAMP:20260422T224354
CREATED:20230929T123058Z
LAST-MODIFIED:20230929T123058Z
UID:7925-1785439800-1785443400@asnl.ca
SUMMARY:CORNER BROOK - Adult Autistic Support Group (50 Main Street)
DESCRIPTION:Adult Autistic Support Group – Corner Brook \nBiweekly – Thursdays 730-830
URL:https://asnl.ca/asnl-calendars/corner-brook-adult-autistic-support-group-50-main-street/2026-07-30/
END:VEVENT
BEGIN:VEVENT
DTSTART;TZID=UTC:20260716T193000
DTEND;TZID=UTC:20260716T203000
DTSTAMP:20260422T224354
CREATED:20230929T123058Z
LAST-MODIFIED:20230929T123058Z
UID:7924-1784230200-1784233800@asnl.ca
SUMMARY:CORNER BROOK - Adult Autistic Support Group (50 Main Street)
DESCRIPTION:Adult Autistic Support Group – Corner Brook \nBiweekly – Thursdays 730-830
URL:https://asnl.ca/asnl-calendars/corner-brook-adult-autistic-support-group-50-main-street/2026-07-16/
END:VEVENT
BEGIN:VEVENT
DTSTART;TZID=UTC:20260716T183000
DTEND;TZID=UTC:20260716T203000
DTSTAMP:20260422T224354
CREATED:20230929T121722Z
LAST-MODIFIED:20230929T121722Z
UID:7297-1784226600-1784233800@asnl.ca
SUMMARY:ST. JOHN'S - Connections - In-Person (70 Clinch Cres)
DESCRIPTION:Connections: \nVirtual – 2nd and 4th Monday of each month 630-830 \nAt ASNL St. John’s – every 3rd Thursday of the month \nIn person in community outing St. John’s – 1st Monday of each month
URL:https://asnl.ca/asnl-calendars/st-johns-connections-in-person-70-clinch-cres/2026-07-16/
END:VEVENT
BEGIN:VEVENT
DTSTART;TZID=UTC:20260702T193000
DTEND;TZID=UTC:20260702T203000
DTSTAMP:20260422T224354
CREATED:20230929T123058Z
LAST-MODIFIED:20230929T123058Z
UID:7923-1783020600-1783024200@asnl.ca
SUMMARY:CORNER BROOK - Adult Autistic Support Group (50 Main Street)
DESCRIPTION:Adult Autistic Support Group – Corner Brook \nBiweekly – Thursdays 730-830
URL:https://asnl.ca/asnl-calendars/corner-brook-adult-autistic-support-group-50-main-street/2026-07-02/
END:VEVENT
BEGIN:VEVENT
DTSTART;TZID=UTC:20260618T193000
DTEND;TZID=UTC:20260618T203000
DTSTAMP:20260422T224354
CREATED:20230929T123058Z
LAST-MODIFIED:20230929T123058Z
UID:7922-1781811000-1781814600@asnl.ca
SUMMARY:CORNER BROOK - Adult Autistic Support Group (50 Main Street)
DESCRIPTION:Adult Autistic Support Group – Corner Brook \nBiweekly – Thursdays 730-830
URL:https://asnl.ca/asnl-calendars/corner-brook-adult-autistic-support-group-50-main-street/2026-06-18/
END:VEVENT
BEGIN:VEVENT
DTSTART;TZID=UTC:20260618T183000
DTEND;TZID=UTC:20260618T203000
DTSTAMP:20260422T224354
CREATED:20230929T121722Z
LAST-MODIFIED:20230929T121722Z
UID:7249-1781807400-1781814600@asnl.ca
SUMMARY:ST. JOHN'S - Connections - In-Person (70 Clinch Cres)
DESCRIPTION:Connections: \nVirtual – 2nd and 4th Monday of each month 630-830 \nAt ASNL St. John’s – every 3rd Thursday of the month \nIn person in community outing St. John’s – 1st Monday of each month
URL:https://asnl.ca/asnl-calendars/st-johns-connections-in-person-70-clinch-cres/2026-06-18/
END:VEVENT
BEGIN:VEVENT
DTSTART;TZID=UTC:20260604T193000
DTEND;TZID=UTC:20260604T203000
DTSTAMP:20260422T224354
CREATED:20230929T123058Z
LAST-MODIFIED:20230929T123058Z
UID:7921-1780601400-1780605000@asnl.ca
SUMMARY:CORNER BROOK - Adult Autistic Support Group (50 Main Street)
DESCRIPTION:Adult Autistic Support Group – Corner Brook \nBiweekly – Thursdays 730-830
URL:https://asnl.ca/asnl-calendars/corner-brook-adult-autistic-support-group-50-main-street/2026-06-04/
END:VEVENT
BEGIN:VEVENT
DTSTART;TZID=UTC:20260521T193000
DTEND;TZID=UTC:20260521T203000
DTSTAMP:20260422T224354
CREATED:20230929T123058Z
LAST-MODIFIED:20230929T123058Z
UID:7920-1779391800-1779395400@asnl.ca
SUMMARY:CORNER BROOK - Adult Autistic Support Group (50 Main Street)
DESCRIPTION:Adult Autistic Support Group – Corner Brook \nBiweekly – Thursdays 730-830
URL:https://asnl.ca/asnl-calendars/corner-brook-adult-autistic-support-group-50-main-street/2026-05-21/
END:VEVENT
END:VCALENDAR