BEGIN:VCALENDAR
VERSION:2.0
PRODID:-//asnl - ECPv5.16.4//NONSGML v1.0//EN
CALSCALE:GREGORIAN
METHOD:PUBLISH
X-ORIGINAL-URL:https://asnl.ca
X-WR-CALDESC:Events for asnl
REFRESH-INTERVAL;VALUE=DURATION:PT1H
X-Robots-Tag:noindex
X-PUBLISHED-TTL:PT1H
BEGIN:VTIMEZONE
TZID:UTC
BEGIN:STANDARD
TZOFFSETFROM:+0000
TZOFFSETTO:+0000
TZNAME:UTC
DTSTART:20260101T000000
END:STANDARD
END:VTIMEZONE
BEGIN:VEVENT
DTSTART;TZID=UTC:20260312T193000
DTEND;TZID=UTC:20260312T203000
DTSTAMP:20260422T003553
CREATED:20230929T123058Z
LAST-MODIFIED:20230929T123058Z
UID:7915-1773343800-1773347400@asnl.ca
SUMMARY:CORNER BROOK - Adult Autistic Support Group (50 Main Street)
DESCRIPTION:Adult Autistic Support Group – Corner Brook \nBiweekly – Thursdays 730-830
URL:https://asnl.ca/asnl-calendars/corner-brook-adult-autistic-support-group-50-main-street/2026-03-12/
END:VEVENT
END:VCALENDAR